BEGIN:VCALENDAR
VERSION:2.0
PRODID:-//Community Presbyterian Church - Edison NJ - ECPv6.15.20//NONSGML v1.0//EN
CALSCALE:GREGORIAN
METHOD:PUBLISH
X-WR-CALNAME:Community Presbyterian Church - Edison NJ
X-ORIGINAL-URL:https://cpcedison.org
X-WR-CALDESC:Events for Community Presbyterian Church - Edison NJ
REFRESH-INTERVAL;VALUE=DURATION:PT1H
X-Robots-Tag:noindex
X-PUBLISHED-TTL:PT1H
BEGIN:VTIMEZONE
TZID:America/New_York
BEGIN:DAYLIGHT
TZOFFSETFROM:-0500
TZOFFSETTO:-0400
TZNAME:EDT
DTSTART:20290311T070000
END:DAYLIGHT
BEGIN:STANDARD
TZOFFSETFROM:-0400
TZOFFSETTO:-0500
TZNAME:EST
DTSTART:20291104T060000
END:STANDARD
BEGIN:DAYLIGHT
TZOFFSETFROM:-0500
TZOFFSETTO:-0400
TZNAME:EDT
DTSTART:20300310T070000
END:DAYLIGHT
BEGIN:STANDARD
TZOFFSETFROM:-0400
TZOFFSETTO:-0500
TZNAME:EST
DTSTART:20301103T060000
END:STANDARD
BEGIN:DAYLIGHT
TZOFFSETFROM:-0500
TZOFFSETTO:-0400
TZNAME:EDT
DTSTART:20310309T070000
END:DAYLIGHT
BEGIN:STANDARD
TZOFFSETFROM:-0400
TZOFFSETTO:-0500
TZNAME:EST
DTSTART:20311102T060000
END:STANDARD
END:VTIMEZONE
BEGIN:VEVENT
DTSTART;TZID=America/New_York:20300206T193000
DTEND;TZID=America/New_York:20300206T203000
DTSTAMP:20260421T095424
CREATED:20251203T011935Z
LAST-MODIFIED:20251203T011937Z
UID:10019769-1896636600-1896640200@cpcedison.org
SUMMARY:AA
DESCRIPTION:Alcoholic Anonymous (AA) meeting every Wednesday night at 7:00pm \nAlcoholics Anonymous is an international fellowship of men and women who have had a drinking problem. It is nonprofessional\, self-supporting\, multiracial\, apolitical\, and available almost everywhere. There are no age or education requirements. Membership is open to anyone who wants to do something about his or her drinking problem.
URL:https://cpcedison.org/event/aa-2-2-2/2030-02-06/
LOCATION:Community Presbyterian Church\, 75 Glenville Rd.\, Edison\, NJ\, 08817 \, United States
CATEGORIES:AA
END:VEVENT
BEGIN:VEVENT
DTSTART;TZID=America/New_York:20300213T193000
DTEND;TZID=America/New_York:20300213T203000
DTSTAMP:20260421T095424
CREATED:20251203T011935Z
LAST-MODIFIED:20251203T011937Z
UID:10019770-1897241400-1897245000@cpcedison.org
SUMMARY:AA
DESCRIPTION:Alcoholic Anonymous (AA) meeting every Wednesday night at 7:00pm \nAlcoholics Anonymous is an international fellowship of men and women who have had a drinking problem. It is nonprofessional\, self-supporting\, multiracial\, apolitical\, and available almost everywhere. There are no age or education requirements. Membership is open to anyone who wants to do something about his or her drinking problem.
URL:https://cpcedison.org/event/aa-2-2-2/2030-02-13/
LOCATION:Community Presbyterian Church\, 75 Glenville Rd.\, Edison\, NJ\, 08817 \, United States
CATEGORIES:AA
END:VEVENT
BEGIN:VEVENT
DTSTART;TZID=America/New_York:20300220T193000
DTEND;TZID=America/New_York:20300220T203000
DTSTAMP:20260421T095424
CREATED:20251203T011935Z
LAST-MODIFIED:20251203T011937Z
UID:10019771-1897846200-1897849800@cpcedison.org
SUMMARY:AA
DESCRIPTION:Alcoholic Anonymous (AA) meeting every Wednesday night at 7:00pm \nAlcoholics Anonymous is an international fellowship of men and women who have had a drinking problem. It is nonprofessional\, self-supporting\, multiracial\, apolitical\, and available almost everywhere. There are no age or education requirements. Membership is open to anyone who wants to do something about his or her drinking problem.
URL:https://cpcedison.org/event/aa-2-2-2/2030-02-20/
LOCATION:Community Presbyterian Church\, 75 Glenville Rd.\, Edison\, NJ\, 08817 \, United States
CATEGORIES:AA
END:VEVENT
BEGIN:VEVENT
DTSTART;TZID=America/New_York:20300227T193000
DTEND;TZID=America/New_York:20300227T203000
DTSTAMP:20260421T095424
CREATED:20251203T011935Z
LAST-MODIFIED:20251203T011937Z
UID:10019772-1898451000-1898454600@cpcedison.org
SUMMARY:AA
DESCRIPTION:Alcoholic Anonymous (AA) meeting every Wednesday night at 7:00pm \nAlcoholics Anonymous is an international fellowship of men and women who have had a drinking problem. It is nonprofessional\, self-supporting\, multiracial\, apolitical\, and available almost everywhere. There are no age or education requirements. Membership is open to anyone who wants to do something about his or her drinking problem.
URL:https://cpcedison.org/event/aa-2-2-2/2030-02-27/
LOCATION:Community Presbyterian Church\, 75 Glenville Rd.\, Edison\, NJ\, 08817 \, United States
CATEGORIES:AA
END:VEVENT
END:VCALENDAR