BEGIN:VCALENDAR
VERSION:2.0
PRODID:-//Community Presbyterian Church - Edison NJ - ECPv6.15.20//NONSGML v1.0//EN
CALSCALE:GREGORIAN
METHOD:PUBLISH
X-ORIGINAL-URL:https://cpcedison.org
X-WR-CALDESC:Events for Community Presbyterian Church - Edison NJ
REFRESH-INTERVAL;VALUE=DURATION:PT1H
X-Robots-Tag:noindex
X-PUBLISHED-TTL:PT1H
BEGIN:VTIMEZONE
TZID:America/New_York
BEGIN:DAYLIGHT
TZOFFSETFROM:-0500
TZOFFSETTO:-0400
TZNAME:EDT
DTSTART:20290311T070000
END:DAYLIGHT
BEGIN:STANDARD
TZOFFSETFROM:-0400
TZOFFSETTO:-0500
TZNAME:EST
DTSTART:20291104T060000
END:STANDARD
BEGIN:DAYLIGHT
TZOFFSETFROM:-0500
TZOFFSETTO:-0400
TZNAME:EDT
DTSTART:20300310T070000
END:DAYLIGHT
BEGIN:STANDARD
TZOFFSETFROM:-0400
TZOFFSETTO:-0500
TZNAME:EST
DTSTART:20301103T060000
END:STANDARD
BEGIN:DAYLIGHT
TZOFFSETFROM:-0500
TZOFFSETTO:-0400
TZNAME:EDT
DTSTART:20310309T070000
END:DAYLIGHT
BEGIN:STANDARD
TZOFFSETFROM:-0400
TZOFFSETTO:-0500
TZNAME:EST
DTSTART:20311102T060000
END:STANDARD
END:VTIMEZONE
BEGIN:VEVENT
DTSTART;TZID=America/New_York:20300424T193000
DTEND;TZID=America/New_York:20300424T203000
DTSTAMP:20260421T113224
CREATED:20251203T011935Z
LAST-MODIFIED:20251203T011937Z
UID:10019780-1903289400-1903293000@cpcedison.org
SUMMARY:AA
DESCRIPTION:Alcoholic Anonymous (AA) meeting every Wednesday night at 7:00pm \nAlcoholics Anonymous is an international fellowship of men and women who have had a drinking problem. It is nonprofessional\, self-supporting\, multiracial\, apolitical\, and available almost everywhere. There are no age or education requirements. Membership is open to anyone who wants to do something about his or her drinking problem.
URL:https://cpcedison.org/event/aa-2-2-2/2030-04-24/
LOCATION:Community Presbyterian Church\, 75 Glenville Rd.\, Edison\, NJ\, 08817 \, United States
CATEGORIES:AA
END:VEVENT
BEGIN:VEVENT
DTSTART;TZID=America/New_York:20300501T193000
DTEND;TZID=America/New_York:20300501T203000
DTSTAMP:20260421T113224
CREATED:20251203T011935Z
LAST-MODIFIED:20251203T011937Z
UID:10019781-1903894200-1903897800@cpcedison.org
SUMMARY:AA
DESCRIPTION:Alcoholic Anonymous (AA) meeting every Wednesday night at 7:00pm \nAlcoholics Anonymous is an international fellowship of men and women who have had a drinking problem. It is nonprofessional\, self-supporting\, multiracial\, apolitical\, and available almost everywhere. There are no age or education requirements. Membership is open to anyone who wants to do something about his or her drinking problem.
URL:https://cpcedison.org/event/aa-2-2-2/2030-05-01/
LOCATION:Community Presbyterian Church\, 75 Glenville Rd.\, Edison\, NJ\, 08817 \, United States
CATEGORIES:AA
END:VEVENT
BEGIN:VEVENT
DTSTART;TZID=America/New_York:20300508T193000
DTEND;TZID=America/New_York:20300508T203000
DTSTAMP:20260421T113224
CREATED:20251203T011935Z
LAST-MODIFIED:20251203T011937Z
UID:10019782-1904499000-1904502600@cpcedison.org
SUMMARY:AA
DESCRIPTION:Alcoholic Anonymous (AA) meeting every Wednesday night at 7:00pm \nAlcoholics Anonymous is an international fellowship of men and women who have had a drinking problem. It is nonprofessional\, self-supporting\, multiracial\, apolitical\, and available almost everywhere. There are no age or education requirements. Membership is open to anyone who wants to do something about his or her drinking problem.
URL:https://cpcedison.org/event/aa-2-2-2/2030-05-08/
LOCATION:Community Presbyterian Church\, 75 Glenville Rd.\, Edison\, NJ\, 08817 \, United States
CATEGORIES:AA
END:VEVENT
BEGIN:VEVENT
DTSTART;TZID=America/New_York:20300515T193000
DTEND;TZID=America/New_York:20300515T203000
DTSTAMP:20260421T113224
CREATED:20251203T011935Z
LAST-MODIFIED:20251203T011937Z
UID:10019783-1905103800-1905107400@cpcedison.org
SUMMARY:AA
DESCRIPTION:Alcoholic Anonymous (AA) meeting every Wednesday night at 7:00pm \nAlcoholics Anonymous is an international fellowship of men and women who have had a drinking problem. It is nonprofessional\, self-supporting\, multiracial\, apolitical\, and available almost everywhere. There are no age or education requirements. Membership is open to anyone who wants to do something about his or her drinking problem.
URL:https://cpcedison.org/event/aa-2-2-2/2030-05-15/
LOCATION:Community Presbyterian Church\, 75 Glenville Rd.\, Edison\, NJ\, 08817 \, United States
CATEGORIES:AA
END:VEVENT
BEGIN:VEVENT
DTSTART;TZID=America/New_York:20300522T193000
DTEND;TZID=America/New_York:20300522T203000
DTSTAMP:20260421T113224
CREATED:20251203T011935Z
LAST-MODIFIED:20251203T011937Z
UID:10019784-1905708600-1905712200@cpcedison.org
SUMMARY:AA
DESCRIPTION:Alcoholic Anonymous (AA) meeting every Wednesday night at 7:00pm \nAlcoholics Anonymous is an international fellowship of men and women who have had a drinking problem. It is nonprofessional\, self-supporting\, multiracial\, apolitical\, and available almost everywhere. There are no age or education requirements. Membership is open to anyone who wants to do something about his or her drinking problem.
URL:https://cpcedison.org/event/aa-2-2-2/2030-05-22/
LOCATION:Community Presbyterian Church\, 75 Glenville Rd.\, Edison\, NJ\, 08817 \, United States
CATEGORIES:AA
END:VEVENT
BEGIN:VEVENT
DTSTART;TZID=America/New_York:20300529T193000
DTEND;TZID=America/New_York:20300529T203000
DTSTAMP:20260421T113224
CREATED:20251203T011935Z
LAST-MODIFIED:20251203T011937Z
UID:10019785-1906313400-1906317000@cpcedison.org
SUMMARY:AA
DESCRIPTION:Alcoholic Anonymous (AA) meeting every Wednesday night at 7:00pm \nAlcoholics Anonymous is an international fellowship of men and women who have had a drinking problem. It is nonprofessional\, self-supporting\, multiracial\, apolitical\, and available almost everywhere. There are no age or education requirements. Membership is open to anyone who wants to do something about his or her drinking problem.
URL:https://cpcedison.org/event/aa-2-2-2/2030-05-29/
LOCATION:Community Presbyterian Church\, 75 Glenville Rd.\, Edison\, NJ\, 08817 \, United States
CATEGORIES:AA
END:VEVENT
BEGIN:VEVENT
DTSTART;TZID=America/New_York:20300605T193000
DTEND;TZID=America/New_York:20300605T203000
DTSTAMP:20260421T113224
CREATED:20251203T011935Z
LAST-MODIFIED:20251203T011937Z
UID:10019786-1906918200-1906921800@cpcedison.org
SUMMARY:AA
DESCRIPTION:Alcoholic Anonymous (AA) meeting every Wednesday night at 7:00pm \nAlcoholics Anonymous is an international fellowship of men and women who have had a drinking problem. It is nonprofessional\, self-supporting\, multiracial\, apolitical\, and available almost everywhere. There are no age or education requirements. Membership is open to anyone who wants to do something about his or her drinking problem.
URL:https://cpcedison.org/event/aa-2-2-2/2030-06-05/
LOCATION:Community Presbyterian Church\, 75 Glenville Rd.\, Edison\, NJ\, 08817 \, United States
CATEGORIES:AA
END:VEVENT
BEGIN:VEVENT
DTSTART;TZID=America/New_York:20300612T193000
DTEND;TZID=America/New_York:20300612T203000
DTSTAMP:20260421T113224
CREATED:20251203T011935Z
LAST-MODIFIED:20251203T011937Z
UID:10019787-1907523000-1907526600@cpcedison.org
SUMMARY:AA
DESCRIPTION:Alcoholic Anonymous (AA) meeting every Wednesday night at 7:00pm \nAlcoholics Anonymous is an international fellowship of men and women who have had a drinking problem. It is nonprofessional\, self-supporting\, multiracial\, apolitical\, and available almost everywhere. There are no age or education requirements. Membership is open to anyone who wants to do something about his or her drinking problem.
URL:https://cpcedison.org/event/aa-2-2-2/2030-06-12/
LOCATION:Community Presbyterian Church\, 75 Glenville Rd.\, Edison\, NJ\, 08817 \, United States
CATEGORIES:AA
END:VEVENT
BEGIN:VEVENT
DTSTART;TZID=America/New_York:20300619T193000
DTEND;TZID=America/New_York:20300619T203000
DTSTAMP:20260421T113224
CREATED:20251203T011935Z
LAST-MODIFIED:20251203T011937Z
UID:10019788-1908127800-1908131400@cpcedison.org
SUMMARY:AA
DESCRIPTION:Alcoholic Anonymous (AA) meeting every Wednesday night at 7:00pm \nAlcoholics Anonymous is an international fellowship of men and women who have had a drinking problem. It is nonprofessional\, self-supporting\, multiracial\, apolitical\, and available almost everywhere. There are no age or education requirements. Membership is open to anyone who wants to do something about his or her drinking problem.
URL:https://cpcedison.org/event/aa-2-2-2/2030-06-19/
LOCATION:Community Presbyterian Church\, 75 Glenville Rd.\, Edison\, NJ\, 08817 \, United States
CATEGORIES:AA
END:VEVENT
BEGIN:VEVENT
DTSTART;TZID=America/New_York:20300626T193000
DTEND;TZID=America/New_York:20300626T203000
DTSTAMP:20260421T113224
CREATED:20251203T011935Z
LAST-MODIFIED:20251203T011937Z
UID:10019789-1908732600-1908736200@cpcedison.org
SUMMARY:AA
DESCRIPTION:Alcoholic Anonymous (AA) meeting every Wednesday night at 7:00pm \nAlcoholics Anonymous is an international fellowship of men and women who have had a drinking problem. It is nonprofessional\, self-supporting\, multiracial\, apolitical\, and available almost everywhere. There are no age or education requirements. Membership is open to anyone who wants to do something about his or her drinking problem.
URL:https://cpcedison.org/event/aa-2-2-2/2030-06-26/
LOCATION:Community Presbyterian Church\, 75 Glenville Rd.\, Edison\, NJ\, 08817 \, United States
CATEGORIES:AA
END:VEVENT
BEGIN:VEVENT
DTSTART;TZID=America/New_York:20300703T193000
DTEND;TZID=America/New_York:20300703T203000
DTSTAMP:20260421T113224
CREATED:20251203T011935Z
LAST-MODIFIED:20251203T011937Z
UID:10019790-1909337400-1909341000@cpcedison.org
SUMMARY:AA
DESCRIPTION:Alcoholic Anonymous (AA) meeting every Wednesday night at 7:00pm \nAlcoholics Anonymous is an international fellowship of men and women who have had a drinking problem. It is nonprofessional\, self-supporting\, multiracial\, apolitical\, and available almost everywhere. There are no age or education requirements. Membership is open to anyone who wants to do something about his or her drinking problem.
URL:https://cpcedison.org/event/aa-2-2-2/2030-07-03/
LOCATION:Community Presbyterian Church\, 75 Glenville Rd.\, Edison\, NJ\, 08817 \, United States
CATEGORIES:AA
END:VEVENT
BEGIN:VEVENT
DTSTART;TZID=America/New_York:20300710T193000
DTEND;TZID=America/New_York:20300710T203000
DTSTAMP:20260421T113224
CREATED:20251203T011935Z
LAST-MODIFIED:20251203T011937Z
UID:10019791-1909942200-1909945800@cpcedison.org
SUMMARY:AA
DESCRIPTION:Alcoholic Anonymous (AA) meeting every Wednesday night at 7:00pm \nAlcoholics Anonymous is an international fellowship of men and women who have had a drinking problem. It is nonprofessional\, self-supporting\, multiracial\, apolitical\, and available almost everywhere. There are no age or education requirements. Membership is open to anyone who wants to do something about his or her drinking problem.
URL:https://cpcedison.org/event/aa-2-2-2/2030-07-10/
LOCATION:Community Presbyterian Church\, 75 Glenville Rd.\, Edison\, NJ\, 08817 \, United States
CATEGORIES:AA
END:VEVENT
BEGIN:VEVENT
DTSTART;TZID=America/New_York:20300717T193000
DTEND;TZID=America/New_York:20300717T203000
DTSTAMP:20260421T113224
CREATED:20251203T011935Z
LAST-MODIFIED:20251203T011937Z
UID:10019792-1910547000-1910550600@cpcedison.org
SUMMARY:AA
DESCRIPTION:Alcoholic Anonymous (AA) meeting every Wednesday night at 7:00pm \nAlcoholics Anonymous is an international fellowship of men and women who have had a drinking problem. It is nonprofessional\, self-supporting\, multiracial\, apolitical\, and available almost everywhere. There are no age or education requirements. Membership is open to anyone who wants to do something about his or her drinking problem.
URL:https://cpcedison.org/event/aa-2-2-2/2030-07-17/
LOCATION:Community Presbyterian Church\, 75 Glenville Rd.\, Edison\, NJ\, 08817 \, United States
CATEGORIES:AA
END:VEVENT
BEGIN:VEVENT
DTSTART;TZID=America/New_York:20300724T193000
DTEND;TZID=America/New_York:20300724T203000
DTSTAMP:20260421T113224
CREATED:20251203T011935Z
LAST-MODIFIED:20251203T011937Z
UID:10019793-1911151800-1911155400@cpcedison.org
SUMMARY:AA
DESCRIPTION:Alcoholic Anonymous (AA) meeting every Wednesday night at 7:00pm \nAlcoholics Anonymous is an international fellowship of men and women who have had a drinking problem. It is nonprofessional\, self-supporting\, multiracial\, apolitical\, and available almost everywhere. There are no age or education requirements. Membership is open to anyone who wants to do something about his or her drinking problem.
URL:https://cpcedison.org/event/aa-2-2-2/2030-07-24/
LOCATION:Community Presbyterian Church\, 75 Glenville Rd.\, Edison\, NJ\, 08817 \, United States
CATEGORIES:AA
END:VEVENT
BEGIN:VEVENT
DTSTART;TZID=America/New_York:20300731T193000
DTEND;TZID=America/New_York:20300731T203000
DTSTAMP:20260421T113224
CREATED:20251203T011935Z
LAST-MODIFIED:20251203T011937Z
UID:10019794-1911756600-1911760200@cpcedison.org
SUMMARY:AA
DESCRIPTION:Alcoholic Anonymous (AA) meeting every Wednesday night at 7:00pm \nAlcoholics Anonymous is an international fellowship of men and women who have had a drinking problem. It is nonprofessional\, self-supporting\, multiracial\, apolitical\, and available almost everywhere. There are no age or education requirements. Membership is open to anyone who wants to do something about his or her drinking problem.
URL:https://cpcedison.org/event/aa-2-2-2/2030-07-31/
LOCATION:Community Presbyterian Church\, 75 Glenville Rd.\, Edison\, NJ\, 08817 \, United States
CATEGORIES:AA
END:VEVENT
BEGIN:VEVENT
DTSTART;TZID=America/New_York:20300807T193000
DTEND;TZID=America/New_York:20300807T203000
DTSTAMP:20260421T113224
CREATED:20251203T011935Z
LAST-MODIFIED:20251203T011937Z
UID:10019795-1912361400-1912365000@cpcedison.org
SUMMARY:AA
DESCRIPTION:Alcoholic Anonymous (AA) meeting every Wednesday night at 7:00pm \nAlcoholics Anonymous is an international fellowship of men and women who have had a drinking problem. It is nonprofessional\, self-supporting\, multiracial\, apolitical\, and available almost everywhere. There are no age or education requirements. Membership is open to anyone who wants to do something about his or her drinking problem.
URL:https://cpcedison.org/event/aa-2-2-2/2030-08-07/
LOCATION:Community Presbyterian Church\, 75 Glenville Rd.\, Edison\, NJ\, 08817 \, United States
CATEGORIES:AA
END:VEVENT
BEGIN:VEVENT
DTSTART;TZID=America/New_York:20300814T193000
DTEND;TZID=America/New_York:20300814T203000
DTSTAMP:20260421T113224
CREATED:20251203T011935Z
LAST-MODIFIED:20251203T011937Z
UID:10019796-1912966200-1912969800@cpcedison.org
SUMMARY:AA
DESCRIPTION:Alcoholic Anonymous (AA) meeting every Wednesday night at 7:00pm \nAlcoholics Anonymous is an international fellowship of men and women who have had a drinking problem. It is nonprofessional\, self-supporting\, multiracial\, apolitical\, and available almost everywhere. There are no age or education requirements. Membership is open to anyone who wants to do something about his or her drinking problem.
URL:https://cpcedison.org/event/aa-2-2-2/2030-08-14/
LOCATION:Community Presbyterian Church\, 75 Glenville Rd.\, Edison\, NJ\, 08817 \, United States
CATEGORIES:AA
END:VEVENT
BEGIN:VEVENT
DTSTART;TZID=America/New_York:20300821T193000
DTEND;TZID=America/New_York:20300821T203000
DTSTAMP:20260421T113224
CREATED:20251203T011935Z
LAST-MODIFIED:20251203T011937Z
UID:10019797-1913571000-1913574600@cpcedison.org
SUMMARY:AA
DESCRIPTION:Alcoholic Anonymous (AA) meeting every Wednesday night at 7:00pm \nAlcoholics Anonymous is an international fellowship of men and women who have had a drinking problem. It is nonprofessional\, self-supporting\, multiracial\, apolitical\, and available almost everywhere. There are no age or education requirements. Membership is open to anyone who wants to do something about his or her drinking problem.
URL:https://cpcedison.org/event/aa-2-2-2/2030-08-21/
LOCATION:Community Presbyterian Church\, 75 Glenville Rd.\, Edison\, NJ\, 08817 \, United States
CATEGORIES:AA
END:VEVENT
BEGIN:VEVENT
DTSTART;TZID=America/New_York:20300828T193000
DTEND;TZID=America/New_York:20300828T203000
DTSTAMP:20260421T113224
CREATED:20251203T011935Z
LAST-MODIFIED:20251203T011937Z
UID:10019798-1914175800-1914179400@cpcedison.org
SUMMARY:AA
DESCRIPTION:Alcoholic Anonymous (AA) meeting every Wednesday night at 7:00pm \nAlcoholics Anonymous is an international fellowship of men and women who have had a drinking problem. It is nonprofessional\, self-supporting\, multiracial\, apolitical\, and available almost everywhere. There are no age or education requirements. Membership is open to anyone who wants to do something about his or her drinking problem.
URL:https://cpcedison.org/event/aa-2-2-2/2030-08-28/
LOCATION:Community Presbyterian Church\, 75 Glenville Rd.\, Edison\, NJ\, 08817 \, United States
CATEGORIES:AA
END:VEVENT
BEGIN:VEVENT
DTSTART;TZID=America/New_York:20300904T193000
DTEND;TZID=America/New_York:20300904T203000
DTSTAMP:20260421T113224
CREATED:20251203T011935Z
LAST-MODIFIED:20251203T011937Z
UID:10019799-1914780600-1914784200@cpcedison.org
SUMMARY:AA
DESCRIPTION:Alcoholic Anonymous (AA) meeting every Wednesday night at 7:00pm \nAlcoholics Anonymous is an international fellowship of men and women who have had a drinking problem. It is nonprofessional\, self-supporting\, multiracial\, apolitical\, and available almost everywhere. There are no age or education requirements. Membership is open to anyone who wants to do something about his or her drinking problem.
URL:https://cpcedison.org/event/aa-2-2-2/2030-09-04/
LOCATION:Community Presbyterian Church\, 75 Glenville Rd.\, Edison\, NJ\, 08817 \, United States
CATEGORIES:AA
END:VEVENT
BEGIN:VEVENT
DTSTART;TZID=America/New_York:20300911T193000
DTEND;TZID=America/New_York:20300911T203000
DTSTAMP:20260421T113224
CREATED:20251203T011935Z
LAST-MODIFIED:20251203T011937Z
UID:10019800-1915385400-1915389000@cpcedison.org
SUMMARY:AA
DESCRIPTION:Alcoholic Anonymous (AA) meeting every Wednesday night at 7:00pm \nAlcoholics Anonymous is an international fellowship of men and women who have had a drinking problem. It is nonprofessional\, self-supporting\, multiracial\, apolitical\, and available almost everywhere. There are no age or education requirements. Membership is open to anyone who wants to do something about his or her drinking problem.
URL:https://cpcedison.org/event/aa-2-2-2/2030-09-11/
LOCATION:Community Presbyterian Church\, 75 Glenville Rd.\, Edison\, NJ\, 08817 \, United States
CATEGORIES:AA
END:VEVENT
BEGIN:VEVENT
DTSTART;TZID=America/New_York:20300918T193000
DTEND;TZID=America/New_York:20300918T203000
DTSTAMP:20260421T113224
CREATED:20251203T011935Z
LAST-MODIFIED:20251203T011937Z
UID:10019801-1915990200-1915993800@cpcedison.org
SUMMARY:AA
DESCRIPTION:Alcoholic Anonymous (AA) meeting every Wednesday night at 7:00pm \nAlcoholics Anonymous is an international fellowship of men and women who have had a drinking problem. It is nonprofessional\, self-supporting\, multiracial\, apolitical\, and available almost everywhere. There are no age or education requirements. Membership is open to anyone who wants to do something about his or her drinking problem.
URL:https://cpcedison.org/event/aa-2-2-2/2030-09-18/
LOCATION:Community Presbyterian Church\, 75 Glenville Rd.\, Edison\, NJ\, 08817 \, United States
CATEGORIES:AA
END:VEVENT
BEGIN:VEVENT
DTSTART;TZID=America/New_York:20300925T193000
DTEND;TZID=America/New_York:20300925T203000
DTSTAMP:20260421T113224
CREATED:20251203T011935Z
LAST-MODIFIED:20251203T011937Z
UID:10019802-1916595000-1916598600@cpcedison.org
SUMMARY:AA
DESCRIPTION:Alcoholic Anonymous (AA) meeting every Wednesday night at 7:00pm \nAlcoholics Anonymous is an international fellowship of men and women who have had a drinking problem. It is nonprofessional\, self-supporting\, multiracial\, apolitical\, and available almost everywhere. There are no age or education requirements. Membership is open to anyone who wants to do something about his or her drinking problem.
URL:https://cpcedison.org/event/aa-2-2-2/2030-09-25/
LOCATION:Community Presbyterian Church\, 75 Glenville Rd.\, Edison\, NJ\, 08817 \, United States
CATEGORIES:AA
END:VEVENT
BEGIN:VEVENT
DTSTART;TZID=America/New_York:20301002T193000
DTEND;TZID=America/New_York:20301002T203000
DTSTAMP:20260421T113224
CREATED:20251203T011935Z
LAST-MODIFIED:20251203T011937Z
UID:10019803-1917199800-1917203400@cpcedison.org
SUMMARY:AA
DESCRIPTION:Alcoholic Anonymous (AA) meeting every Wednesday night at 7:00pm \nAlcoholics Anonymous is an international fellowship of men and women who have had a drinking problem. It is nonprofessional\, self-supporting\, multiracial\, apolitical\, and available almost everywhere. There are no age or education requirements. Membership is open to anyone who wants to do something about his or her drinking problem.
URL:https://cpcedison.org/event/aa-2-2-2/2030-10-02/
LOCATION:Community Presbyterian Church\, 75 Glenville Rd.\, Edison\, NJ\, 08817 \, United States
CATEGORIES:AA
END:VEVENT
BEGIN:VEVENT
DTSTART;TZID=America/New_York:20301009T193000
DTEND;TZID=America/New_York:20301009T203000
DTSTAMP:20260421T113224
CREATED:20251203T011935Z
LAST-MODIFIED:20251203T011937Z
UID:10019804-1917804600-1917808200@cpcedison.org
SUMMARY:AA
DESCRIPTION:Alcoholic Anonymous (AA) meeting every Wednesday night at 7:00pm \nAlcoholics Anonymous is an international fellowship of men and women who have had a drinking problem. It is nonprofessional\, self-supporting\, multiracial\, apolitical\, and available almost everywhere. There are no age or education requirements. Membership is open to anyone who wants to do something about his or her drinking problem.
URL:https://cpcedison.org/event/aa-2-2-2/2030-10-09/
LOCATION:Community Presbyterian Church\, 75 Glenville Rd.\, Edison\, NJ\, 08817 \, United States
CATEGORIES:AA
END:VEVENT
BEGIN:VEVENT
DTSTART;TZID=America/New_York:20301016T193000
DTEND;TZID=America/New_York:20301016T203000
DTSTAMP:20260421T113224
CREATED:20251203T011935Z
LAST-MODIFIED:20251203T011937Z
UID:10019805-1918409400-1918413000@cpcedison.org
SUMMARY:AA
DESCRIPTION:Alcoholic Anonymous (AA) meeting every Wednesday night at 7:00pm \nAlcoholics Anonymous is an international fellowship of men and women who have had a drinking problem. It is nonprofessional\, self-supporting\, multiracial\, apolitical\, and available almost everywhere. There are no age or education requirements. Membership is open to anyone who wants to do something about his or her drinking problem.
URL:https://cpcedison.org/event/aa-2-2-2/2030-10-16/
LOCATION:Community Presbyterian Church\, 75 Glenville Rd.\, Edison\, NJ\, 08817 \, United States
CATEGORIES:AA
END:VEVENT
BEGIN:VEVENT
DTSTART;TZID=America/New_York:20301023T193000
DTEND;TZID=America/New_York:20301023T203000
DTSTAMP:20260421T113224
CREATED:20251203T011935Z
LAST-MODIFIED:20251203T011937Z
UID:10019806-1919014200-1919017800@cpcedison.org
SUMMARY:AA
DESCRIPTION:Alcoholic Anonymous (AA) meeting every Wednesday night at 7:00pm \nAlcoholics Anonymous is an international fellowship of men and women who have had a drinking problem. It is nonprofessional\, self-supporting\, multiracial\, apolitical\, and available almost everywhere. There are no age or education requirements. Membership is open to anyone who wants to do something about his or her drinking problem.
URL:https://cpcedison.org/event/aa-2-2-2/2030-10-23/
LOCATION:Community Presbyterian Church\, 75 Glenville Rd.\, Edison\, NJ\, 08817 \, United States
CATEGORIES:AA
END:VEVENT
BEGIN:VEVENT
DTSTART;TZID=America/New_York:20301030T193000
DTEND;TZID=America/New_York:20301030T203000
DTSTAMP:20260421T113224
CREATED:20251203T011935Z
LAST-MODIFIED:20251203T011937Z
UID:10019807-1919619000-1919622600@cpcedison.org
SUMMARY:AA
DESCRIPTION:Alcoholic Anonymous (AA) meeting every Wednesday night at 7:00pm \nAlcoholics Anonymous is an international fellowship of men and women who have had a drinking problem. It is nonprofessional\, self-supporting\, multiracial\, apolitical\, and available almost everywhere. There are no age or education requirements. Membership is open to anyone who wants to do something about his or her drinking problem.
URL:https://cpcedison.org/event/aa-2-2-2/2030-10-30/
LOCATION:Community Presbyterian Church\, 75 Glenville Rd.\, Edison\, NJ\, 08817 \, United States
CATEGORIES:AA
END:VEVENT
BEGIN:VEVENT
DTSTART;TZID=America/New_York:20301106T193000
DTEND;TZID=America/New_York:20301106T203000
DTSTAMP:20260421T113224
CREATED:20251203T011935Z
LAST-MODIFIED:20251203T011937Z
UID:10019808-1920223800-1920227400@cpcedison.org
SUMMARY:AA
DESCRIPTION:Alcoholic Anonymous (AA) meeting every Wednesday night at 7:00pm \nAlcoholics Anonymous is an international fellowship of men and women who have had a drinking problem. It is nonprofessional\, self-supporting\, multiracial\, apolitical\, and available almost everywhere. There are no age or education requirements. Membership is open to anyone who wants to do something about his or her drinking problem.
URL:https://cpcedison.org/event/aa-2-2-2/2030-11-06/
LOCATION:Community Presbyterian Church\, 75 Glenville Rd.\, Edison\, NJ\, 08817 \, United States
CATEGORIES:AA
END:VEVENT
BEGIN:VEVENT
DTSTART;TZID=America/New_York:20301113T193000
DTEND;TZID=America/New_York:20301113T203000
DTSTAMP:20260421T113224
CREATED:20251203T011935Z
LAST-MODIFIED:20251203T011937Z
UID:10019809-1920828600-1920832200@cpcedison.org
SUMMARY:AA
DESCRIPTION:Alcoholic Anonymous (AA) meeting every Wednesday night at 7:00pm \nAlcoholics Anonymous is an international fellowship of men and women who have had a drinking problem. It is nonprofessional\, self-supporting\, multiracial\, apolitical\, and available almost everywhere. There are no age or education requirements. Membership is open to anyone who wants to do something about his or her drinking problem.
URL:https://cpcedison.org/event/aa-2-2-2/2030-11-13/
LOCATION:Community Presbyterian Church\, 75 Glenville Rd.\, Edison\, NJ\, 08817 \, United States
CATEGORIES:AA
END:VEVENT
END:VCALENDAR