BEGIN:VCALENDAR
VERSION:2.0
PRODID:-//Community Presbyterian Church - Edison NJ - ECPv6.15.20//NONSGML v1.0//EN
CALSCALE:GREGORIAN
METHOD:PUBLISH
X-WR-CALNAME:Community Presbyterian Church - Edison NJ
X-ORIGINAL-URL:https://cpcedison.org
X-WR-CALDESC:Events for Community Presbyterian Church - Edison NJ
REFRESH-INTERVAL;VALUE=DURATION:PT1H
X-Robots-Tag:noindex
X-PUBLISHED-TTL:PT1H
BEGIN:VTIMEZONE
TZID:UTC
BEGIN:STANDARD
TZOFFSETFROM:+0000
TZOFFSETTO:+0000
TZNAME:UTC
DTSTART:20220101T000000
END:STANDARD
END:VTIMEZONE
BEGIN:VTIMEZONE
TZID:America/New_York
BEGIN:DAYLIGHT
TZOFFSETFROM:-0500
TZOFFSETTO:-0400
TZNAME:EDT
DTSTART:20220313T070000
END:DAYLIGHT
BEGIN:STANDARD
TZOFFSETFROM:-0400
TZOFFSETTO:-0500
TZNAME:EST
DTSTART:20221106T060000
END:STANDARD
BEGIN:DAYLIGHT
TZOFFSETFROM:-0500
TZOFFSETTO:-0400
TZNAME:EDT
DTSTART:20230312T070000
END:DAYLIGHT
BEGIN:STANDARD
TZOFFSETFROM:-0400
TZOFFSETTO:-0500
TZNAME:EST
DTSTART:20231105T060000
END:STANDARD
BEGIN:DAYLIGHT
TZOFFSETFROM:-0500
TZOFFSETTO:-0400
TZNAME:EDT
DTSTART:20240310T070000
END:DAYLIGHT
BEGIN:STANDARD
TZOFFSETFROM:-0400
TZOFFSETTO:-0500
TZNAME:EST
DTSTART:20241103T060000
END:STANDARD
END:VTIMEZONE
BEGIN:VEVENT
DTSTART;TZID=UTC:20230906T170000
DTEND;TZID=UTC:20230906T180000
DTSTAMP:20260423T113213
CREATED:20220413T183726Z
LAST-MODIFIED:20241214T213257Z
UID:10001704-1694019600-1694023200@cpcedison.org
SUMMARY:AA
DESCRIPTION:Alcoholic Anonymous (AA) meeting every Wednesday night at 5:00pm \nAlcoholics Anonymous is an international fellowship of men and women who have had a drinking problem. It is nonprofessional\, self-supporting\, multiracial\, apolitical\, and available almost everywhere. There are no age or education requirements. Membership is open to anyone who wants to do something about his or her drinking problem.
URL:https://cpcedison.org/event/aa-4/2023-09-06/
LOCATION:Community Presbyterian Church\, 75 Glenville Rd.\, Edison\, NJ\, 08817 \, United States
CATEGORIES:AA
END:VEVENT
BEGIN:VEVENT
DTSTART;TZID=America/New_York:20230901T193000
DTEND;TZID=America/New_York:20230901T203000
DTSTAMP:20260423T113213
CREATED:20231206T174739Z
LAST-MODIFIED:20231206T174847Z
UID:10010175-1693596600-1693600200@cpcedison.org
SUMMARY:AA
DESCRIPTION:Alcoholic Anonymous (AA) meeting every Friday night at 7:30pm \nAlcoholics Anonymous is an international fellowship of men and women who have had a drinking problem. It is nonprofessional\, self-supporting\, multiracial\, apolitical\, and available almost everywhere. There are no age or education requirements. Membership is open to anyone who wants to do something about his or her drinking problem.
URL:https://cpcedison.org/event/aa-3-2-2/2023-09-01/
LOCATION:Community Presbyterian Church\, 75 Glenville Rd.\, Edison\, NJ\, 08817 \, United States
CATEGORIES:AA
END:VEVENT
BEGIN:VEVENT
DTSTART;TZID=America/New_York:20230830T190000
DTEND;TZID=America/New_York:20230830T200000
DTSTAMP:20260423T113213
CREATED:20230322T174014Z
LAST-MODIFIED:20241214T213454Z
UID:10009881-1693422000-1693425600@cpcedison.org
SUMMARY:AA
DESCRIPTION:Alcoholic Anonymous (AA) meeting every Wednesday night at 7:00pm \nAlcoholics Anonymous is an international fellowship of men and women who have had a drinking problem. It is nonprofessional\, self-supporting\, multiracial\, apolitical\, and available almost everywhere. There are no age or education requirements. Membership is open to anyone who wants to do something about his or her drinking problem.
URL:https://cpcedison.org/event/aa-2-2/2023-08-30/
LOCATION:Community Presbyterian Church\, 75 Glenville Rd.\, Edison\, NJ\, 08817 \, United States
CATEGORIES:AA
END:VEVENT
BEGIN:VEVENT
DTSTART;TZID=UTC:20230830T170000
DTEND;TZID=UTC:20230830T180000
DTSTAMP:20260423T113213
CREATED:20220413T183726Z
LAST-MODIFIED:20241214T213257Z
UID:10001703-1693414800-1693418400@cpcedison.org
SUMMARY:AA
DESCRIPTION:Alcoholic Anonymous (AA) meeting every Wednesday night at 5:00pm \nAlcoholics Anonymous is an international fellowship of men and women who have had a drinking problem. It is nonprofessional\, self-supporting\, multiracial\, apolitical\, and available almost everywhere. There are no age or education requirements. Membership is open to anyone who wants to do something about his or her drinking problem.
URL:https://cpcedison.org/event/aa-4/2023-08-30/
LOCATION:Community Presbyterian Church\, 75 Glenville Rd.\, Edison\, NJ\, 08817 \, United States
CATEGORIES:AA
END:VEVENT
BEGIN:VEVENT
DTSTART;TZID=America/New_York:20230825T193000
DTEND;TZID=America/New_York:20230825T203000
DTSTAMP:20260423T113213
CREATED:20231206T174739Z
LAST-MODIFIED:20231206T174847Z
UID:10010174-1692991800-1692995400@cpcedison.org
SUMMARY:AA
DESCRIPTION:Alcoholic Anonymous (AA) meeting every Friday night at 7:30pm \nAlcoholics Anonymous is an international fellowship of men and women who have had a drinking problem. It is nonprofessional\, self-supporting\, multiracial\, apolitical\, and available almost everywhere. There are no age or education requirements. Membership is open to anyone who wants to do something about his or her drinking problem.
URL:https://cpcedison.org/event/aa-3-2-2/2023-08-25/
LOCATION:Community Presbyterian Church\, 75 Glenville Rd.\, Edison\, NJ\, 08817 \, United States
CATEGORIES:AA
END:VEVENT
BEGIN:VEVENT
DTSTART;TZID=America/New_York:20230823T190000
DTEND;TZID=America/New_York:20230823T200000
DTSTAMP:20260423T113213
CREATED:20230322T174014Z
LAST-MODIFIED:20241214T213454Z
UID:10009880-1692817200-1692820800@cpcedison.org
SUMMARY:AA
DESCRIPTION:Alcoholic Anonymous (AA) meeting every Wednesday night at 7:00pm \nAlcoholics Anonymous is an international fellowship of men and women who have had a drinking problem. It is nonprofessional\, self-supporting\, multiracial\, apolitical\, and available almost everywhere. There are no age or education requirements. Membership is open to anyone who wants to do something about his or her drinking problem.
URL:https://cpcedison.org/event/aa-2-2/2023-08-23/
LOCATION:Community Presbyterian Church\, 75 Glenville Rd.\, Edison\, NJ\, 08817 \, United States
CATEGORIES:AA
END:VEVENT
BEGIN:VEVENT
DTSTART;TZID=UTC:20230823T170000
DTEND;TZID=UTC:20230823T180000
DTSTAMP:20260423T113213
CREATED:20220413T183726Z
LAST-MODIFIED:20241214T213257Z
UID:10001702-1692810000-1692813600@cpcedison.org
SUMMARY:AA
DESCRIPTION:Alcoholic Anonymous (AA) meeting every Wednesday night at 5:00pm \nAlcoholics Anonymous is an international fellowship of men and women who have had a drinking problem. It is nonprofessional\, self-supporting\, multiracial\, apolitical\, and available almost everywhere. There are no age or education requirements. Membership is open to anyone who wants to do something about his or her drinking problem.
URL:https://cpcedison.org/event/aa-4/2023-08-23/
LOCATION:Community Presbyterian Church\, 75 Glenville Rd.\, Edison\, NJ\, 08817 \, United States
CATEGORIES:AA
END:VEVENT
BEGIN:VEVENT
DTSTART;TZID=America/New_York:20230818T193000
DTEND;TZID=America/New_York:20230818T203000
DTSTAMP:20260423T113213
CREATED:20231206T174739Z
LAST-MODIFIED:20231206T174847Z
UID:10010173-1692387000-1692390600@cpcedison.org
SUMMARY:AA
DESCRIPTION:Alcoholic Anonymous (AA) meeting every Friday night at 7:30pm \nAlcoholics Anonymous is an international fellowship of men and women who have had a drinking problem. It is nonprofessional\, self-supporting\, multiracial\, apolitical\, and available almost everywhere. There are no age or education requirements. Membership is open to anyone who wants to do something about his or her drinking problem.
URL:https://cpcedison.org/event/aa-3-2-2/2023-08-18/
LOCATION:Community Presbyterian Church\, 75 Glenville Rd.\, Edison\, NJ\, 08817 \, United States
CATEGORIES:AA
END:VEVENT
BEGIN:VEVENT
DTSTART;TZID=America/New_York:20230816T190000
DTEND;TZID=America/New_York:20230816T200000
DTSTAMP:20260423T113213
CREATED:20230322T174014Z
LAST-MODIFIED:20241214T213454Z
UID:10009879-1692212400-1692216000@cpcedison.org
SUMMARY:AA
DESCRIPTION:Alcoholic Anonymous (AA) meeting every Wednesday night at 7:00pm \nAlcoholics Anonymous is an international fellowship of men and women who have had a drinking problem. It is nonprofessional\, self-supporting\, multiracial\, apolitical\, and available almost everywhere. There are no age or education requirements. Membership is open to anyone who wants to do something about his or her drinking problem.
URL:https://cpcedison.org/event/aa-2-2/2023-08-16/
LOCATION:Community Presbyterian Church\, 75 Glenville Rd.\, Edison\, NJ\, 08817 \, United States
CATEGORIES:AA
END:VEVENT
BEGIN:VEVENT
DTSTART;TZID=UTC:20230816T170000
DTEND;TZID=UTC:20230816T180000
DTSTAMP:20260423T113213
CREATED:20220413T183726Z
LAST-MODIFIED:20241214T213257Z
UID:10001701-1692205200-1692208800@cpcedison.org
SUMMARY:AA
DESCRIPTION:Alcoholic Anonymous (AA) meeting every Wednesday night at 5:00pm \nAlcoholics Anonymous is an international fellowship of men and women who have had a drinking problem. It is nonprofessional\, self-supporting\, multiracial\, apolitical\, and available almost everywhere. There are no age or education requirements. Membership is open to anyone who wants to do something about his or her drinking problem.
URL:https://cpcedison.org/event/aa-4/2023-08-16/
LOCATION:Community Presbyterian Church\, 75 Glenville Rd.\, Edison\, NJ\, 08817 \, United States
CATEGORIES:AA
END:VEVENT
BEGIN:VEVENT
DTSTART;TZID=America/New_York:20230811T193000
DTEND;TZID=America/New_York:20230811T203000
DTSTAMP:20260423T113213
CREATED:20231206T174739Z
LAST-MODIFIED:20231206T174847Z
UID:10010172-1691782200-1691785800@cpcedison.org
SUMMARY:AA
DESCRIPTION:Alcoholic Anonymous (AA) meeting every Friday night at 7:30pm \nAlcoholics Anonymous is an international fellowship of men and women who have had a drinking problem. It is nonprofessional\, self-supporting\, multiracial\, apolitical\, and available almost everywhere. There are no age or education requirements. Membership is open to anyone who wants to do something about his or her drinking problem.
URL:https://cpcedison.org/event/aa-3-2-2/2023-08-11/
LOCATION:Community Presbyterian Church\, 75 Glenville Rd.\, Edison\, NJ\, 08817 \, United States
CATEGORIES:AA
END:VEVENT
BEGIN:VEVENT
DTSTART;TZID=America/New_York:20230809T190000
DTEND;TZID=America/New_York:20230809T200000
DTSTAMP:20260423T113213
CREATED:20230322T174014Z
LAST-MODIFIED:20241214T213454Z
UID:10009878-1691607600-1691611200@cpcedison.org
SUMMARY:AA
DESCRIPTION:Alcoholic Anonymous (AA) meeting every Wednesday night at 7:00pm \nAlcoholics Anonymous is an international fellowship of men and women who have had a drinking problem. It is nonprofessional\, self-supporting\, multiracial\, apolitical\, and available almost everywhere. There are no age or education requirements. Membership is open to anyone who wants to do something about his or her drinking problem.
URL:https://cpcedison.org/event/aa-2-2/2023-08-09/
LOCATION:Community Presbyterian Church\, 75 Glenville Rd.\, Edison\, NJ\, 08817 \, United States
CATEGORIES:AA
END:VEVENT
BEGIN:VEVENT
DTSTART;TZID=UTC:20230809T170000
DTEND;TZID=UTC:20230809T180000
DTSTAMP:20260423T113213
CREATED:20220413T183726Z
LAST-MODIFIED:20241214T213257Z
UID:10001700-1691600400-1691604000@cpcedison.org
SUMMARY:AA
DESCRIPTION:Alcoholic Anonymous (AA) meeting every Wednesday night at 5:00pm \nAlcoholics Anonymous is an international fellowship of men and women who have had a drinking problem. It is nonprofessional\, self-supporting\, multiracial\, apolitical\, and available almost everywhere. There are no age or education requirements. Membership is open to anyone who wants to do something about his or her drinking problem.
URL:https://cpcedison.org/event/aa-4/2023-08-09/
LOCATION:Community Presbyterian Church\, 75 Glenville Rd.\, Edison\, NJ\, 08817 \, United States
CATEGORIES:AA
END:VEVENT
BEGIN:VEVENT
DTSTART;TZID=America/New_York:20230804T193000
DTEND;TZID=America/New_York:20230804T203000
DTSTAMP:20260423T113213
CREATED:20231206T174739Z
LAST-MODIFIED:20231206T174847Z
UID:10010171-1691177400-1691181000@cpcedison.org
SUMMARY:AA
DESCRIPTION:Alcoholic Anonymous (AA) meeting every Friday night at 7:30pm \nAlcoholics Anonymous is an international fellowship of men and women who have had a drinking problem. It is nonprofessional\, self-supporting\, multiracial\, apolitical\, and available almost everywhere. There are no age or education requirements. Membership is open to anyone who wants to do something about his or her drinking problem.
URL:https://cpcedison.org/event/aa-3-2-2/2023-08-04/
LOCATION:Community Presbyterian Church\, 75 Glenville Rd.\, Edison\, NJ\, 08817 \, United States
CATEGORIES:AA
END:VEVENT
BEGIN:VEVENT
DTSTART;TZID=America/New_York:20230802T190000
DTEND;TZID=America/New_York:20230802T200000
DTSTAMP:20260423T113213
CREATED:20230322T174014Z
LAST-MODIFIED:20241214T213454Z
UID:10009877-1691002800-1691006400@cpcedison.org
SUMMARY:AA
DESCRIPTION:Alcoholic Anonymous (AA) meeting every Wednesday night at 7:00pm \nAlcoholics Anonymous is an international fellowship of men and women who have had a drinking problem. It is nonprofessional\, self-supporting\, multiracial\, apolitical\, and available almost everywhere. There are no age or education requirements. Membership is open to anyone who wants to do something about his or her drinking problem.
URL:https://cpcedison.org/event/aa-2-2/2023-08-02/
LOCATION:Community Presbyterian Church\, 75 Glenville Rd.\, Edison\, NJ\, 08817 \, United States
CATEGORIES:AA
END:VEVENT
BEGIN:VEVENT
DTSTART;TZID=UTC:20230802T170000
DTEND;TZID=UTC:20230802T180000
DTSTAMP:20260423T113213
CREATED:20220413T183726Z
LAST-MODIFIED:20241214T213257Z
UID:10001699-1690995600-1690999200@cpcedison.org
SUMMARY:AA
DESCRIPTION:Alcoholic Anonymous (AA) meeting every Wednesday night at 5:00pm \nAlcoholics Anonymous is an international fellowship of men and women who have had a drinking problem. It is nonprofessional\, self-supporting\, multiracial\, apolitical\, and available almost everywhere. There are no age or education requirements. Membership is open to anyone who wants to do something about his or her drinking problem.
URL:https://cpcedison.org/event/aa-4/2023-08-02/
LOCATION:Community Presbyterian Church\, 75 Glenville Rd.\, Edison\, NJ\, 08817 \, United States
CATEGORIES:AA
END:VEVENT
BEGIN:VEVENT
DTSTART;TZID=America/New_York:20230728T193000
DTEND;TZID=America/New_York:20230728T203000
DTSTAMP:20260423T113213
CREATED:20231206T174739Z
LAST-MODIFIED:20231206T174847Z
UID:10010170-1690572600-1690576200@cpcedison.org
SUMMARY:AA
DESCRIPTION:Alcoholic Anonymous (AA) meeting every Friday night at 7:30pm \nAlcoholics Anonymous is an international fellowship of men and women who have had a drinking problem. It is nonprofessional\, self-supporting\, multiracial\, apolitical\, and available almost everywhere. There are no age or education requirements. Membership is open to anyone who wants to do something about his or her drinking problem.
URL:https://cpcedison.org/event/aa-3-2-2/2023-07-28/
LOCATION:Community Presbyterian Church\, 75 Glenville Rd.\, Edison\, NJ\, 08817 \, United States
CATEGORIES:AA
END:VEVENT
BEGIN:VEVENT
DTSTART;TZID=America/New_York:20230726T190000
DTEND;TZID=America/New_York:20230726T200000
DTSTAMP:20260423T113213
CREATED:20230322T174014Z
LAST-MODIFIED:20241214T213454Z
UID:10009876-1690398000-1690401600@cpcedison.org
SUMMARY:AA
DESCRIPTION:Alcoholic Anonymous (AA) meeting every Wednesday night at 7:00pm \nAlcoholics Anonymous is an international fellowship of men and women who have had a drinking problem. It is nonprofessional\, self-supporting\, multiracial\, apolitical\, and available almost everywhere. There are no age or education requirements. Membership is open to anyone who wants to do something about his or her drinking problem.
URL:https://cpcedison.org/event/aa-2-2/2023-07-26/
LOCATION:Community Presbyterian Church\, 75 Glenville Rd.\, Edison\, NJ\, 08817 \, United States
CATEGORIES:AA
END:VEVENT
BEGIN:VEVENT
DTSTART;TZID=UTC:20230726T170000
DTEND;TZID=UTC:20230726T180000
DTSTAMP:20260423T113213
CREATED:20220413T183726Z
LAST-MODIFIED:20241214T213257Z
UID:10001698-1690390800-1690394400@cpcedison.org
SUMMARY:AA
DESCRIPTION:Alcoholic Anonymous (AA) meeting every Wednesday night at 5:00pm \nAlcoholics Anonymous is an international fellowship of men and women who have had a drinking problem. It is nonprofessional\, self-supporting\, multiracial\, apolitical\, and available almost everywhere. There are no age or education requirements. Membership is open to anyone who wants to do something about his or her drinking problem.
URL:https://cpcedison.org/event/aa-4/2023-07-26/
LOCATION:Community Presbyterian Church\, 75 Glenville Rd.\, Edison\, NJ\, 08817 \, United States
CATEGORIES:AA
END:VEVENT
BEGIN:VEVENT
DTSTART;TZID=America/New_York:20230721T193000
DTEND;TZID=America/New_York:20230721T203000
DTSTAMP:20260423T113213
CREATED:20231206T174739Z
LAST-MODIFIED:20231206T174847Z
UID:10010169-1689967800-1689971400@cpcedison.org
SUMMARY:AA
DESCRIPTION:Alcoholic Anonymous (AA) meeting every Friday night at 7:30pm \nAlcoholics Anonymous is an international fellowship of men and women who have had a drinking problem. It is nonprofessional\, self-supporting\, multiracial\, apolitical\, and available almost everywhere. There are no age or education requirements. Membership is open to anyone who wants to do something about his or her drinking problem.
URL:https://cpcedison.org/event/aa-3-2-2/2023-07-21/
LOCATION:Community Presbyterian Church\, 75 Glenville Rd.\, Edison\, NJ\, 08817 \, United States
CATEGORIES:AA
END:VEVENT
BEGIN:VEVENT
DTSTART;TZID=America/New_York:20230719T190000
DTEND;TZID=America/New_York:20230719T200000
DTSTAMP:20260423T113213
CREATED:20230322T174014Z
LAST-MODIFIED:20241214T213454Z
UID:10009875-1689793200-1689796800@cpcedison.org
SUMMARY:AA
DESCRIPTION:Alcoholic Anonymous (AA) meeting every Wednesday night at 7:00pm \nAlcoholics Anonymous is an international fellowship of men and women who have had a drinking problem. It is nonprofessional\, self-supporting\, multiracial\, apolitical\, and available almost everywhere. There are no age or education requirements. Membership is open to anyone who wants to do something about his or her drinking problem.
URL:https://cpcedison.org/event/aa-2-2/2023-07-19/
LOCATION:Community Presbyterian Church\, 75 Glenville Rd.\, Edison\, NJ\, 08817 \, United States
CATEGORIES:AA
END:VEVENT
BEGIN:VEVENT
DTSTART;TZID=UTC:20230719T170000
DTEND;TZID=UTC:20230719T180000
DTSTAMP:20260423T113213
CREATED:20220413T183726Z
LAST-MODIFIED:20241214T213257Z
UID:10001697-1689786000-1689789600@cpcedison.org
SUMMARY:AA
DESCRIPTION:Alcoholic Anonymous (AA) meeting every Wednesday night at 5:00pm \nAlcoholics Anonymous is an international fellowship of men and women who have had a drinking problem. It is nonprofessional\, self-supporting\, multiracial\, apolitical\, and available almost everywhere. There are no age or education requirements. Membership is open to anyone who wants to do something about his or her drinking problem.
URL:https://cpcedison.org/event/aa-4/2023-07-19/
LOCATION:Community Presbyterian Church\, 75 Glenville Rd.\, Edison\, NJ\, 08817 \, United States
CATEGORIES:AA
END:VEVENT
BEGIN:VEVENT
DTSTART;TZID=America/New_York:20230714T193000
DTEND;TZID=America/New_York:20230714T203000
DTSTAMP:20260423T113213
CREATED:20231206T174739Z
LAST-MODIFIED:20231206T174847Z
UID:10010168-1689363000-1689366600@cpcedison.org
SUMMARY:AA
DESCRIPTION:Alcoholic Anonymous (AA) meeting every Friday night at 7:30pm \nAlcoholics Anonymous is an international fellowship of men and women who have had a drinking problem. It is nonprofessional\, self-supporting\, multiracial\, apolitical\, and available almost everywhere. There are no age or education requirements. Membership is open to anyone who wants to do something about his or her drinking problem.
URL:https://cpcedison.org/event/aa-3-2-2/2023-07-14/
LOCATION:Community Presbyterian Church\, 75 Glenville Rd.\, Edison\, NJ\, 08817 \, United States
CATEGORIES:AA
END:VEVENT
BEGIN:VEVENT
DTSTART;TZID=America/New_York:20230712T190000
DTEND;TZID=America/New_York:20230712T200000
DTSTAMP:20260423T113213
CREATED:20230322T174014Z
LAST-MODIFIED:20241214T213454Z
UID:10009874-1689188400-1689192000@cpcedison.org
SUMMARY:AA
DESCRIPTION:Alcoholic Anonymous (AA) meeting every Wednesday night at 7:00pm \nAlcoholics Anonymous is an international fellowship of men and women who have had a drinking problem. It is nonprofessional\, self-supporting\, multiracial\, apolitical\, and available almost everywhere. There are no age or education requirements. Membership is open to anyone who wants to do something about his or her drinking problem.
URL:https://cpcedison.org/event/aa-2-2/2023-07-12/
LOCATION:Community Presbyterian Church\, 75 Glenville Rd.\, Edison\, NJ\, 08817 \, United States
CATEGORIES:AA
END:VEVENT
BEGIN:VEVENT
DTSTART;TZID=UTC:20230712T170000
DTEND;TZID=UTC:20230712T180000
DTSTAMP:20260423T113213
CREATED:20220413T183726Z
LAST-MODIFIED:20241214T213257Z
UID:10001696-1689181200-1689184800@cpcedison.org
SUMMARY:AA
DESCRIPTION:Alcoholic Anonymous (AA) meeting every Wednesday night at 5:00pm \nAlcoholics Anonymous is an international fellowship of men and women who have had a drinking problem. It is nonprofessional\, self-supporting\, multiracial\, apolitical\, and available almost everywhere. There are no age or education requirements. Membership is open to anyone who wants to do something about his or her drinking problem.
URL:https://cpcedison.org/event/aa-4/2023-07-12/
LOCATION:Community Presbyterian Church\, 75 Glenville Rd.\, Edison\, NJ\, 08817 \, United States
CATEGORIES:AA
END:VEVENT
BEGIN:VEVENT
DTSTART;TZID=America/New_York:20230707T193000
DTEND;TZID=America/New_York:20230707T203000
DTSTAMP:20260423T113213
CREATED:20231206T174739Z
LAST-MODIFIED:20231206T174847Z
UID:10010167-1688758200-1688761800@cpcedison.org
SUMMARY:AA
DESCRIPTION:Alcoholic Anonymous (AA) meeting every Friday night at 7:30pm \nAlcoholics Anonymous is an international fellowship of men and women who have had a drinking problem. It is nonprofessional\, self-supporting\, multiracial\, apolitical\, and available almost everywhere. There are no age or education requirements. Membership is open to anyone who wants to do something about his or her drinking problem.
URL:https://cpcedison.org/event/aa-3-2-2/2023-07-07/
LOCATION:Community Presbyterian Church\, 75 Glenville Rd.\, Edison\, NJ\, 08817 \, United States
CATEGORIES:AA
END:VEVENT
BEGIN:VEVENT
DTSTART;TZID=America/New_York:20230705T190000
DTEND;TZID=America/New_York:20230705T200000
DTSTAMP:20260423T113213
CREATED:20230322T174014Z
LAST-MODIFIED:20241214T213454Z
UID:10009873-1688583600-1688587200@cpcedison.org
SUMMARY:AA
DESCRIPTION:Alcoholic Anonymous (AA) meeting every Wednesday night at 7:00pm \nAlcoholics Anonymous is an international fellowship of men and women who have had a drinking problem. It is nonprofessional\, self-supporting\, multiracial\, apolitical\, and available almost everywhere. There are no age or education requirements. Membership is open to anyone who wants to do something about his or her drinking problem.
URL:https://cpcedison.org/event/aa-2-2/2023-07-05/
LOCATION:Community Presbyterian Church\, 75 Glenville Rd.\, Edison\, NJ\, 08817 \, United States
CATEGORIES:AA
END:VEVENT
BEGIN:VEVENT
DTSTART;TZID=UTC:20230705T170000
DTEND;TZID=UTC:20230705T180000
DTSTAMP:20260423T113213
CREATED:20220413T183726Z
LAST-MODIFIED:20241214T213257Z
UID:10001695-1688576400-1688580000@cpcedison.org
SUMMARY:AA
DESCRIPTION:Alcoholic Anonymous (AA) meeting every Wednesday night at 5:00pm \nAlcoholics Anonymous is an international fellowship of men and women who have had a drinking problem. It is nonprofessional\, self-supporting\, multiracial\, apolitical\, and available almost everywhere. There are no age or education requirements. Membership is open to anyone who wants to do something about his or her drinking problem.
URL:https://cpcedison.org/event/aa-4/2023-07-05/
LOCATION:Community Presbyterian Church\, 75 Glenville Rd.\, Edison\, NJ\, 08817 \, United States
CATEGORIES:AA
END:VEVENT
BEGIN:VEVENT
DTSTART;TZID=America/New_York:20230630T193000
DTEND;TZID=America/New_York:20230630T203000
DTSTAMP:20260423T113213
CREATED:20231206T174739Z
LAST-MODIFIED:20231206T174847Z
UID:10010166-1688153400-1688157000@cpcedison.org
SUMMARY:AA
DESCRIPTION:Alcoholic Anonymous (AA) meeting every Friday night at 7:30pm \nAlcoholics Anonymous is an international fellowship of men and women who have had a drinking problem. It is nonprofessional\, self-supporting\, multiracial\, apolitical\, and available almost everywhere. There are no age or education requirements. Membership is open to anyone who wants to do something about his or her drinking problem.
URL:https://cpcedison.org/event/aa-3-2-2/2023-06-30/
LOCATION:Community Presbyterian Church\, 75 Glenville Rd.\, Edison\, NJ\, 08817 \, United States
CATEGORIES:AA
END:VEVENT
BEGIN:VEVENT
DTSTART;TZID=America/New_York:20230628T190000
DTEND;TZID=America/New_York:20230628T200000
DTSTAMP:20260423T113213
CREATED:20230322T174014Z
LAST-MODIFIED:20241214T213454Z
UID:10009872-1687978800-1687982400@cpcedison.org
SUMMARY:AA
DESCRIPTION:Alcoholic Anonymous (AA) meeting every Wednesday night at 7:00pm \nAlcoholics Anonymous is an international fellowship of men and women who have had a drinking problem. It is nonprofessional\, self-supporting\, multiracial\, apolitical\, and available almost everywhere. There are no age or education requirements. Membership is open to anyone who wants to do something about his or her drinking problem.
URL:https://cpcedison.org/event/aa-2-2/2023-06-28/
LOCATION:Community Presbyterian Church\, 75 Glenville Rd.\, Edison\, NJ\, 08817 \, United States
CATEGORIES:AA
END:VEVENT
END:VCALENDAR