BEGIN:VCALENDAR
VERSION:2.0
PRODID:-//Community Presbyterian Church - Edison NJ - ECPv6.15.20//NONSGML v1.0//EN
CALSCALE:GREGORIAN
METHOD:PUBLISH
X-ORIGINAL-URL:https://cpcedison.org
X-WR-CALDESC:Events for Community Presbyterian Church - Edison NJ
REFRESH-INTERVAL;VALUE=DURATION:PT1H
X-Robots-Tag:noindex
X-PUBLISHED-TTL:PT1H
BEGIN:VTIMEZONE
TZID:UTC
BEGIN:STANDARD
TZOFFSETFROM:+0000
TZOFFSETTO:+0000
TZNAME:UTC
DTSTART:20220101T000000
END:STANDARD
END:VTIMEZONE
BEGIN:VTIMEZONE
TZID:America/New_York
BEGIN:DAYLIGHT
TZOFFSETFROM:-0500
TZOFFSETTO:-0400
TZNAME:EDT
DTSTART:20220313T070000
END:DAYLIGHT
BEGIN:STANDARD
TZOFFSETFROM:-0400
TZOFFSETTO:-0500
TZNAME:EST
DTSTART:20221106T060000
END:STANDARD
BEGIN:DAYLIGHT
TZOFFSETFROM:-0500
TZOFFSETTO:-0400
TZNAME:EDT
DTSTART:20230312T070000
END:DAYLIGHT
BEGIN:STANDARD
TZOFFSETFROM:-0400
TZOFFSETTO:-0500
TZNAME:EST
DTSTART:20231105T060000
END:STANDARD
BEGIN:DAYLIGHT
TZOFFSETFROM:-0500
TZOFFSETTO:-0400
TZNAME:EDT
DTSTART:20240310T070000
END:DAYLIGHT
BEGIN:STANDARD
TZOFFSETFROM:-0400
TZOFFSETTO:-0500
TZNAME:EST
DTSTART:20241103T060000
END:STANDARD
END:VTIMEZONE
BEGIN:VEVENT
DTSTART;TZID=UTC:20230628T170000
DTEND;TZID=UTC:20230628T180000
DTSTAMP:20260423T163846
CREATED:20220413T183726Z
LAST-MODIFIED:20241214T213257Z
UID:10001694-1687971600-1687975200@cpcedison.org
SUMMARY:AA
DESCRIPTION:Alcoholic Anonymous (AA) meeting every Wednesday night at 5:00pm \nAlcoholics Anonymous is an international fellowship of men and women who have had a drinking problem. It is nonprofessional\, self-supporting\, multiracial\, apolitical\, and available almost everywhere. There are no age or education requirements. Membership is open to anyone who wants to do something about his or her drinking problem.
URL:https://cpcedison.org/event/aa-4/2023-06-28/
LOCATION:Community Presbyterian Church\, 75 Glenville Rd.\, Edison\, NJ\, 08817 \, United States
CATEGORIES:AA
END:VEVENT
BEGIN:VEVENT
DTSTART;TZID=America/New_York:20230623T193000
DTEND;TZID=America/New_York:20230623T203000
DTSTAMP:20260423T163846
CREATED:20231206T174739Z
LAST-MODIFIED:20231206T174847Z
UID:10010165-1687548600-1687552200@cpcedison.org
SUMMARY:AA
DESCRIPTION:Alcoholic Anonymous (AA) meeting every Friday night at 7:30pm \nAlcoholics Anonymous is an international fellowship of men and women who have had a drinking problem. It is nonprofessional\, self-supporting\, multiracial\, apolitical\, and available almost everywhere. There are no age or education requirements. Membership is open to anyone who wants to do something about his or her drinking problem.
URL:https://cpcedison.org/event/aa-3-2-2/2023-06-23/
LOCATION:Community Presbyterian Church\, 75 Glenville Rd.\, Edison\, NJ\, 08817 \, United States
CATEGORIES:AA
END:VEVENT
BEGIN:VEVENT
DTSTART;TZID=America/New_York:20230621T190000
DTEND;TZID=America/New_York:20230621T200000
DTSTAMP:20260423T163846
CREATED:20230322T174014Z
LAST-MODIFIED:20241214T213454Z
UID:10009871-1687374000-1687377600@cpcedison.org
SUMMARY:AA
DESCRIPTION:Alcoholic Anonymous (AA) meeting every Wednesday night at 7:00pm \nAlcoholics Anonymous is an international fellowship of men and women who have had a drinking problem. It is nonprofessional\, self-supporting\, multiracial\, apolitical\, and available almost everywhere. There are no age or education requirements. Membership is open to anyone who wants to do something about his or her drinking problem.
URL:https://cpcedison.org/event/aa-2-2/2023-06-21/
LOCATION:Community Presbyterian Church\, 75 Glenville Rd.\, Edison\, NJ\, 08817 \, United States
CATEGORIES:AA
END:VEVENT
BEGIN:VEVENT
DTSTART;TZID=UTC:20230621T170000
DTEND;TZID=UTC:20230621T180000
DTSTAMP:20260423T163846
CREATED:20220413T183726Z
LAST-MODIFIED:20241214T213257Z
UID:10001693-1687366800-1687370400@cpcedison.org
SUMMARY:AA
DESCRIPTION:Alcoholic Anonymous (AA) meeting every Wednesday night at 5:00pm \nAlcoholics Anonymous is an international fellowship of men and women who have had a drinking problem. It is nonprofessional\, self-supporting\, multiracial\, apolitical\, and available almost everywhere. There are no age or education requirements. Membership is open to anyone who wants to do something about his or her drinking problem.
URL:https://cpcedison.org/event/aa-4/2023-06-21/
LOCATION:Community Presbyterian Church\, 75 Glenville Rd.\, Edison\, NJ\, 08817 \, United States
CATEGORIES:AA
END:VEVENT
BEGIN:VEVENT
DTSTART;TZID=America/New_York:20230616T193000
DTEND;TZID=America/New_York:20230616T203000
DTSTAMP:20260423T163846
CREATED:20231206T174739Z
LAST-MODIFIED:20231206T174847Z
UID:10010164-1686943800-1686947400@cpcedison.org
SUMMARY:AA
DESCRIPTION:Alcoholic Anonymous (AA) meeting every Friday night at 7:30pm \nAlcoholics Anonymous is an international fellowship of men and women who have had a drinking problem. It is nonprofessional\, self-supporting\, multiracial\, apolitical\, and available almost everywhere. There are no age or education requirements. Membership is open to anyone who wants to do something about his or her drinking problem.
URL:https://cpcedison.org/event/aa-3-2-2/2023-06-16/
LOCATION:Community Presbyterian Church\, 75 Glenville Rd.\, Edison\, NJ\, 08817 \, United States
CATEGORIES:AA
END:VEVENT
BEGIN:VEVENT
DTSTART;TZID=America/New_York:20230614T190000
DTEND;TZID=America/New_York:20230614T200000
DTSTAMP:20260423T163846
CREATED:20230322T174014Z
LAST-MODIFIED:20241214T213454Z
UID:10009870-1686769200-1686772800@cpcedison.org
SUMMARY:AA
DESCRIPTION:Alcoholic Anonymous (AA) meeting every Wednesday night at 7:00pm \nAlcoholics Anonymous is an international fellowship of men and women who have had a drinking problem. It is nonprofessional\, self-supporting\, multiracial\, apolitical\, and available almost everywhere. There are no age or education requirements. Membership is open to anyone who wants to do something about his or her drinking problem.
URL:https://cpcedison.org/event/aa-2-2/2023-06-14/
LOCATION:Community Presbyterian Church\, 75 Glenville Rd.\, Edison\, NJ\, 08817 \, United States
CATEGORIES:AA
END:VEVENT
BEGIN:VEVENT
DTSTART;TZID=UTC:20230614T170000
DTEND;TZID=UTC:20230614T180000
DTSTAMP:20260423T163846
CREATED:20220413T183726Z
LAST-MODIFIED:20241214T213257Z
UID:10001692-1686762000-1686765600@cpcedison.org
SUMMARY:AA
DESCRIPTION:Alcoholic Anonymous (AA) meeting every Wednesday night at 5:00pm \nAlcoholics Anonymous is an international fellowship of men and women who have had a drinking problem. It is nonprofessional\, self-supporting\, multiracial\, apolitical\, and available almost everywhere. There are no age or education requirements. Membership is open to anyone who wants to do something about his or her drinking problem.
URL:https://cpcedison.org/event/aa-4/2023-06-14/
LOCATION:Community Presbyterian Church\, 75 Glenville Rd.\, Edison\, NJ\, 08817 \, United States
CATEGORIES:AA
END:VEVENT
BEGIN:VEVENT
DTSTART;TZID=America/New_York:20230609T193000
DTEND;TZID=America/New_York:20230609T203000
DTSTAMP:20260423T163846
CREATED:20231206T174739Z
LAST-MODIFIED:20231206T174847Z
UID:10010163-1686339000-1686342600@cpcedison.org
SUMMARY:AA
DESCRIPTION:Alcoholic Anonymous (AA) meeting every Friday night at 7:30pm \nAlcoholics Anonymous is an international fellowship of men and women who have had a drinking problem. It is nonprofessional\, self-supporting\, multiracial\, apolitical\, and available almost everywhere. There are no age or education requirements. Membership is open to anyone who wants to do something about his or her drinking problem.
URL:https://cpcedison.org/event/aa-3-2-2/2023-06-09/
LOCATION:Community Presbyterian Church\, 75 Glenville Rd.\, Edison\, NJ\, 08817 \, United States
CATEGORIES:AA
END:VEVENT
BEGIN:VEVENT
DTSTART;TZID=America/New_York:20230607T190000
DTEND;TZID=America/New_York:20230607T200000
DTSTAMP:20260423T163846
CREATED:20230322T174014Z
LAST-MODIFIED:20241214T213454Z
UID:10009869-1686164400-1686168000@cpcedison.org
SUMMARY:AA
DESCRIPTION:Alcoholic Anonymous (AA) meeting every Wednesday night at 7:00pm \nAlcoholics Anonymous is an international fellowship of men and women who have had a drinking problem. It is nonprofessional\, self-supporting\, multiracial\, apolitical\, and available almost everywhere. There are no age or education requirements. Membership is open to anyone who wants to do something about his or her drinking problem.
URL:https://cpcedison.org/event/aa-2-2/2023-06-07/
LOCATION:Community Presbyterian Church\, 75 Glenville Rd.\, Edison\, NJ\, 08817 \, United States
CATEGORIES:AA
END:VEVENT
BEGIN:VEVENT
DTSTART;TZID=UTC:20230607T170000
DTEND;TZID=UTC:20230607T180000
DTSTAMP:20260423T163846
CREATED:20220413T183726Z
LAST-MODIFIED:20241214T213257Z
UID:10001691-1686157200-1686160800@cpcedison.org
SUMMARY:AA
DESCRIPTION:Alcoholic Anonymous (AA) meeting every Wednesday night at 5:00pm \nAlcoholics Anonymous is an international fellowship of men and women who have had a drinking problem. It is nonprofessional\, self-supporting\, multiracial\, apolitical\, and available almost everywhere. There are no age or education requirements. Membership is open to anyone who wants to do something about his or her drinking problem.
URL:https://cpcedison.org/event/aa-4/2023-06-07/
LOCATION:Community Presbyterian Church\, 75 Glenville Rd.\, Edison\, NJ\, 08817 \, United States
CATEGORIES:AA
END:VEVENT
BEGIN:VEVENT
DTSTART;TZID=America/New_York:20230602T193000
DTEND;TZID=America/New_York:20230602T203000
DTSTAMP:20260423T163846
CREATED:20231206T174739Z
LAST-MODIFIED:20231206T174847Z
UID:10010162-1685734200-1685737800@cpcedison.org
SUMMARY:AA
DESCRIPTION:Alcoholic Anonymous (AA) meeting every Friday night at 7:30pm \nAlcoholics Anonymous is an international fellowship of men and women who have had a drinking problem. It is nonprofessional\, self-supporting\, multiracial\, apolitical\, and available almost everywhere. There are no age or education requirements. Membership is open to anyone who wants to do something about his or her drinking problem.
URL:https://cpcedison.org/event/aa-3-2-2/2023-06-02/
LOCATION:Community Presbyterian Church\, 75 Glenville Rd.\, Edison\, NJ\, 08817 \, United States
CATEGORIES:AA
END:VEVENT
BEGIN:VEVENT
DTSTART;TZID=America/New_York:20230531T190000
DTEND;TZID=America/New_York:20230531T200000
DTSTAMP:20260423T163846
CREATED:20230322T174014Z
LAST-MODIFIED:20241214T213454Z
UID:10009868-1685559600-1685563200@cpcedison.org
SUMMARY:AA
DESCRIPTION:Alcoholic Anonymous (AA) meeting every Wednesday night at 7:00pm \nAlcoholics Anonymous is an international fellowship of men and women who have had a drinking problem. It is nonprofessional\, self-supporting\, multiracial\, apolitical\, and available almost everywhere. There are no age or education requirements. Membership is open to anyone who wants to do something about his or her drinking problem.
URL:https://cpcedison.org/event/aa-2-2/2023-05-31/
LOCATION:Community Presbyterian Church\, 75 Glenville Rd.\, Edison\, NJ\, 08817 \, United States
CATEGORIES:AA
END:VEVENT
BEGIN:VEVENT
DTSTART;TZID=UTC:20230531T170000
DTEND;TZID=UTC:20230531T180000
DTSTAMP:20260423T163846
CREATED:20220413T183726Z
LAST-MODIFIED:20241214T213257Z
UID:10001690-1685552400-1685556000@cpcedison.org
SUMMARY:AA
DESCRIPTION:Alcoholic Anonymous (AA) meeting every Wednesday night at 5:00pm \nAlcoholics Anonymous is an international fellowship of men and women who have had a drinking problem. It is nonprofessional\, self-supporting\, multiracial\, apolitical\, and available almost everywhere. There are no age or education requirements. Membership is open to anyone who wants to do something about his or her drinking problem.
URL:https://cpcedison.org/event/aa-4/2023-05-31/
LOCATION:Community Presbyterian Church\, 75 Glenville Rd.\, Edison\, NJ\, 08817 \, United States
CATEGORIES:AA
END:VEVENT
BEGIN:VEVENT
DTSTART;TZID=America/New_York:20230526T193000
DTEND;TZID=America/New_York:20230526T203000
DTSTAMP:20260423T163846
CREATED:20231206T174739Z
LAST-MODIFIED:20231206T174847Z
UID:10010161-1685129400-1685133000@cpcedison.org
SUMMARY:AA
DESCRIPTION:Alcoholic Anonymous (AA) meeting every Friday night at 7:30pm \nAlcoholics Anonymous is an international fellowship of men and women who have had a drinking problem. It is nonprofessional\, self-supporting\, multiracial\, apolitical\, and available almost everywhere. There are no age or education requirements. Membership is open to anyone who wants to do something about his or her drinking problem.
URL:https://cpcedison.org/event/aa-3-2-2/2023-05-26/
LOCATION:Community Presbyterian Church\, 75 Glenville Rd.\, Edison\, NJ\, 08817 \, United States
CATEGORIES:AA
END:VEVENT
BEGIN:VEVENT
DTSTART;TZID=America/New_York:20230524T190000
DTEND;TZID=America/New_York:20230524T200000
DTSTAMP:20260423T163846
CREATED:20230322T174014Z
LAST-MODIFIED:20241214T213454Z
UID:10009867-1684954800-1684958400@cpcedison.org
SUMMARY:AA
DESCRIPTION:Alcoholic Anonymous (AA) meeting every Wednesday night at 7:00pm \nAlcoholics Anonymous is an international fellowship of men and women who have had a drinking problem. It is nonprofessional\, self-supporting\, multiracial\, apolitical\, and available almost everywhere. There are no age or education requirements. Membership is open to anyone who wants to do something about his or her drinking problem.
URL:https://cpcedison.org/event/aa-2-2/2023-05-24/
LOCATION:Community Presbyterian Church\, 75 Glenville Rd.\, Edison\, NJ\, 08817 \, United States
CATEGORIES:AA
END:VEVENT
BEGIN:VEVENT
DTSTART;TZID=UTC:20230524T170000
DTEND;TZID=UTC:20230524T180000
DTSTAMP:20260423T163846
CREATED:20220413T183726Z
LAST-MODIFIED:20241214T213257Z
UID:10001689-1684947600-1684951200@cpcedison.org
SUMMARY:AA
DESCRIPTION:Alcoholic Anonymous (AA) meeting every Wednesday night at 5:00pm \nAlcoholics Anonymous is an international fellowship of men and women who have had a drinking problem. It is nonprofessional\, self-supporting\, multiracial\, apolitical\, and available almost everywhere. There are no age or education requirements. Membership is open to anyone who wants to do something about his or her drinking problem.
URL:https://cpcedison.org/event/aa-4/2023-05-24/
LOCATION:Community Presbyterian Church\, 75 Glenville Rd.\, Edison\, NJ\, 08817 \, United States
CATEGORIES:AA
END:VEVENT
BEGIN:VEVENT
DTSTART;TZID=America/New_York:20230519T193000
DTEND;TZID=America/New_York:20230519T203000
DTSTAMP:20260423T163846
CREATED:20231206T174739Z
LAST-MODIFIED:20231206T174847Z
UID:10010160-1684524600-1684528200@cpcedison.org
SUMMARY:AA
DESCRIPTION:Alcoholic Anonymous (AA) meeting every Friday night at 7:30pm \nAlcoholics Anonymous is an international fellowship of men and women who have had a drinking problem. It is nonprofessional\, self-supporting\, multiracial\, apolitical\, and available almost everywhere. There are no age or education requirements. Membership is open to anyone who wants to do something about his or her drinking problem.
URL:https://cpcedison.org/event/aa-3-2-2/2023-05-19/
LOCATION:Community Presbyterian Church\, 75 Glenville Rd.\, Edison\, NJ\, 08817 \, United States
CATEGORIES:AA
END:VEVENT
BEGIN:VEVENT
DTSTART;TZID=America/New_York:20230517T190000
DTEND;TZID=America/New_York:20230517T200000
DTSTAMP:20260423T163846
CREATED:20230322T174014Z
LAST-MODIFIED:20241214T213454Z
UID:10009866-1684350000-1684353600@cpcedison.org
SUMMARY:AA
DESCRIPTION:Alcoholic Anonymous (AA) meeting every Wednesday night at 7:00pm \nAlcoholics Anonymous is an international fellowship of men and women who have had a drinking problem. It is nonprofessional\, self-supporting\, multiracial\, apolitical\, and available almost everywhere. There are no age or education requirements. Membership is open to anyone who wants to do something about his or her drinking problem.
URL:https://cpcedison.org/event/aa-2-2/2023-05-17/
LOCATION:Community Presbyterian Church\, 75 Glenville Rd.\, Edison\, NJ\, 08817 \, United States
CATEGORIES:AA
END:VEVENT
BEGIN:VEVENT
DTSTART;TZID=UTC:20230517T170000
DTEND;TZID=UTC:20230517T180000
DTSTAMP:20260423T163846
CREATED:20220413T183726Z
LAST-MODIFIED:20241214T213257Z
UID:10001688-1684342800-1684346400@cpcedison.org
SUMMARY:AA
DESCRIPTION:Alcoholic Anonymous (AA) meeting every Wednesday night at 5:00pm \nAlcoholics Anonymous is an international fellowship of men and women who have had a drinking problem. It is nonprofessional\, self-supporting\, multiracial\, apolitical\, and available almost everywhere. There are no age or education requirements. Membership is open to anyone who wants to do something about his or her drinking problem.
URL:https://cpcedison.org/event/aa-4/2023-05-17/
LOCATION:Community Presbyterian Church\, 75 Glenville Rd.\, Edison\, NJ\, 08817 \, United States
CATEGORIES:AA
END:VEVENT
BEGIN:VEVENT
DTSTART;TZID=America/New_York:20230512T193000
DTEND;TZID=America/New_York:20230512T203000
DTSTAMP:20260423T163846
CREATED:20231206T174739Z
LAST-MODIFIED:20231206T174847Z
UID:10010159-1683919800-1683923400@cpcedison.org
SUMMARY:AA
DESCRIPTION:Alcoholic Anonymous (AA) meeting every Friday night at 7:30pm \nAlcoholics Anonymous is an international fellowship of men and women who have had a drinking problem. It is nonprofessional\, self-supporting\, multiracial\, apolitical\, and available almost everywhere. There are no age or education requirements. Membership is open to anyone who wants to do something about his or her drinking problem.
URL:https://cpcedison.org/event/aa-3-2-2/2023-05-12/
LOCATION:Community Presbyterian Church\, 75 Glenville Rd.\, Edison\, NJ\, 08817 \, United States
CATEGORIES:AA
END:VEVENT
BEGIN:VEVENT
DTSTART;TZID=America/New_York:20230510T190000
DTEND;TZID=America/New_York:20230510T200000
DTSTAMP:20260423T163846
CREATED:20230322T174014Z
LAST-MODIFIED:20241214T213454Z
UID:10009865-1683745200-1683748800@cpcedison.org
SUMMARY:AA
DESCRIPTION:Alcoholic Anonymous (AA) meeting every Wednesday night at 7:00pm \nAlcoholics Anonymous is an international fellowship of men and women who have had a drinking problem. It is nonprofessional\, self-supporting\, multiracial\, apolitical\, and available almost everywhere. There are no age or education requirements. Membership is open to anyone who wants to do something about his or her drinking problem.
URL:https://cpcedison.org/event/aa-2-2/2023-05-10/
LOCATION:Community Presbyterian Church\, 75 Glenville Rd.\, Edison\, NJ\, 08817 \, United States
CATEGORIES:AA
END:VEVENT
BEGIN:VEVENT
DTSTART;TZID=UTC:20230510T170000
DTEND;TZID=UTC:20230510T180000
DTSTAMP:20260423T163846
CREATED:20220413T183726Z
LAST-MODIFIED:20241214T213257Z
UID:10001687-1683738000-1683741600@cpcedison.org
SUMMARY:AA
DESCRIPTION:Alcoholic Anonymous (AA) meeting every Wednesday night at 5:00pm \nAlcoholics Anonymous is an international fellowship of men and women who have had a drinking problem. It is nonprofessional\, self-supporting\, multiracial\, apolitical\, and available almost everywhere. There are no age or education requirements. Membership is open to anyone who wants to do something about his or her drinking problem.
URL:https://cpcedison.org/event/aa-4/2023-05-10/
LOCATION:Community Presbyterian Church\, 75 Glenville Rd.\, Edison\, NJ\, 08817 \, United States
CATEGORIES:AA
END:VEVENT
BEGIN:VEVENT
DTSTART;TZID=America/New_York:20230505T193000
DTEND;TZID=America/New_York:20230505T203000
DTSTAMP:20260423T163846
CREATED:20231206T174739Z
LAST-MODIFIED:20231206T174847Z
UID:10010158-1683315000-1683318600@cpcedison.org
SUMMARY:AA
DESCRIPTION:Alcoholic Anonymous (AA) meeting every Friday night at 7:30pm \nAlcoholics Anonymous is an international fellowship of men and women who have had a drinking problem. It is nonprofessional\, self-supporting\, multiracial\, apolitical\, and available almost everywhere. There are no age or education requirements. Membership is open to anyone who wants to do something about his or her drinking problem.
URL:https://cpcedison.org/event/aa-3-2-2/2023-05-05/
LOCATION:Community Presbyterian Church\, 75 Glenville Rd.\, Edison\, NJ\, 08817 \, United States
CATEGORIES:AA
END:VEVENT
BEGIN:VEVENT
DTSTART;TZID=America/New_York:20230503T190000
DTEND;TZID=America/New_York:20230503T200000
DTSTAMP:20260423T163846
CREATED:20230322T174014Z
LAST-MODIFIED:20241214T213454Z
UID:10009864-1683140400-1683144000@cpcedison.org
SUMMARY:AA
DESCRIPTION:Alcoholic Anonymous (AA) meeting every Wednesday night at 7:00pm \nAlcoholics Anonymous is an international fellowship of men and women who have had a drinking problem. It is nonprofessional\, self-supporting\, multiracial\, apolitical\, and available almost everywhere. There are no age or education requirements. Membership is open to anyone who wants to do something about his or her drinking problem.
URL:https://cpcedison.org/event/aa-2-2/2023-05-03/
LOCATION:Community Presbyterian Church\, 75 Glenville Rd.\, Edison\, NJ\, 08817 \, United States
CATEGORIES:AA
END:VEVENT
BEGIN:VEVENT
DTSTART;TZID=UTC:20230503T170000
DTEND;TZID=UTC:20230503T180000
DTSTAMP:20260423T163846
CREATED:20220413T183726Z
LAST-MODIFIED:20241214T213257Z
UID:10001686-1683133200-1683136800@cpcedison.org
SUMMARY:AA
DESCRIPTION:Alcoholic Anonymous (AA) meeting every Wednesday night at 5:00pm \nAlcoholics Anonymous is an international fellowship of men and women who have had a drinking problem. It is nonprofessional\, self-supporting\, multiracial\, apolitical\, and available almost everywhere. There are no age or education requirements. Membership is open to anyone who wants to do something about his or her drinking problem.
URL:https://cpcedison.org/event/aa-4/2023-05-03/
LOCATION:Community Presbyterian Church\, 75 Glenville Rd.\, Edison\, NJ\, 08817 \, United States
CATEGORIES:AA
END:VEVENT
BEGIN:VEVENT
DTSTART;TZID=America/New_York:20230428T193000
DTEND;TZID=America/New_York:20230428T203000
DTSTAMP:20260423T163846
CREATED:20231206T174739Z
LAST-MODIFIED:20231206T174847Z
UID:10010157-1682710200-1682713800@cpcedison.org
SUMMARY:AA
DESCRIPTION:Alcoholic Anonymous (AA) meeting every Friday night at 7:30pm \nAlcoholics Anonymous is an international fellowship of men and women who have had a drinking problem. It is nonprofessional\, self-supporting\, multiracial\, apolitical\, and available almost everywhere. There are no age or education requirements. Membership is open to anyone who wants to do something about his or her drinking problem.
URL:https://cpcedison.org/event/aa-3-2-2/2023-04-28/
LOCATION:Community Presbyterian Church\, 75 Glenville Rd.\, Edison\, NJ\, 08817 \, United States
CATEGORIES:AA
END:VEVENT
BEGIN:VEVENT
DTSTART;TZID=America/New_York:20230426T190000
DTEND;TZID=America/New_York:20230426T200000
DTSTAMP:20260423T163846
CREATED:20230322T174014Z
LAST-MODIFIED:20241214T213454Z
UID:10009863-1682535600-1682539200@cpcedison.org
SUMMARY:AA
DESCRIPTION:Alcoholic Anonymous (AA) meeting every Wednesday night at 7:00pm \nAlcoholics Anonymous is an international fellowship of men and women who have had a drinking problem. It is nonprofessional\, self-supporting\, multiracial\, apolitical\, and available almost everywhere. There are no age or education requirements. Membership is open to anyone who wants to do something about his or her drinking problem.
URL:https://cpcedison.org/event/aa-2-2/2023-04-26/
LOCATION:Community Presbyterian Church\, 75 Glenville Rd.\, Edison\, NJ\, 08817 \, United States
CATEGORIES:AA
END:VEVENT
BEGIN:VEVENT
DTSTART;TZID=UTC:20230426T170000
DTEND;TZID=UTC:20230426T180000
DTSTAMP:20260423T163846
CREATED:20220413T183726Z
LAST-MODIFIED:20241214T213257Z
UID:10001685-1682528400-1682532000@cpcedison.org
SUMMARY:AA
DESCRIPTION:Alcoholic Anonymous (AA) meeting every Wednesday night at 5:00pm \nAlcoholics Anonymous is an international fellowship of men and women who have had a drinking problem. It is nonprofessional\, self-supporting\, multiracial\, apolitical\, and available almost everywhere. There are no age or education requirements. Membership is open to anyone who wants to do something about his or her drinking problem.
URL:https://cpcedison.org/event/aa-4/2023-04-26/
LOCATION:Community Presbyterian Church\, 75 Glenville Rd.\, Edison\, NJ\, 08817 \, United States
CATEGORIES:AA
END:VEVENT
BEGIN:VEVENT
DTSTART;TZID=America/New_York:20230421T193000
DTEND;TZID=America/New_York:20230421T203000
DTSTAMP:20260423T163846
CREATED:20231206T174739Z
LAST-MODIFIED:20231206T174847Z
UID:10001745-1682105400-1682109000@cpcedison.org
SUMMARY:AA
DESCRIPTION:Alcoholic Anonymous (AA) meeting every Friday night at 7:30pm \nAlcoholics Anonymous is an international fellowship of men and women who have had a drinking problem. It is nonprofessional\, self-supporting\, multiracial\, apolitical\, and available almost everywhere. There are no age or education requirements. Membership is open to anyone who wants to do something about his or her drinking problem.
URL:https://cpcedison.org/event/aa-3-2-2/2023-04-21/
LOCATION:Community Presbyterian Church\, 75 Glenville Rd.\, Edison\, NJ\, 08817 \, United States
CATEGORIES:AA
END:VEVENT
BEGIN:VEVENT
DTSTART;TZID=America/New_York:20230419T190000
DTEND;TZID=America/New_York:20230419T200000
DTSTAMP:20260423T163846
CREATED:20230322T174014Z
LAST-MODIFIED:20241214T213454Z
UID:10009862-1681930800-1681934400@cpcedison.org
SUMMARY:AA
DESCRIPTION:Alcoholic Anonymous (AA) meeting every Wednesday night at 7:00pm \nAlcoholics Anonymous is an international fellowship of men and women who have had a drinking problem. It is nonprofessional\, self-supporting\, multiracial\, apolitical\, and available almost everywhere. There are no age or education requirements. Membership is open to anyone who wants to do something about his or her drinking problem.
URL:https://cpcedison.org/event/aa-2-2/2023-04-19/
LOCATION:Community Presbyterian Church\, 75 Glenville Rd.\, Edison\, NJ\, 08817 \, United States
CATEGORIES:AA
END:VEVENT
END:VCALENDAR