BEGIN:VCALENDAR
VERSION:2.0
PRODID:-//Community Presbyterian Church - Edison NJ - ECPv6.15.20//NONSGML v1.0//EN
CALSCALE:GREGORIAN
METHOD:PUBLISH
X-WR-CALNAME:Community Presbyterian Church - Edison NJ
X-ORIGINAL-URL:https://cpcedison.org
X-WR-CALDESC:Events for Community Presbyterian Church - Edison NJ
REFRESH-INTERVAL;VALUE=DURATION:PT1H
X-Robots-Tag:noindex
X-PUBLISHED-TTL:PT1H
BEGIN:VTIMEZONE
TZID:America/New_York
BEGIN:DAYLIGHT
TZOFFSETFROM:-0500
TZOFFSETTO:-0400
TZNAME:EDT
DTSTART:20210314T070000
END:DAYLIGHT
BEGIN:STANDARD
TZOFFSETFROM:-0400
TZOFFSETTO:-0500
TZNAME:EST
DTSTART:20211107T060000
END:STANDARD
BEGIN:DAYLIGHT
TZOFFSETFROM:-0500
TZOFFSETTO:-0400
TZNAME:EDT
DTSTART:20220313T070000
END:DAYLIGHT
BEGIN:STANDARD
TZOFFSETFROM:-0400
TZOFFSETTO:-0500
TZNAME:EST
DTSTART:20221106T060000
END:STANDARD
BEGIN:DAYLIGHT
TZOFFSETFROM:-0500
TZOFFSETTO:-0400
TZNAME:EDT
DTSTART:20230312T070000
END:DAYLIGHT
BEGIN:STANDARD
TZOFFSETFROM:-0400
TZOFFSETTO:-0500
TZNAME:EST
DTSTART:20231105T060000
END:STANDARD
BEGIN:DAYLIGHT
TZOFFSETFROM:-0500
TZOFFSETTO:-0400
TZNAME:EDT
DTSTART:20240310T070000
END:DAYLIGHT
BEGIN:STANDARD
TZOFFSETFROM:-0400
TZOFFSETTO:-0500
TZNAME:EST
DTSTART:20241103T060000
END:STANDARD
END:VTIMEZONE
BEGIN:VTIMEZONE
TZID:UTC
BEGIN:STANDARD
TZOFFSETFROM:+0000
TZOFFSETTO:+0000
TZNAME:UTC
DTSTART:20210101T000000
END:STANDARD
END:VTIMEZONE
BEGIN:VEVENT
DTSTART;TZID=America/New_York:20230324T193000
DTEND;TZID=America/New_York:20230324T203000
DTSTAMP:20260423T231827
CREATED:20230322T174244Z
LAST-MODIFIED:20230322T174245Z
UID:10000669-1679686200-1679689800@cpcedison.org
SUMMARY:AA
DESCRIPTION:Alcoholic Anonymous (AA) meeting every Friday night at 7:30pm \nAlcoholics Anonymous is an international fellowship of men and women who have had a drinking problem. It is nonprofessional\, self-supporting\, multiracial\, apolitical\, and available almost everywhere. There are no age or education requirements. Membership is open to anyone who wants to do something about his or her drinking problem.
URL:https://cpcedison.org/event/aa-3-2/2023-03-24/
LOCATION:Community Presbyterian Church\, 75 Glenville Rd.\, Edison\, NJ\, 08817 \, United States
CATEGORIES:AA
END:VEVENT
BEGIN:VEVENT
DTSTART;TZID=UTC:20230322T170000
DTEND;TZID=UTC:20230322T180000
DTSTAMP:20260423T231827
CREATED:20220413T183726Z
LAST-MODIFIED:20241214T213257Z
UID:10001680-1679504400-1679508000@cpcedison.org
SUMMARY:AA
DESCRIPTION:Alcoholic Anonymous (AA) meeting every Wednesday night at 5:00pm \nAlcoholics Anonymous is an international fellowship of men and women who have had a drinking problem. It is nonprofessional\, self-supporting\, multiracial\, apolitical\, and available almost everywhere. There are no age or education requirements. Membership is open to anyone who wants to do something about his or her drinking problem.
URL:https://cpcedison.org/event/aa-4/2023-03-22/
LOCATION:Community Presbyterian Church\, 75 Glenville Rd.\, Edison\, NJ\, 08817 \, United States
CATEGORIES:AA
END:VEVENT
BEGIN:VEVENT
DTSTART;TZID=UTC:20230315T170000
DTEND;TZID=UTC:20230315T180000
DTSTAMP:20260423T231827
CREATED:20220413T183726Z
LAST-MODIFIED:20241214T213257Z
UID:10001679-1678899600-1678903200@cpcedison.org
SUMMARY:AA
DESCRIPTION:Alcoholic Anonymous (AA) meeting every Wednesday night at 5:00pm \nAlcoholics Anonymous is an international fellowship of men and women who have had a drinking problem. It is nonprofessional\, self-supporting\, multiracial\, apolitical\, and available almost everywhere. There are no age or education requirements. Membership is open to anyone who wants to do something about his or her drinking problem.
URL:https://cpcedison.org/event/aa-4/2023-03-15/
LOCATION:Community Presbyterian Church\, 75 Glenville Rd.\, Edison\, NJ\, 08817 \, United States
CATEGORIES:AA
END:VEVENT
BEGIN:VEVENT
DTSTART;TZID=UTC:20230308T170000
DTEND;TZID=UTC:20230308T180000
DTSTAMP:20260423T231827
CREATED:20220413T183726Z
LAST-MODIFIED:20241214T213257Z
UID:10001678-1678294800-1678298400@cpcedison.org
SUMMARY:AA
DESCRIPTION:Alcoholic Anonymous (AA) meeting every Wednesday night at 5:00pm \nAlcoholics Anonymous is an international fellowship of men and women who have had a drinking problem. It is nonprofessional\, self-supporting\, multiracial\, apolitical\, and available almost everywhere. There are no age or education requirements. Membership is open to anyone who wants to do something about his or her drinking problem.
URL:https://cpcedison.org/event/aa-4/2023-03-08/
LOCATION:Community Presbyterian Church\, 75 Glenville Rd.\, Edison\, NJ\, 08817 \, United States
CATEGORIES:AA
END:VEVENT
BEGIN:VEVENT
DTSTART;TZID=UTC:20230301T170000
DTEND;TZID=UTC:20230301T180000
DTSTAMP:20260423T231827
CREATED:20220413T183726Z
LAST-MODIFIED:20241214T213257Z
UID:10001677-1677690000-1677693600@cpcedison.org
SUMMARY:AA
DESCRIPTION:Alcoholic Anonymous (AA) meeting every Wednesday night at 5:00pm \nAlcoholics Anonymous is an international fellowship of men and women who have had a drinking problem. It is nonprofessional\, self-supporting\, multiracial\, apolitical\, and available almost everywhere. There are no age or education requirements. Membership is open to anyone who wants to do something about his or her drinking problem.
URL:https://cpcedison.org/event/aa-4/2023-03-01/
LOCATION:Community Presbyterian Church\, 75 Glenville Rd.\, Edison\, NJ\, 08817 \, United States
CATEGORIES:AA
END:VEVENT
BEGIN:VEVENT
DTSTART;TZID=UTC:20230222T170000
DTEND;TZID=UTC:20230222T180000
DTSTAMP:20260423T231827
CREATED:20220413T183726Z
LAST-MODIFIED:20241214T213257Z
UID:10001676-1677085200-1677088800@cpcedison.org
SUMMARY:AA
DESCRIPTION:Alcoholic Anonymous (AA) meeting every Wednesday night at 5:00pm \nAlcoholics Anonymous is an international fellowship of men and women who have had a drinking problem. It is nonprofessional\, self-supporting\, multiracial\, apolitical\, and available almost everywhere. There are no age or education requirements. Membership is open to anyone who wants to do something about his or her drinking problem.
URL:https://cpcedison.org/event/aa-4/2023-02-22/
LOCATION:Community Presbyterian Church\, 75 Glenville Rd.\, Edison\, NJ\, 08817 \, United States
CATEGORIES:AA
END:VEVENT
BEGIN:VEVENT
DTSTART;TZID=UTC:20230215T170000
DTEND;TZID=UTC:20230215T180000
DTSTAMP:20260423T231827
CREATED:20220413T183726Z
LAST-MODIFIED:20241214T213257Z
UID:10001675-1676480400-1676484000@cpcedison.org
SUMMARY:AA
DESCRIPTION:Alcoholic Anonymous (AA) meeting every Wednesday night at 5:00pm \nAlcoholics Anonymous is an international fellowship of men and women who have had a drinking problem. It is nonprofessional\, self-supporting\, multiracial\, apolitical\, and available almost everywhere. There are no age or education requirements. Membership is open to anyone who wants to do something about his or her drinking problem.
URL:https://cpcedison.org/event/aa-4/2023-02-15/
LOCATION:Community Presbyterian Church\, 75 Glenville Rd.\, Edison\, NJ\, 08817 \, United States
CATEGORIES:AA
END:VEVENT
BEGIN:VEVENT
DTSTART;TZID=UTC:20230208T170000
DTEND;TZID=UTC:20230208T180000
DTSTAMP:20260423T231827
CREATED:20220413T183726Z
LAST-MODIFIED:20241214T213257Z
UID:10001674-1675875600-1675879200@cpcedison.org
SUMMARY:AA
DESCRIPTION:Alcoholic Anonymous (AA) meeting every Wednesday night at 5:00pm \nAlcoholics Anonymous is an international fellowship of men and women who have had a drinking problem. It is nonprofessional\, self-supporting\, multiracial\, apolitical\, and available almost everywhere. There are no age or education requirements. Membership is open to anyone who wants to do something about his or her drinking problem.
URL:https://cpcedison.org/event/aa-4/2023-02-08/
LOCATION:Community Presbyterian Church\, 75 Glenville Rd.\, Edison\, NJ\, 08817 \, United States
CATEGORIES:AA
END:VEVENT
BEGIN:VEVENT
DTSTART;TZID=UTC:20230201T170000
DTEND;TZID=UTC:20230201T180000
DTSTAMP:20260423T231827
CREATED:20220413T183726Z
LAST-MODIFIED:20241214T213257Z
UID:10001673-1675270800-1675274400@cpcedison.org
SUMMARY:AA
DESCRIPTION:Alcoholic Anonymous (AA) meeting every Wednesday night at 5:00pm \nAlcoholics Anonymous is an international fellowship of men and women who have had a drinking problem. It is nonprofessional\, self-supporting\, multiracial\, apolitical\, and available almost everywhere. There are no age or education requirements. Membership is open to anyone who wants to do something about his or her drinking problem.
URL:https://cpcedison.org/event/aa-4/2023-02-01/
LOCATION:Community Presbyterian Church\, 75 Glenville Rd.\, Edison\, NJ\, 08817 \, United States
CATEGORIES:AA
END:VEVENT
BEGIN:VEVENT
DTSTART;TZID=UTC:20230125T170000
DTEND;TZID=UTC:20230125T180000
DTSTAMP:20260423T231827
CREATED:20220413T183726Z
LAST-MODIFIED:20241214T213257Z
UID:10001672-1674666000-1674669600@cpcedison.org
SUMMARY:AA
DESCRIPTION:Alcoholic Anonymous (AA) meeting every Wednesday night at 5:00pm \nAlcoholics Anonymous is an international fellowship of men and women who have had a drinking problem. It is nonprofessional\, self-supporting\, multiracial\, apolitical\, and available almost everywhere. There are no age or education requirements. Membership is open to anyone who wants to do something about his or her drinking problem.
URL:https://cpcedison.org/event/aa-4/2023-01-25/
LOCATION:Community Presbyterian Church\, 75 Glenville Rd.\, Edison\, NJ\, 08817 \, United States
CATEGORIES:AA
END:VEVENT
BEGIN:VEVENT
DTSTART;TZID=UTC:20230118T170000
DTEND;TZID=UTC:20230118T180000
DTSTAMP:20260423T231827
CREATED:20220413T183726Z
LAST-MODIFIED:20241214T213257Z
UID:10001671-1674061200-1674064800@cpcedison.org
SUMMARY:AA
DESCRIPTION:Alcoholic Anonymous (AA) meeting every Wednesday night at 5:00pm \nAlcoholics Anonymous is an international fellowship of men and women who have had a drinking problem. It is nonprofessional\, self-supporting\, multiracial\, apolitical\, and available almost everywhere. There are no age or education requirements. Membership is open to anyone who wants to do something about his or her drinking problem.
URL:https://cpcedison.org/event/aa-4/2023-01-18/
LOCATION:Community Presbyterian Church\, 75 Glenville Rd.\, Edison\, NJ\, 08817 \, United States
CATEGORIES:AA
END:VEVENT
BEGIN:VEVENT
DTSTART;TZID=UTC:20230111T170000
DTEND;TZID=UTC:20230111T180000
DTSTAMP:20260423T231827
CREATED:20220413T183726Z
LAST-MODIFIED:20241214T213257Z
UID:10001670-1673456400-1673460000@cpcedison.org
SUMMARY:AA
DESCRIPTION:Alcoholic Anonymous (AA) meeting every Wednesday night at 5:00pm \nAlcoholics Anonymous is an international fellowship of men and women who have had a drinking problem. It is nonprofessional\, self-supporting\, multiracial\, apolitical\, and available almost everywhere. There are no age or education requirements. Membership is open to anyone who wants to do something about his or her drinking problem.
URL:https://cpcedison.org/event/aa-4/2023-01-11/
LOCATION:Community Presbyterian Church\, 75 Glenville Rd.\, Edison\, NJ\, 08817 \, United States
CATEGORIES:AA
END:VEVENT
BEGIN:VEVENT
DTSTART;TZID=UTC:20230104T170000
DTEND;TZID=UTC:20230104T180000
DTSTAMP:20260423T231827
CREATED:20220413T183726Z
LAST-MODIFIED:20241214T213257Z
UID:10001669-1672851600-1672855200@cpcedison.org
SUMMARY:AA
DESCRIPTION:Alcoholic Anonymous (AA) meeting every Wednesday night at 5:00pm \nAlcoholics Anonymous is an international fellowship of men and women who have had a drinking problem. It is nonprofessional\, self-supporting\, multiracial\, apolitical\, and available almost everywhere. There are no age or education requirements. Membership is open to anyone who wants to do something about his or her drinking problem.
URL:https://cpcedison.org/event/aa-4/2023-01-04/
LOCATION:Community Presbyterian Church\, 75 Glenville Rd.\, Edison\, NJ\, 08817 \, United States
CATEGORIES:AA
END:VEVENT
BEGIN:VEVENT
DTSTART;TZID=UTC:20221228T170000
DTEND;TZID=UTC:20221228T180000
DTSTAMP:20260423T231827
CREATED:20220413T183726Z
LAST-MODIFIED:20241214T213257Z
UID:10000926-1672246800-1672250400@cpcedison.org
SUMMARY:AA
DESCRIPTION:Alcoholic Anonymous (AA) meeting every Wednesday night at 5:00pm \nAlcoholics Anonymous is an international fellowship of men and women who have had a drinking problem. It is nonprofessional\, self-supporting\, multiracial\, apolitical\, and available almost everywhere. There are no age or education requirements. Membership is open to anyone who wants to do something about his or her drinking problem.
URL:https://cpcedison.org/event/aa-4/2022-12-28/
LOCATION:Community Presbyterian Church\, 75 Glenville Rd.\, Edison\, NJ\, 08817 \, United States
CATEGORIES:AA
END:VEVENT
BEGIN:VEVENT
DTSTART;TZID=America/New_York:20221221T190000
DTEND;TZID=America/New_York:20221221T200000
DTSTAMP:20260423T231827
CREATED:20211217T175740Z
LAST-MODIFIED:20220722T145213Z
UID:10000620-1671649200-1671652800@cpcedison.org
SUMMARY:AA
DESCRIPTION:Alcoholic Anonymous (AA) meeting every Wednesday night at 7:00pm \nAlcoholics Anonymous is an international fellowship of men and women who have had a drinking problem. It is nonprofessional\, self-supporting\, multiracial\, apolitical\, and available almost everywhere. There are no age or education requirements. Membership is open to anyone who wants to do something about his or her drinking problem.
URL:https://cpcedison.org/event/aa-2/2022-12-21/
LOCATION:Community Presbyterian Church\, 75 Glenville Rd.\, Edison\, NJ\, 08817 \, United States
CATEGORIES:AA
END:VEVENT
BEGIN:VEVENT
DTSTART;TZID=UTC:20221221T170000
DTEND;TZID=UTC:20221221T180000
DTSTAMP:20260423T231827
CREATED:20220413T183726Z
LAST-MODIFIED:20241214T213257Z
UID:10000925-1671642000-1671645600@cpcedison.org
SUMMARY:AA
DESCRIPTION:Alcoholic Anonymous (AA) meeting every Wednesday night at 5:00pm \nAlcoholics Anonymous is an international fellowship of men and women who have had a drinking problem. It is nonprofessional\, self-supporting\, multiracial\, apolitical\, and available almost everywhere. There are no age or education requirements. Membership is open to anyone who wants to do something about his or her drinking problem.
URL:https://cpcedison.org/event/aa-4/2022-12-21/
LOCATION:Community Presbyterian Church\, 75 Glenville Rd.\, Edison\, NJ\, 08817 \, United States
CATEGORIES:AA
END:VEVENT
BEGIN:VEVENT
DTSTART;TZID=America/New_York:20221214T190000
DTEND;TZID=America/New_York:20221214T200000
DTSTAMP:20260423T231827
CREATED:20211217T175740Z
LAST-MODIFIED:20220722T145213Z
UID:10000619-1671044400-1671048000@cpcedison.org
SUMMARY:AA
DESCRIPTION:Alcoholic Anonymous (AA) meeting every Wednesday night at 7:00pm \nAlcoholics Anonymous is an international fellowship of men and women who have had a drinking problem. It is nonprofessional\, self-supporting\, multiracial\, apolitical\, and available almost everywhere. There are no age or education requirements. Membership is open to anyone who wants to do something about his or her drinking problem.
URL:https://cpcedison.org/event/aa-2/2022-12-14/
LOCATION:Community Presbyterian Church\, 75 Glenville Rd.\, Edison\, NJ\, 08817 \, United States
CATEGORIES:AA
END:VEVENT
BEGIN:VEVENT
DTSTART;TZID=UTC:20221214T170000
DTEND;TZID=UTC:20221214T180000
DTSTAMP:20260423T231827
CREATED:20220413T183726Z
LAST-MODIFIED:20241214T213257Z
UID:10000924-1671037200-1671040800@cpcedison.org
SUMMARY:AA
DESCRIPTION:Alcoholic Anonymous (AA) meeting every Wednesday night at 5:00pm \nAlcoholics Anonymous is an international fellowship of men and women who have had a drinking problem. It is nonprofessional\, self-supporting\, multiracial\, apolitical\, and available almost everywhere. There are no age or education requirements. Membership is open to anyone who wants to do something about his or her drinking problem.
URL:https://cpcedison.org/event/aa-4/2022-12-14/
LOCATION:Community Presbyterian Church\, 75 Glenville Rd.\, Edison\, NJ\, 08817 \, United States
CATEGORIES:AA
END:VEVENT
BEGIN:VEVENT
DTSTART;TZID=America/New_York:20221207T190000
DTEND;TZID=America/New_York:20221207T200000
DTSTAMP:20260423T231827
CREATED:20211217T175740Z
LAST-MODIFIED:20220722T145213Z
UID:10000618-1670439600-1670443200@cpcedison.org
SUMMARY:AA
DESCRIPTION:Alcoholic Anonymous (AA) meeting every Wednesday night at 7:00pm \nAlcoholics Anonymous is an international fellowship of men and women who have had a drinking problem. It is nonprofessional\, self-supporting\, multiracial\, apolitical\, and available almost everywhere. There are no age or education requirements. Membership is open to anyone who wants to do something about his or her drinking problem.
URL:https://cpcedison.org/event/aa-2/2022-12-07/
LOCATION:Community Presbyterian Church\, 75 Glenville Rd.\, Edison\, NJ\, 08817 \, United States
CATEGORIES:AA
END:VEVENT
BEGIN:VEVENT
DTSTART;TZID=UTC:20221207T170000
DTEND;TZID=UTC:20221207T180000
DTSTAMP:20260423T231827
CREATED:20220413T183726Z
LAST-MODIFIED:20241214T213257Z
UID:10000923-1670432400-1670436000@cpcedison.org
SUMMARY:AA
DESCRIPTION:Alcoholic Anonymous (AA) meeting every Wednesday night at 5:00pm \nAlcoholics Anonymous is an international fellowship of men and women who have had a drinking problem. It is nonprofessional\, self-supporting\, multiracial\, apolitical\, and available almost everywhere. There are no age or education requirements. Membership is open to anyone who wants to do something about his or her drinking problem.
URL:https://cpcedison.org/event/aa-4/2022-12-07/
LOCATION:Community Presbyterian Church\, 75 Glenville Rd.\, Edison\, NJ\, 08817 \, United States
CATEGORIES:AA
END:VEVENT
BEGIN:VEVENT
DTSTART;TZID=America/New_York:20221130T190000
DTEND;TZID=America/New_York:20221130T200000
DTSTAMP:20260423T231827
CREATED:20211217T175740Z
LAST-MODIFIED:20220722T145213Z
UID:10000617-1669834800-1669838400@cpcedison.org
SUMMARY:AA
DESCRIPTION:Alcoholic Anonymous (AA) meeting every Wednesday night at 7:00pm \nAlcoholics Anonymous is an international fellowship of men and women who have had a drinking problem. It is nonprofessional\, self-supporting\, multiracial\, apolitical\, and available almost everywhere. There are no age or education requirements. Membership is open to anyone who wants to do something about his or her drinking problem.
URL:https://cpcedison.org/event/aa-2/2022-11-30/
LOCATION:Community Presbyterian Church\, 75 Glenville Rd.\, Edison\, NJ\, 08817 \, United States
CATEGORIES:AA
END:VEVENT
BEGIN:VEVENT
DTSTART;TZID=UTC:20221130T170000
DTEND;TZID=UTC:20221130T180000
DTSTAMP:20260423T231827
CREATED:20220413T183726Z
LAST-MODIFIED:20241214T213257Z
UID:10000922-1669827600-1669831200@cpcedison.org
SUMMARY:AA
DESCRIPTION:Alcoholic Anonymous (AA) meeting every Wednesday night at 5:00pm \nAlcoholics Anonymous is an international fellowship of men and women who have had a drinking problem. It is nonprofessional\, self-supporting\, multiracial\, apolitical\, and available almost everywhere. There are no age or education requirements. Membership is open to anyone who wants to do something about his or her drinking problem.
URL:https://cpcedison.org/event/aa-4/2022-11-30/
LOCATION:Community Presbyterian Church\, 75 Glenville Rd.\, Edison\, NJ\, 08817 \, United States
CATEGORIES:AA
END:VEVENT
BEGIN:VEVENT
DTSTART;TZID=America/New_York:20221123T190000
DTEND;TZID=America/New_York:20221123T200000
DTSTAMP:20260423T231827
CREATED:20211217T175740Z
LAST-MODIFIED:20220722T145213Z
UID:10000616-1669230000-1669233600@cpcedison.org
SUMMARY:AA
DESCRIPTION:Alcoholic Anonymous (AA) meeting every Wednesday night at 7:00pm \nAlcoholics Anonymous is an international fellowship of men and women who have had a drinking problem. It is nonprofessional\, self-supporting\, multiracial\, apolitical\, and available almost everywhere. There are no age or education requirements. Membership is open to anyone who wants to do something about his or her drinking problem.
URL:https://cpcedison.org/event/aa-2/2022-11-23/
LOCATION:Community Presbyterian Church\, 75 Glenville Rd.\, Edison\, NJ\, 08817 \, United States
CATEGORIES:AA
END:VEVENT
BEGIN:VEVENT
DTSTART;TZID=UTC:20221123T170000
DTEND;TZID=UTC:20221123T180000
DTSTAMP:20260423T231827
CREATED:20220413T183726Z
LAST-MODIFIED:20241214T213257Z
UID:10000921-1669222800-1669226400@cpcedison.org
SUMMARY:AA
DESCRIPTION:Alcoholic Anonymous (AA) meeting every Wednesday night at 5:00pm \nAlcoholics Anonymous is an international fellowship of men and women who have had a drinking problem. It is nonprofessional\, self-supporting\, multiracial\, apolitical\, and available almost everywhere. There are no age or education requirements. Membership is open to anyone who wants to do something about his or her drinking problem.
URL:https://cpcedison.org/event/aa-4/2022-11-23/
LOCATION:Community Presbyterian Church\, 75 Glenville Rd.\, Edison\, NJ\, 08817 \, United States
CATEGORIES:AA
END:VEVENT
BEGIN:VEVENT
DTSTART;TZID=America/New_York:20221116T190000
DTEND;TZID=America/New_York:20221116T200000
DTSTAMP:20260423T231827
CREATED:20211217T175740Z
LAST-MODIFIED:20220722T145213Z
UID:10000615-1668625200-1668628800@cpcedison.org
SUMMARY:AA
DESCRIPTION:Alcoholic Anonymous (AA) meeting every Wednesday night at 7:00pm \nAlcoholics Anonymous is an international fellowship of men and women who have had a drinking problem. It is nonprofessional\, self-supporting\, multiracial\, apolitical\, and available almost everywhere. There are no age or education requirements. Membership is open to anyone who wants to do something about his or her drinking problem.
URL:https://cpcedison.org/event/aa-2/2022-11-16/
LOCATION:Community Presbyterian Church\, 75 Glenville Rd.\, Edison\, NJ\, 08817 \, United States
CATEGORIES:AA
END:VEVENT
BEGIN:VEVENT
DTSTART;TZID=UTC:20221116T170000
DTEND;TZID=UTC:20221116T180000
DTSTAMP:20260423T231827
CREATED:20220413T183726Z
LAST-MODIFIED:20241214T213257Z
UID:10000920-1668618000-1668621600@cpcedison.org
SUMMARY:AA
DESCRIPTION:Alcoholic Anonymous (AA) meeting every Wednesday night at 5:00pm \nAlcoholics Anonymous is an international fellowship of men and women who have had a drinking problem. It is nonprofessional\, self-supporting\, multiracial\, apolitical\, and available almost everywhere. There are no age or education requirements. Membership is open to anyone who wants to do something about his or her drinking problem.
URL:https://cpcedison.org/event/aa-4/2022-11-16/
LOCATION:Community Presbyterian Church\, 75 Glenville Rd.\, Edison\, NJ\, 08817 \, United States
CATEGORIES:AA
END:VEVENT
BEGIN:VEVENT
DTSTART;TZID=America/New_York:20221109T190000
DTEND;TZID=America/New_York:20221109T200000
DTSTAMP:20260423T231827
CREATED:20211217T175740Z
LAST-MODIFIED:20220722T145213Z
UID:10000614-1668020400-1668024000@cpcedison.org
SUMMARY:AA
DESCRIPTION:Alcoholic Anonymous (AA) meeting every Wednesday night at 7:00pm \nAlcoholics Anonymous is an international fellowship of men and women who have had a drinking problem. It is nonprofessional\, self-supporting\, multiracial\, apolitical\, and available almost everywhere. There are no age or education requirements. Membership is open to anyone who wants to do something about his or her drinking problem.
URL:https://cpcedison.org/event/aa-2/2022-11-09/
LOCATION:Community Presbyterian Church\, 75 Glenville Rd.\, Edison\, NJ\, 08817 \, United States
CATEGORIES:AA
END:VEVENT
BEGIN:VEVENT
DTSTART;TZID=UTC:20221109T170000
DTEND;TZID=UTC:20221109T180000
DTSTAMP:20260423T231827
CREATED:20220413T183726Z
LAST-MODIFIED:20241214T213257Z
UID:10000919-1668013200-1668016800@cpcedison.org
SUMMARY:AA
DESCRIPTION:Alcoholic Anonymous (AA) meeting every Wednesday night at 5:00pm \nAlcoholics Anonymous is an international fellowship of men and women who have had a drinking problem. It is nonprofessional\, self-supporting\, multiracial\, apolitical\, and available almost everywhere. There are no age or education requirements. Membership is open to anyone who wants to do something about his or her drinking problem.
URL:https://cpcedison.org/event/aa-4/2022-11-09/
LOCATION:Community Presbyterian Church\, 75 Glenville Rd.\, Edison\, NJ\, 08817 \, United States
CATEGORIES:AA
END:VEVENT
BEGIN:VEVENT
DTSTART;TZID=America/New_York:20221102T190000
DTEND;TZID=America/New_York:20221102T200000
DTSTAMP:20260423T231827
CREATED:20211217T175740Z
LAST-MODIFIED:20220722T145213Z
UID:10000613-1667415600-1667419200@cpcedison.org
SUMMARY:AA
DESCRIPTION:Alcoholic Anonymous (AA) meeting every Wednesday night at 7:00pm \nAlcoholics Anonymous is an international fellowship of men and women who have had a drinking problem. It is nonprofessional\, self-supporting\, multiracial\, apolitical\, and available almost everywhere. There are no age or education requirements. Membership is open to anyone who wants to do something about his or her drinking problem.
URL:https://cpcedison.org/event/aa-2/2022-11-02/
LOCATION:Community Presbyterian Church\, 75 Glenville Rd.\, Edison\, NJ\, 08817 \, United States
CATEGORIES:AA
END:VEVENT
BEGIN:VEVENT
DTSTART;TZID=UTC:20221102T170000
DTEND;TZID=UTC:20221102T180000
DTSTAMP:20260423T231827
CREATED:20220413T183726Z
LAST-MODIFIED:20241214T213257Z
UID:10000918-1667408400-1667412000@cpcedison.org
SUMMARY:AA
DESCRIPTION:Alcoholic Anonymous (AA) meeting every Wednesday night at 5:00pm \nAlcoholics Anonymous is an international fellowship of men and women who have had a drinking problem. It is nonprofessional\, self-supporting\, multiracial\, apolitical\, and available almost everywhere. There are no age or education requirements. Membership is open to anyone who wants to do something about his or her drinking problem.
URL:https://cpcedison.org/event/aa-4/2022-11-02/
LOCATION:Community Presbyterian Church\, 75 Glenville Rd.\, Edison\, NJ\, 08817 \, United States
CATEGORIES:AA
END:VEVENT
END:VCALENDAR