BEGIN:VCALENDAR
VERSION:2.0
PRODID:-//Community Presbyterian Church - Edison NJ - ECPv6.15.20//NONSGML v1.0//EN
CALSCALE:GREGORIAN
METHOD:PUBLISH
X-ORIGINAL-URL:https://cpcedison.org
X-WR-CALDESC:Events for Community Presbyterian Church - Edison NJ
REFRESH-INTERVAL;VALUE=DURATION:PT1H
X-Robots-Tag:noindex
X-PUBLISHED-TTL:PT1H
BEGIN:VTIMEZONE
TZID:America/New_York
BEGIN:DAYLIGHT
TZOFFSETFROM:-0500
TZOFFSETTO:-0400
TZNAME:EDT
DTSTART:20220313T070000
END:DAYLIGHT
BEGIN:STANDARD
TZOFFSETFROM:-0400
TZOFFSETTO:-0500
TZNAME:EST
DTSTART:20221106T060000
END:STANDARD
BEGIN:DAYLIGHT
TZOFFSETFROM:-0500
TZOFFSETTO:-0400
TZNAME:EDT
DTSTART:20230312T070000
END:DAYLIGHT
BEGIN:STANDARD
TZOFFSETFROM:-0400
TZOFFSETTO:-0500
TZNAME:EST
DTSTART:20231105T060000
END:STANDARD
BEGIN:DAYLIGHT
TZOFFSETFROM:-0500
TZOFFSETTO:-0400
TZNAME:EDT
DTSTART:20240310T070000
END:DAYLIGHT
BEGIN:STANDARD
TZOFFSETFROM:-0400
TZOFFSETTO:-0500
TZNAME:EST
DTSTART:20241103T060000
END:STANDARD
END:VTIMEZONE
BEGIN:VEVENT
DTSTART;TZID=America/New_York:20231004T100000
DTEND;TZID=America/New_York:20231004T110000
DTSTAMP:20260425T210626
CREATED:20230322T171503Z
LAST-MODIFIED:20240327T153322Z
UID:10001328-1696413600-1696417200@cpcedison.org
SUMMARY:Wednesday Morning Bible Study
DESCRIPTION:The study recaps can be viewed on both our Facebook page and YouTube channel. \nAdditional Bible Studies are provided throughout the year. Join our email list to be kept up to date for the latest studies.
URL:https://cpcedison.org/event/wednesday-morning-bible-study-2-2/2023-10-04/
LOCATION:Community Presbyterian Church\, 75 Glenville Rd.\, Edison\, NJ\, 08817 \, United States
CATEGORIES:Bible Study
ATTACH;FMTTYPE=image/jpeg:https://cpcedison.org/wp-content/uploads/2017/08/adultstudy.jpg
END:VEVENT
BEGIN:VEVENT
DTSTART;TZID=America/New_York:20231011T100000
DTEND;TZID=America/New_York:20231011T110000
DTSTAMP:20260425T210626
CREATED:20230322T171503Z
LAST-MODIFIED:20240327T153322Z
UID:10001329-1697018400-1697022000@cpcedison.org
SUMMARY:Wednesday Morning Bible Study
DESCRIPTION:The study recaps can be viewed on both our Facebook page and YouTube channel. \nAdditional Bible Studies are provided throughout the year. Join our email list to be kept up to date for the latest studies.
URL:https://cpcedison.org/event/wednesday-morning-bible-study-2-2/2023-10-11/
LOCATION:Community Presbyterian Church\, 75 Glenville Rd.\, Edison\, NJ\, 08817 \, United States
CATEGORIES:Bible Study
ATTACH;FMTTYPE=image/jpeg:https://cpcedison.org/wp-content/uploads/2017/08/adultstudy.jpg
END:VEVENT
BEGIN:VEVENT
DTSTART;TZID=America/New_York:20231018T100000
DTEND;TZID=America/New_York:20231018T110000
DTSTAMP:20260425T210626
CREATED:20230322T171503Z
LAST-MODIFIED:20240327T153322Z
UID:10001330-1697623200-1697626800@cpcedison.org
SUMMARY:Wednesday Morning Bible Study
DESCRIPTION:The study recaps can be viewed on both our Facebook page and YouTube channel. \nAdditional Bible Studies are provided throughout the year. Join our email list to be kept up to date for the latest studies.
URL:https://cpcedison.org/event/wednesday-morning-bible-study-2-2/2023-10-18/
LOCATION:Community Presbyterian Church\, 75 Glenville Rd.\, Edison\, NJ\, 08817 \, United States
CATEGORIES:Bible Study
ATTACH;FMTTYPE=image/jpeg:https://cpcedison.org/wp-content/uploads/2017/08/adultstudy.jpg
END:VEVENT
BEGIN:VEVENT
DTSTART;TZID=America/New_York:20231025T100000
DTEND;TZID=America/New_York:20231025T110000
DTSTAMP:20260425T210626
CREATED:20230322T171503Z
LAST-MODIFIED:20240327T153322Z
UID:10001331-1698228000-1698231600@cpcedison.org
SUMMARY:Wednesday Morning Bible Study
DESCRIPTION:The study recaps can be viewed on both our Facebook page and YouTube channel. \nAdditional Bible Studies are provided throughout the year. Join our email list to be kept up to date for the latest studies.
URL:https://cpcedison.org/event/wednesday-morning-bible-study-2-2/2023-10-25/
LOCATION:Community Presbyterian Church\, 75 Glenville Rd.\, Edison\, NJ\, 08817 \, United States
CATEGORIES:Bible Study
ATTACH;FMTTYPE=image/jpeg:https://cpcedison.org/wp-content/uploads/2017/08/adultstudy.jpg
END:VEVENT
END:VCALENDAR