BEGIN:VCALENDAR
VERSION:2.0
PRODID:-//Community Presbyterian Church - Edison NJ - ECPv6.15.20//NONSGML v1.0//EN
CALSCALE:GREGORIAN
METHOD:PUBLISH
X-ORIGINAL-URL:https://cpcedison.org
X-WR-CALDESC:Events for Community Presbyterian Church - Edison NJ
REFRESH-INTERVAL;VALUE=DURATION:PT1H
X-Robots-Tag:noindex
X-PUBLISHED-TTL:PT1H
BEGIN:VTIMEZONE
TZID:America/New_York
BEGIN:DAYLIGHT
TZOFFSETFROM:-0500
TZOFFSETTO:-0400
TZNAME:EDT
DTSTART:20280312T070000
END:DAYLIGHT
BEGIN:STANDARD
TZOFFSETFROM:-0400
TZOFFSETTO:-0500
TZNAME:EST
DTSTART:20281105T060000
END:STANDARD
BEGIN:DAYLIGHT
TZOFFSETFROM:-0500
TZOFFSETTO:-0400
TZNAME:EDT
DTSTART:20290311T070000
END:DAYLIGHT
BEGIN:STANDARD
TZOFFSETFROM:-0400
TZOFFSETTO:-0500
TZNAME:EST
DTSTART:20291104T060000
END:STANDARD
BEGIN:DAYLIGHT
TZOFFSETFROM:-0500
TZOFFSETTO:-0400
TZNAME:EDT
DTSTART:20300310T070000
END:DAYLIGHT
BEGIN:STANDARD
TZOFFSETFROM:-0400
TZOFFSETTO:-0500
TZNAME:EST
DTSTART:20301103T060000
END:STANDARD
END:VTIMEZONE
BEGIN:VEVENT
DTSTART;TZID=America/New_York:20290515T090000
DTEND;TZID=America/New_York:20290515T110000
DTSTAMP:20260421T051906
CREATED:20260223T214228Z
LAST-MODIFIED:20260223T214338Z
UID:10021456-1873530000-1873537200@cpcedison.org
SUMMARY:Food Pantry
DESCRIPTION:
URL:https://cpcedison.org/event/food-pantry-5-2-2/2029-05-15/
LOCATION:Community Presbyterian Church\, 75 Glenville Rd.\, Edison\, NJ\, 08817 \, United States
CATEGORIES:food pantry
ATTACH;FMTTYPE=image/jpeg:https://cpcedison.org/wp-content/uploads/2017/02/foodpantry3.jpg
END:VEVENT
BEGIN:VEVENT
DTSTART;TZID=America/New_York:20290517T090000
DTEND;TZID=America/New_York:20290517T110000
DTSTAMP:20260421T051906
CREATED:20260223T214228Z
LAST-MODIFIED:20260223T214338Z
UID:10022130-1873702800-1873710000@cpcedison.org
SUMMARY:Food Pantry
DESCRIPTION:
URL:https://cpcedison.org/event/food-pantry-5-2-2/2029-05-17/
LOCATION:Community Presbyterian Church\, 75 Glenville Rd.\, Edison\, NJ\, 08817 \, United States
CATEGORIES:food pantry
ATTACH;FMTTYPE=image/jpeg:https://cpcedison.org/wp-content/uploads/2017/02/foodpantry3.jpg
END:VEVENT
BEGIN:VEVENT
DTSTART;TZID=America/New_York:20290522T090000
DTEND;TZID=America/New_York:20290522T110000
DTSTAMP:20260421T051906
CREATED:20260223T214228Z
LAST-MODIFIED:20260223T214338Z
UID:10021457-1874134800-1874142000@cpcedison.org
SUMMARY:Food Pantry
DESCRIPTION:
URL:https://cpcedison.org/event/food-pantry-5-2-2/2029-05-22/
LOCATION:Community Presbyterian Church\, 75 Glenville Rd.\, Edison\, NJ\, 08817 \, United States
CATEGORIES:food pantry
ATTACH;FMTTYPE=image/jpeg:https://cpcedison.org/wp-content/uploads/2017/02/foodpantry3.jpg
END:VEVENT
BEGIN:VEVENT
DTSTART;TZID=America/New_York:20290524T090000
DTEND;TZID=America/New_York:20290524T110000
DTSTAMP:20260421T051906
CREATED:20260223T214228Z
LAST-MODIFIED:20260223T214338Z
UID:10022131-1874307600-1874314800@cpcedison.org
SUMMARY:Food Pantry
DESCRIPTION:
URL:https://cpcedison.org/event/food-pantry-5-2-2/2029-05-24/
LOCATION:Community Presbyterian Church\, 75 Glenville Rd.\, Edison\, NJ\, 08817 \, United States
CATEGORIES:food pantry
ATTACH;FMTTYPE=image/jpeg:https://cpcedison.org/wp-content/uploads/2017/02/foodpantry3.jpg
END:VEVENT
BEGIN:VEVENT
DTSTART;TZID=America/New_York:20290529T090000
DTEND;TZID=America/New_York:20290529T110000
DTSTAMP:20260421T051906
CREATED:20260223T214228Z
LAST-MODIFIED:20260223T214338Z
UID:10021458-1874739600-1874746800@cpcedison.org
SUMMARY:Food Pantry
DESCRIPTION:
URL:https://cpcedison.org/event/food-pantry-5-2-2/2029-05-29/
LOCATION:Community Presbyterian Church\, 75 Glenville Rd.\, Edison\, NJ\, 08817 \, United States
CATEGORIES:food pantry
ATTACH;FMTTYPE=image/jpeg:https://cpcedison.org/wp-content/uploads/2017/02/foodpantry3.jpg
END:VEVENT
BEGIN:VEVENT
DTSTART;TZID=America/New_York:20290531T090000
DTEND;TZID=America/New_York:20290531T110000
DTSTAMP:20260421T051906
CREATED:20260223T214228Z
LAST-MODIFIED:20260223T214338Z
UID:10022132-1874912400-1874919600@cpcedison.org
SUMMARY:Food Pantry
DESCRIPTION:
URL:https://cpcedison.org/event/food-pantry-5-2-2/2029-05-31/
LOCATION:Community Presbyterian Church\, 75 Glenville Rd.\, Edison\, NJ\, 08817 \, United States
CATEGORIES:food pantry
ATTACH;FMTTYPE=image/jpeg:https://cpcedison.org/wp-content/uploads/2017/02/foodpantry3.jpg
END:VEVENT
BEGIN:VEVENT
DTSTART;TZID=America/New_York:20290605T090000
DTEND;TZID=America/New_York:20290605T110000
DTSTAMP:20260421T051906
CREATED:20260223T214228Z
LAST-MODIFIED:20260223T214338Z
UID:10021459-1875344400-1875351600@cpcedison.org
SUMMARY:Food Pantry
DESCRIPTION:
URL:https://cpcedison.org/event/food-pantry-5-2-2/2029-06-05/
LOCATION:Community Presbyterian Church\, 75 Glenville Rd.\, Edison\, NJ\, 08817 \, United States
CATEGORIES:food pantry
ATTACH;FMTTYPE=image/jpeg:https://cpcedison.org/wp-content/uploads/2017/02/foodpantry3.jpg
END:VEVENT
BEGIN:VEVENT
DTSTART;TZID=America/New_York:20290607T090000
DTEND;TZID=America/New_York:20290607T110000
DTSTAMP:20260421T051906
CREATED:20260223T214228Z
LAST-MODIFIED:20260223T214338Z
UID:10022133-1875517200-1875524400@cpcedison.org
SUMMARY:Food Pantry
DESCRIPTION:
URL:https://cpcedison.org/event/food-pantry-5-2-2/2029-06-07/
LOCATION:Community Presbyterian Church\, 75 Glenville Rd.\, Edison\, NJ\, 08817 \, United States
CATEGORIES:food pantry
ATTACH;FMTTYPE=image/jpeg:https://cpcedison.org/wp-content/uploads/2017/02/foodpantry3.jpg
END:VEVENT
BEGIN:VEVENT
DTSTART;TZID=America/New_York:20290612T090000
DTEND;TZID=America/New_York:20290612T110000
DTSTAMP:20260421T051906
CREATED:20260223T214228Z
LAST-MODIFIED:20260223T214338Z
UID:10021460-1875949200-1875956400@cpcedison.org
SUMMARY:Food Pantry
DESCRIPTION:
URL:https://cpcedison.org/event/food-pantry-5-2-2/2029-06-12/
LOCATION:Community Presbyterian Church\, 75 Glenville Rd.\, Edison\, NJ\, 08817 \, United States
CATEGORIES:food pantry
ATTACH;FMTTYPE=image/jpeg:https://cpcedison.org/wp-content/uploads/2017/02/foodpantry3.jpg
END:VEVENT
BEGIN:VEVENT
DTSTART;TZID=America/New_York:20290614T090000
DTEND;TZID=America/New_York:20290614T110000
DTSTAMP:20260421T051906
CREATED:20260223T214228Z
LAST-MODIFIED:20260223T214338Z
UID:10022134-1876122000-1876129200@cpcedison.org
SUMMARY:Food Pantry
DESCRIPTION:
URL:https://cpcedison.org/event/food-pantry-5-2-2/2029-06-14/
LOCATION:Community Presbyterian Church\, 75 Glenville Rd.\, Edison\, NJ\, 08817 \, United States
CATEGORIES:food pantry
ATTACH;FMTTYPE=image/jpeg:https://cpcedison.org/wp-content/uploads/2017/02/foodpantry3.jpg
END:VEVENT
BEGIN:VEVENT
DTSTART;TZID=America/New_York:20290619T090000
DTEND;TZID=America/New_York:20290619T110000
DTSTAMP:20260421T051906
CREATED:20260223T214228Z
LAST-MODIFIED:20260223T214338Z
UID:10021461-1876554000-1876561200@cpcedison.org
SUMMARY:Food Pantry
DESCRIPTION:
URL:https://cpcedison.org/event/food-pantry-5-2-2/2029-06-19/
LOCATION:Community Presbyterian Church\, 75 Glenville Rd.\, Edison\, NJ\, 08817 \, United States
CATEGORIES:food pantry
ATTACH;FMTTYPE=image/jpeg:https://cpcedison.org/wp-content/uploads/2017/02/foodpantry3.jpg
END:VEVENT
BEGIN:VEVENT
DTSTART;TZID=America/New_York:20290621T090000
DTEND;TZID=America/New_York:20290621T110000
DTSTAMP:20260421T051906
CREATED:20260223T214228Z
LAST-MODIFIED:20260223T214338Z
UID:10022135-1876726800-1876734000@cpcedison.org
SUMMARY:Food Pantry
DESCRIPTION:
URL:https://cpcedison.org/event/food-pantry-5-2-2/2029-06-21/
LOCATION:Community Presbyterian Church\, 75 Glenville Rd.\, Edison\, NJ\, 08817 \, United States
CATEGORIES:food pantry
ATTACH;FMTTYPE=image/jpeg:https://cpcedison.org/wp-content/uploads/2017/02/foodpantry3.jpg
END:VEVENT
BEGIN:VEVENT
DTSTART;TZID=America/New_York:20290626T090000
DTEND;TZID=America/New_York:20290626T110000
DTSTAMP:20260421T051906
CREATED:20260223T214228Z
LAST-MODIFIED:20260223T214338Z
UID:10021462-1877158800-1877166000@cpcedison.org
SUMMARY:Food Pantry
DESCRIPTION:
URL:https://cpcedison.org/event/food-pantry-5-2-2/2029-06-26/
LOCATION:Community Presbyterian Church\, 75 Glenville Rd.\, Edison\, NJ\, 08817 \, United States
CATEGORIES:food pantry
ATTACH;FMTTYPE=image/jpeg:https://cpcedison.org/wp-content/uploads/2017/02/foodpantry3.jpg
END:VEVENT
BEGIN:VEVENT
DTSTART;TZID=America/New_York:20290628T090000
DTEND;TZID=America/New_York:20290628T110000
DTSTAMP:20260421T051906
CREATED:20260223T214228Z
LAST-MODIFIED:20260223T214338Z
UID:10022136-1877331600-1877338800@cpcedison.org
SUMMARY:Food Pantry
DESCRIPTION:
URL:https://cpcedison.org/event/food-pantry-5-2-2/2029-06-28/
LOCATION:Community Presbyterian Church\, 75 Glenville Rd.\, Edison\, NJ\, 08817 \, United States
CATEGORIES:food pantry
ATTACH;FMTTYPE=image/jpeg:https://cpcedison.org/wp-content/uploads/2017/02/foodpantry3.jpg
END:VEVENT
BEGIN:VEVENT
DTSTART;TZID=America/New_York:20290703T090000
DTEND;TZID=America/New_York:20290703T110000
DTSTAMP:20260421T051906
CREATED:20260223T214228Z
LAST-MODIFIED:20260223T214338Z
UID:10021463-1877763600-1877770800@cpcedison.org
SUMMARY:Food Pantry
DESCRIPTION:
URL:https://cpcedison.org/event/food-pantry-5-2-2/2029-07-03/
LOCATION:Community Presbyterian Church\, 75 Glenville Rd.\, Edison\, NJ\, 08817 \, United States
CATEGORIES:food pantry
ATTACH;FMTTYPE=image/jpeg:https://cpcedison.org/wp-content/uploads/2017/02/foodpantry3.jpg
END:VEVENT
BEGIN:VEVENT
DTSTART;TZID=America/New_York:20290705T090000
DTEND;TZID=America/New_York:20290705T110000
DTSTAMP:20260421T051906
CREATED:20260223T214228Z
LAST-MODIFIED:20260223T214338Z
UID:10022137-1877936400-1877943600@cpcedison.org
SUMMARY:Food Pantry
DESCRIPTION:
URL:https://cpcedison.org/event/food-pantry-5-2-2/2029-07-05/
LOCATION:Community Presbyterian Church\, 75 Glenville Rd.\, Edison\, NJ\, 08817 \, United States
CATEGORIES:food pantry
ATTACH;FMTTYPE=image/jpeg:https://cpcedison.org/wp-content/uploads/2017/02/foodpantry3.jpg
END:VEVENT
BEGIN:VEVENT
DTSTART;TZID=America/New_York:20290710T090000
DTEND;TZID=America/New_York:20290710T110000
DTSTAMP:20260421T051906
CREATED:20260223T214228Z
LAST-MODIFIED:20260223T214338Z
UID:10021464-1878368400-1878375600@cpcedison.org
SUMMARY:Food Pantry
DESCRIPTION:
URL:https://cpcedison.org/event/food-pantry-5-2-2/2029-07-10/
LOCATION:Community Presbyterian Church\, 75 Glenville Rd.\, Edison\, NJ\, 08817 \, United States
CATEGORIES:food pantry
ATTACH;FMTTYPE=image/jpeg:https://cpcedison.org/wp-content/uploads/2017/02/foodpantry3.jpg
END:VEVENT
BEGIN:VEVENT
DTSTART;TZID=America/New_York:20290712T090000
DTEND;TZID=America/New_York:20290712T110000
DTSTAMP:20260421T051906
CREATED:20260223T214228Z
LAST-MODIFIED:20260223T214338Z
UID:10022138-1878541200-1878548400@cpcedison.org
SUMMARY:Food Pantry
DESCRIPTION:
URL:https://cpcedison.org/event/food-pantry-5-2-2/2029-07-12/
LOCATION:Community Presbyterian Church\, 75 Glenville Rd.\, Edison\, NJ\, 08817 \, United States
CATEGORIES:food pantry
ATTACH;FMTTYPE=image/jpeg:https://cpcedison.org/wp-content/uploads/2017/02/foodpantry3.jpg
END:VEVENT
BEGIN:VEVENT
DTSTART;TZID=America/New_York:20290717T090000
DTEND;TZID=America/New_York:20290717T110000
DTSTAMP:20260421T051906
CREATED:20260223T214228Z
LAST-MODIFIED:20260223T214338Z
UID:10021465-1878973200-1878980400@cpcedison.org
SUMMARY:Food Pantry
DESCRIPTION:
URL:https://cpcedison.org/event/food-pantry-5-2-2/2029-07-17/
LOCATION:Community Presbyterian Church\, 75 Glenville Rd.\, Edison\, NJ\, 08817 \, United States
CATEGORIES:food pantry
ATTACH;FMTTYPE=image/jpeg:https://cpcedison.org/wp-content/uploads/2017/02/foodpantry3.jpg
END:VEVENT
BEGIN:VEVENT
DTSTART;TZID=America/New_York:20290719T090000
DTEND;TZID=America/New_York:20290719T110000
DTSTAMP:20260421T051906
CREATED:20260223T214228Z
LAST-MODIFIED:20260223T214338Z
UID:10022139-1879146000-1879153200@cpcedison.org
SUMMARY:Food Pantry
DESCRIPTION:
URL:https://cpcedison.org/event/food-pantry-5-2-2/2029-07-19/
LOCATION:Community Presbyterian Church\, 75 Glenville Rd.\, Edison\, NJ\, 08817 \, United States
CATEGORIES:food pantry
ATTACH;FMTTYPE=image/jpeg:https://cpcedison.org/wp-content/uploads/2017/02/foodpantry3.jpg
END:VEVENT
BEGIN:VEVENT
DTSTART;TZID=America/New_York:20290724T090000
DTEND;TZID=America/New_York:20290724T110000
DTSTAMP:20260421T051906
CREATED:20260223T214228Z
LAST-MODIFIED:20260223T214338Z
UID:10021466-1879578000-1879585200@cpcedison.org
SUMMARY:Food Pantry
DESCRIPTION:
URL:https://cpcedison.org/event/food-pantry-5-2-2/2029-07-24/
LOCATION:Community Presbyterian Church\, 75 Glenville Rd.\, Edison\, NJ\, 08817 \, United States
CATEGORIES:food pantry
ATTACH;FMTTYPE=image/jpeg:https://cpcedison.org/wp-content/uploads/2017/02/foodpantry3.jpg
END:VEVENT
BEGIN:VEVENT
DTSTART;TZID=America/New_York:20290726T090000
DTEND;TZID=America/New_York:20290726T110000
DTSTAMP:20260421T051906
CREATED:20260223T214228Z
LAST-MODIFIED:20260223T214338Z
UID:10022140-1879750800-1879758000@cpcedison.org
SUMMARY:Food Pantry
DESCRIPTION:
URL:https://cpcedison.org/event/food-pantry-5-2-2/2029-07-26/
LOCATION:Community Presbyterian Church\, 75 Glenville Rd.\, Edison\, NJ\, 08817 \, United States
CATEGORIES:food pantry
ATTACH;FMTTYPE=image/jpeg:https://cpcedison.org/wp-content/uploads/2017/02/foodpantry3.jpg
END:VEVENT
BEGIN:VEVENT
DTSTART;TZID=America/New_York:20290731T090000
DTEND;TZID=America/New_York:20290731T110000
DTSTAMP:20260421T051906
CREATED:20260223T214228Z
LAST-MODIFIED:20260223T214338Z
UID:10021467-1880182800-1880190000@cpcedison.org
SUMMARY:Food Pantry
DESCRIPTION:
URL:https://cpcedison.org/event/food-pantry-5-2-2/2029-07-31/
LOCATION:Community Presbyterian Church\, 75 Glenville Rd.\, Edison\, NJ\, 08817 \, United States
CATEGORIES:food pantry
ATTACH;FMTTYPE=image/jpeg:https://cpcedison.org/wp-content/uploads/2017/02/foodpantry3.jpg
END:VEVENT
BEGIN:VEVENT
DTSTART;TZID=America/New_York:20290802T090000
DTEND;TZID=America/New_York:20290802T110000
DTSTAMP:20260421T051906
CREATED:20260223T214228Z
LAST-MODIFIED:20260223T214338Z
UID:10022141-1880355600-1880362800@cpcedison.org
SUMMARY:Food Pantry
DESCRIPTION:
URL:https://cpcedison.org/event/food-pantry-5-2-2/2029-08-02/
LOCATION:Community Presbyterian Church\, 75 Glenville Rd.\, Edison\, NJ\, 08817 \, United States
CATEGORIES:food pantry
ATTACH;FMTTYPE=image/jpeg:https://cpcedison.org/wp-content/uploads/2017/02/foodpantry3.jpg
END:VEVENT
BEGIN:VEVENT
DTSTART;TZID=America/New_York:20290807T090000
DTEND;TZID=America/New_York:20290807T110000
DTSTAMP:20260421T051906
CREATED:20260223T214228Z
LAST-MODIFIED:20260223T214338Z
UID:10021468-1880787600-1880794800@cpcedison.org
SUMMARY:Food Pantry
DESCRIPTION:
URL:https://cpcedison.org/event/food-pantry-5-2-2/2029-08-07/
LOCATION:Community Presbyterian Church\, 75 Glenville Rd.\, Edison\, NJ\, 08817 \, United States
CATEGORIES:food pantry
ATTACH;FMTTYPE=image/jpeg:https://cpcedison.org/wp-content/uploads/2017/02/foodpantry3.jpg
END:VEVENT
BEGIN:VEVENT
DTSTART;TZID=America/New_York:20290809T090000
DTEND;TZID=America/New_York:20290809T110000
DTSTAMP:20260421T051906
CREATED:20260223T214228Z
LAST-MODIFIED:20260223T214338Z
UID:10022142-1880960400-1880967600@cpcedison.org
SUMMARY:Food Pantry
DESCRIPTION:
URL:https://cpcedison.org/event/food-pantry-5-2-2/2029-08-09/
LOCATION:Community Presbyterian Church\, 75 Glenville Rd.\, Edison\, NJ\, 08817 \, United States
CATEGORIES:food pantry
ATTACH;FMTTYPE=image/jpeg:https://cpcedison.org/wp-content/uploads/2017/02/foodpantry3.jpg
END:VEVENT
BEGIN:VEVENT
DTSTART;TZID=America/New_York:20290814T090000
DTEND;TZID=America/New_York:20290814T110000
DTSTAMP:20260421T051906
CREATED:20260223T214228Z
LAST-MODIFIED:20260223T214338Z
UID:10021469-1881392400-1881399600@cpcedison.org
SUMMARY:Food Pantry
DESCRIPTION:
URL:https://cpcedison.org/event/food-pantry-5-2-2/2029-08-14/
LOCATION:Community Presbyterian Church\, 75 Glenville Rd.\, Edison\, NJ\, 08817 \, United States
CATEGORIES:food pantry
ATTACH;FMTTYPE=image/jpeg:https://cpcedison.org/wp-content/uploads/2017/02/foodpantry3.jpg
END:VEVENT
BEGIN:VEVENT
DTSTART;TZID=America/New_York:20290816T090000
DTEND;TZID=America/New_York:20290816T110000
DTSTAMP:20260421T051906
CREATED:20260223T214228Z
LAST-MODIFIED:20260223T214338Z
UID:10022143-1881565200-1881572400@cpcedison.org
SUMMARY:Food Pantry
DESCRIPTION:
URL:https://cpcedison.org/event/food-pantry-5-2-2/2029-08-16/
LOCATION:Community Presbyterian Church\, 75 Glenville Rd.\, Edison\, NJ\, 08817 \, United States
CATEGORIES:food pantry
ATTACH;FMTTYPE=image/jpeg:https://cpcedison.org/wp-content/uploads/2017/02/foodpantry3.jpg
END:VEVENT
BEGIN:VEVENT
DTSTART;TZID=America/New_York:20290821T090000
DTEND;TZID=America/New_York:20290821T110000
DTSTAMP:20260421T051906
CREATED:20260223T214228Z
LAST-MODIFIED:20260223T214338Z
UID:10021470-1881997200-1882004400@cpcedison.org
SUMMARY:Food Pantry
DESCRIPTION:
URL:https://cpcedison.org/event/food-pantry-5-2-2/2029-08-21/
LOCATION:Community Presbyterian Church\, 75 Glenville Rd.\, Edison\, NJ\, 08817 \, United States
CATEGORIES:food pantry
ATTACH;FMTTYPE=image/jpeg:https://cpcedison.org/wp-content/uploads/2017/02/foodpantry3.jpg
END:VEVENT
BEGIN:VEVENT
DTSTART;TZID=America/New_York:20290823T090000
DTEND;TZID=America/New_York:20290823T110000
DTSTAMP:20260421T051906
CREATED:20260223T214228Z
LAST-MODIFIED:20260223T214338Z
UID:10022144-1882170000-1882177200@cpcedison.org
SUMMARY:Food Pantry
DESCRIPTION:
URL:https://cpcedison.org/event/food-pantry-5-2-2/2029-08-23/
LOCATION:Community Presbyterian Church\, 75 Glenville Rd.\, Edison\, NJ\, 08817 \, United States
CATEGORIES:food pantry
ATTACH;FMTTYPE=image/jpeg:https://cpcedison.org/wp-content/uploads/2017/02/foodpantry3.jpg
END:VEVENT
END:VCALENDAR