BEGIN:VCALENDAR
VERSION:2.0
PRODID:-//Community Presbyterian Church - Edison NJ - ECPv6.15.20//NONSGML v1.0//EN
CALSCALE:GREGORIAN
METHOD:PUBLISH
X-ORIGINAL-URL:https://cpcedison.org
X-WR-CALDESC:Events for Community Presbyterian Church - Edison NJ
REFRESH-INTERVAL;VALUE=DURATION:PT1H
X-Robots-Tag:noindex
X-PUBLISHED-TTL:PT1H
BEGIN:VTIMEZONE
TZID:America/New_York
BEGIN:DAYLIGHT
TZOFFSETFROM:-0500
TZOFFSETTO:-0400
TZNAME:EDT
DTSTART:20280312T070000
END:DAYLIGHT
BEGIN:STANDARD
TZOFFSETFROM:-0400
TZOFFSETTO:-0500
TZNAME:EST
DTSTART:20281105T060000
END:STANDARD
BEGIN:DAYLIGHT
TZOFFSETFROM:-0500
TZOFFSETTO:-0400
TZNAME:EDT
DTSTART:20290311T070000
END:DAYLIGHT
BEGIN:STANDARD
TZOFFSETFROM:-0400
TZOFFSETTO:-0500
TZNAME:EST
DTSTART:20291104T060000
END:STANDARD
BEGIN:DAYLIGHT
TZOFFSETFROM:-0500
TZOFFSETTO:-0400
TZNAME:EDT
DTSTART:20300310T070000
END:DAYLIGHT
BEGIN:STANDARD
TZOFFSETFROM:-0400
TZOFFSETTO:-0500
TZNAME:EST
DTSTART:20301103T060000
END:STANDARD
BEGIN:DAYLIGHT
TZOFFSETFROM:-0500
TZOFFSETTO:-0400
TZNAME:EDT
DTSTART:20310309T070000
END:DAYLIGHT
BEGIN:STANDARD
TZOFFSETFROM:-0400
TZOFFSETTO:-0500
TZNAME:EST
DTSTART:20311102T060000
END:STANDARD
END:VTIMEZONE
BEGIN:VEVENT
DTSTART;TZID=America/New_York:20291002T090000
DTEND;TZID=America/New_York:20291002T110000
DTSTAMP:20260421T084007
CREATED:20260223T214228Z
LAST-MODIFIED:20260223T214338Z
UID:10021476-1885626000-1885633200@cpcedison.org
SUMMARY:Food Pantry
DESCRIPTION:
URL:https://cpcedison.org/event/food-pantry-5-2-2/2029-10-02/
LOCATION:Community Presbyterian Church\, 75 Glenville Rd.\, Edison\, NJ\, 08817 \, United States
CATEGORIES:food pantry
ATTACH;FMTTYPE=image/jpeg:https://cpcedison.org/wp-content/uploads/2017/02/foodpantry3.jpg
END:VEVENT
BEGIN:VEVENT
DTSTART;TZID=America/New_York:20291004T090000
DTEND;TZID=America/New_York:20291004T110000
DTSTAMP:20260421T084007
CREATED:20260223T214228Z
LAST-MODIFIED:20260223T214338Z
UID:10022150-1885798800-1885806000@cpcedison.org
SUMMARY:Food Pantry
DESCRIPTION:
URL:https://cpcedison.org/event/food-pantry-5-2-2/2029-10-04/
LOCATION:Community Presbyterian Church\, 75 Glenville Rd.\, Edison\, NJ\, 08817 \, United States
CATEGORIES:food pantry
ATTACH;FMTTYPE=image/jpeg:https://cpcedison.org/wp-content/uploads/2017/02/foodpantry3.jpg
END:VEVENT
BEGIN:VEVENT
DTSTART;TZID=America/New_York:20291009T090000
DTEND;TZID=America/New_York:20291009T110000
DTSTAMP:20260421T084007
CREATED:20260223T214228Z
LAST-MODIFIED:20260223T214338Z
UID:10021477-1886230800-1886238000@cpcedison.org
SUMMARY:Food Pantry
DESCRIPTION:
URL:https://cpcedison.org/event/food-pantry-5-2-2/2029-10-09/
LOCATION:Community Presbyterian Church\, 75 Glenville Rd.\, Edison\, NJ\, 08817 \, United States
CATEGORIES:food pantry
ATTACH;FMTTYPE=image/jpeg:https://cpcedison.org/wp-content/uploads/2017/02/foodpantry3.jpg
END:VEVENT
BEGIN:VEVENT
DTSTART;TZID=America/New_York:20291011T090000
DTEND;TZID=America/New_York:20291011T110000
DTSTAMP:20260421T084007
CREATED:20260223T214228Z
LAST-MODIFIED:20260223T214338Z
UID:10022151-1886403600-1886410800@cpcedison.org
SUMMARY:Food Pantry
DESCRIPTION:
URL:https://cpcedison.org/event/food-pantry-5-2-2/2029-10-11/
LOCATION:Community Presbyterian Church\, 75 Glenville Rd.\, Edison\, NJ\, 08817 \, United States
CATEGORIES:food pantry
ATTACH;FMTTYPE=image/jpeg:https://cpcedison.org/wp-content/uploads/2017/02/foodpantry3.jpg
END:VEVENT
BEGIN:VEVENT
DTSTART;TZID=America/New_York:20291016T090000
DTEND;TZID=America/New_York:20291016T110000
DTSTAMP:20260421T084007
CREATED:20260223T214228Z
LAST-MODIFIED:20260223T214338Z
UID:10021478-1886835600-1886842800@cpcedison.org
SUMMARY:Food Pantry
DESCRIPTION:
URL:https://cpcedison.org/event/food-pantry-5-2-2/2029-10-16/
LOCATION:Community Presbyterian Church\, 75 Glenville Rd.\, Edison\, NJ\, 08817 \, United States
CATEGORIES:food pantry
ATTACH;FMTTYPE=image/jpeg:https://cpcedison.org/wp-content/uploads/2017/02/foodpantry3.jpg
END:VEVENT
BEGIN:VEVENT
DTSTART;TZID=America/New_York:20291018T090000
DTEND;TZID=America/New_York:20291018T110000
DTSTAMP:20260421T084007
CREATED:20260223T214228Z
LAST-MODIFIED:20260223T214338Z
UID:10022152-1887008400-1887015600@cpcedison.org
SUMMARY:Food Pantry
DESCRIPTION:
URL:https://cpcedison.org/event/food-pantry-5-2-2/2029-10-18/
LOCATION:Community Presbyterian Church\, 75 Glenville Rd.\, Edison\, NJ\, 08817 \, United States
CATEGORIES:food pantry
ATTACH;FMTTYPE=image/jpeg:https://cpcedison.org/wp-content/uploads/2017/02/foodpantry3.jpg
END:VEVENT
BEGIN:VEVENT
DTSTART;TZID=America/New_York:20291023T090000
DTEND;TZID=America/New_York:20291023T110000
DTSTAMP:20260421T084007
CREATED:20260223T214228Z
LAST-MODIFIED:20260223T214338Z
UID:10021479-1887440400-1887447600@cpcedison.org
SUMMARY:Food Pantry
DESCRIPTION:
URL:https://cpcedison.org/event/food-pantry-5-2-2/2029-10-23/
LOCATION:Community Presbyterian Church\, 75 Glenville Rd.\, Edison\, NJ\, 08817 \, United States
CATEGORIES:food pantry
ATTACH;FMTTYPE=image/jpeg:https://cpcedison.org/wp-content/uploads/2017/02/foodpantry3.jpg
END:VEVENT
BEGIN:VEVENT
DTSTART;TZID=America/New_York:20291025T090000
DTEND;TZID=America/New_York:20291025T110000
DTSTAMP:20260421T084007
CREATED:20260223T214228Z
LAST-MODIFIED:20260223T214338Z
UID:10022153-1887613200-1887620400@cpcedison.org
SUMMARY:Food Pantry
DESCRIPTION:
URL:https://cpcedison.org/event/food-pantry-5-2-2/2029-10-25/
LOCATION:Community Presbyterian Church\, 75 Glenville Rd.\, Edison\, NJ\, 08817 \, United States
CATEGORIES:food pantry
ATTACH;FMTTYPE=image/jpeg:https://cpcedison.org/wp-content/uploads/2017/02/foodpantry3.jpg
END:VEVENT
BEGIN:VEVENT
DTSTART;TZID=America/New_York:20291030T090000
DTEND;TZID=America/New_York:20291030T110000
DTSTAMP:20260421T084007
CREATED:20260223T214228Z
LAST-MODIFIED:20260223T214338Z
UID:10021480-1888045200-1888052400@cpcedison.org
SUMMARY:Food Pantry
DESCRIPTION:
URL:https://cpcedison.org/event/food-pantry-5-2-2/2029-10-30/
LOCATION:Community Presbyterian Church\, 75 Glenville Rd.\, Edison\, NJ\, 08817 \, United States
CATEGORIES:food pantry
ATTACH;FMTTYPE=image/jpeg:https://cpcedison.org/wp-content/uploads/2017/02/foodpantry3.jpg
END:VEVENT
BEGIN:VEVENT
DTSTART;TZID=America/New_York:20291101T090000
DTEND;TZID=America/New_York:20291101T110000
DTSTAMP:20260421T084007
CREATED:20260223T214228Z
LAST-MODIFIED:20260223T214338Z
UID:10022154-1888218000-1888225200@cpcedison.org
SUMMARY:Food Pantry
DESCRIPTION:
URL:https://cpcedison.org/event/food-pantry-5-2-2/2029-11-01/
LOCATION:Community Presbyterian Church\, 75 Glenville Rd.\, Edison\, NJ\, 08817 \, United States
CATEGORIES:food pantry
ATTACH;FMTTYPE=image/jpeg:https://cpcedison.org/wp-content/uploads/2017/02/foodpantry3.jpg
END:VEVENT
BEGIN:VEVENT
DTSTART;TZID=America/New_York:20291106T090000
DTEND;TZID=America/New_York:20291106T110000
DTSTAMP:20260421T084007
CREATED:20260223T214228Z
LAST-MODIFIED:20260223T214338Z
UID:10021481-1888650000-1888657200@cpcedison.org
SUMMARY:Food Pantry
DESCRIPTION:
URL:https://cpcedison.org/event/food-pantry-5-2-2/2029-11-06/
LOCATION:Community Presbyterian Church\, 75 Glenville Rd.\, Edison\, NJ\, 08817 \, United States
CATEGORIES:food pantry
ATTACH;FMTTYPE=image/jpeg:https://cpcedison.org/wp-content/uploads/2017/02/foodpantry3.jpg
END:VEVENT
BEGIN:VEVENT
DTSTART;TZID=America/New_York:20291108T090000
DTEND;TZID=America/New_York:20291108T110000
DTSTAMP:20260421T084007
CREATED:20260223T214228Z
LAST-MODIFIED:20260223T214338Z
UID:10022155-1888822800-1888830000@cpcedison.org
SUMMARY:Food Pantry
DESCRIPTION:
URL:https://cpcedison.org/event/food-pantry-5-2-2/2029-11-08/
LOCATION:Community Presbyterian Church\, 75 Glenville Rd.\, Edison\, NJ\, 08817 \, United States
CATEGORIES:food pantry
ATTACH;FMTTYPE=image/jpeg:https://cpcedison.org/wp-content/uploads/2017/02/foodpantry3.jpg
END:VEVENT
BEGIN:VEVENT
DTSTART;TZID=America/New_York:20291113T090000
DTEND;TZID=America/New_York:20291113T110000
DTSTAMP:20260421T084007
CREATED:20260223T214228Z
LAST-MODIFIED:20260223T214338Z
UID:10021482-1889254800-1889262000@cpcedison.org
SUMMARY:Food Pantry
DESCRIPTION:
URL:https://cpcedison.org/event/food-pantry-5-2-2/2029-11-13/
LOCATION:Community Presbyterian Church\, 75 Glenville Rd.\, Edison\, NJ\, 08817 \, United States
CATEGORIES:food pantry
ATTACH;FMTTYPE=image/jpeg:https://cpcedison.org/wp-content/uploads/2017/02/foodpantry3.jpg
END:VEVENT
BEGIN:VEVENT
DTSTART;TZID=America/New_York:20291115T090000
DTEND;TZID=America/New_York:20291115T110000
DTSTAMP:20260421T084007
CREATED:20260223T214228Z
LAST-MODIFIED:20260223T214338Z
UID:10022156-1889427600-1889434800@cpcedison.org
SUMMARY:Food Pantry
DESCRIPTION:
URL:https://cpcedison.org/event/food-pantry-5-2-2/2029-11-15/
LOCATION:Community Presbyterian Church\, 75 Glenville Rd.\, Edison\, NJ\, 08817 \, United States
CATEGORIES:food pantry
ATTACH;FMTTYPE=image/jpeg:https://cpcedison.org/wp-content/uploads/2017/02/foodpantry3.jpg
END:VEVENT
BEGIN:VEVENT
DTSTART;TZID=America/New_York:20291120T090000
DTEND;TZID=America/New_York:20291120T110000
DTSTAMP:20260421T084007
CREATED:20260223T214228Z
LAST-MODIFIED:20260223T214338Z
UID:10021483-1889859600-1889866800@cpcedison.org
SUMMARY:Food Pantry
DESCRIPTION:
URL:https://cpcedison.org/event/food-pantry-5-2-2/2029-11-20/
LOCATION:Community Presbyterian Church\, 75 Glenville Rd.\, Edison\, NJ\, 08817 \, United States
CATEGORIES:food pantry
ATTACH;FMTTYPE=image/jpeg:https://cpcedison.org/wp-content/uploads/2017/02/foodpantry3.jpg
END:VEVENT
BEGIN:VEVENT
DTSTART;TZID=America/New_York:20291122T090000
DTEND;TZID=America/New_York:20291122T110000
DTSTAMP:20260421T084007
CREATED:20260223T214228Z
LAST-MODIFIED:20260223T214338Z
UID:10022157-1890032400-1890039600@cpcedison.org
SUMMARY:Food Pantry
DESCRIPTION:
URL:https://cpcedison.org/event/food-pantry-5-2-2/2029-11-22/
LOCATION:Community Presbyterian Church\, 75 Glenville Rd.\, Edison\, NJ\, 08817 \, United States
CATEGORIES:food pantry
ATTACH;FMTTYPE=image/jpeg:https://cpcedison.org/wp-content/uploads/2017/02/foodpantry3.jpg
END:VEVENT
BEGIN:VEVENT
DTSTART;TZID=America/New_York:20291127T090000
DTEND;TZID=America/New_York:20291127T110000
DTSTAMP:20260421T084007
CREATED:20260223T214228Z
LAST-MODIFIED:20260223T214338Z
UID:10021484-1890464400-1890471600@cpcedison.org
SUMMARY:Food Pantry
DESCRIPTION:
URL:https://cpcedison.org/event/food-pantry-5-2-2/2029-11-27/
LOCATION:Community Presbyterian Church\, 75 Glenville Rd.\, Edison\, NJ\, 08817 \, United States
CATEGORIES:food pantry
ATTACH;FMTTYPE=image/jpeg:https://cpcedison.org/wp-content/uploads/2017/02/foodpantry3.jpg
END:VEVENT
BEGIN:VEVENT
DTSTART;TZID=America/New_York:20291129T090000
DTEND;TZID=America/New_York:20291129T110000
DTSTAMP:20260421T084007
CREATED:20260223T214228Z
LAST-MODIFIED:20260223T214338Z
UID:10022158-1890637200-1890644400@cpcedison.org
SUMMARY:Food Pantry
DESCRIPTION:
URL:https://cpcedison.org/event/food-pantry-5-2-2/2029-11-29/
LOCATION:Community Presbyterian Church\, 75 Glenville Rd.\, Edison\, NJ\, 08817 \, United States
CATEGORIES:food pantry
ATTACH;FMTTYPE=image/jpeg:https://cpcedison.org/wp-content/uploads/2017/02/foodpantry3.jpg
END:VEVENT
BEGIN:VEVENT
DTSTART;TZID=America/New_York:20291204T090000
DTEND;TZID=America/New_York:20291204T110000
DTSTAMP:20260421T084007
CREATED:20260223T214228Z
LAST-MODIFIED:20260223T214338Z
UID:10021485-1891069200-1891076400@cpcedison.org
SUMMARY:Food Pantry
DESCRIPTION:
URL:https://cpcedison.org/event/food-pantry-5-2-2/2029-12-04/
LOCATION:Community Presbyterian Church\, 75 Glenville Rd.\, Edison\, NJ\, 08817 \, United States
CATEGORIES:food pantry
ATTACH;FMTTYPE=image/jpeg:https://cpcedison.org/wp-content/uploads/2017/02/foodpantry3.jpg
END:VEVENT
BEGIN:VEVENT
DTSTART;TZID=America/New_York:20291206T090000
DTEND;TZID=America/New_York:20291206T110000
DTSTAMP:20260421T084007
CREATED:20260223T214228Z
LAST-MODIFIED:20260223T214338Z
UID:10022159-1891242000-1891249200@cpcedison.org
SUMMARY:Food Pantry
DESCRIPTION:
URL:https://cpcedison.org/event/food-pantry-5-2-2/2029-12-06/
LOCATION:Community Presbyterian Church\, 75 Glenville Rd.\, Edison\, NJ\, 08817 \, United States
CATEGORIES:food pantry
ATTACH;FMTTYPE=image/jpeg:https://cpcedison.org/wp-content/uploads/2017/02/foodpantry3.jpg
END:VEVENT
BEGIN:VEVENT
DTSTART;TZID=America/New_York:20291211T090000
DTEND;TZID=America/New_York:20291211T110000
DTSTAMP:20260421T084007
CREATED:20260223T214228Z
LAST-MODIFIED:20260223T214338Z
UID:10021486-1891674000-1891681200@cpcedison.org
SUMMARY:Food Pantry
DESCRIPTION:
URL:https://cpcedison.org/event/food-pantry-5-2-2/2029-12-11/
LOCATION:Community Presbyterian Church\, 75 Glenville Rd.\, Edison\, NJ\, 08817 \, United States
CATEGORIES:food pantry
ATTACH;FMTTYPE=image/jpeg:https://cpcedison.org/wp-content/uploads/2017/02/foodpantry3.jpg
END:VEVENT
BEGIN:VEVENT
DTSTART;TZID=America/New_York:20291213T090000
DTEND;TZID=America/New_York:20291213T110000
DTSTAMP:20260421T084007
CREATED:20260223T214228Z
LAST-MODIFIED:20260223T214338Z
UID:10022160-1891846800-1891854000@cpcedison.org
SUMMARY:Food Pantry
DESCRIPTION:
URL:https://cpcedison.org/event/food-pantry-5-2-2/2029-12-13/
LOCATION:Community Presbyterian Church\, 75 Glenville Rd.\, Edison\, NJ\, 08817 \, United States
CATEGORIES:food pantry
ATTACH;FMTTYPE=image/jpeg:https://cpcedison.org/wp-content/uploads/2017/02/foodpantry3.jpg
END:VEVENT
BEGIN:VEVENT
DTSTART;TZID=America/New_York:20291218T090000
DTEND;TZID=America/New_York:20291218T110000
DTSTAMP:20260421T084007
CREATED:20260223T214228Z
LAST-MODIFIED:20260223T214338Z
UID:10021487-1892278800-1892286000@cpcedison.org
SUMMARY:Food Pantry
DESCRIPTION:
URL:https://cpcedison.org/event/food-pantry-5-2-2/2029-12-18/
LOCATION:Community Presbyterian Church\, 75 Glenville Rd.\, Edison\, NJ\, 08817 \, United States
CATEGORIES:food pantry
ATTACH;FMTTYPE=image/jpeg:https://cpcedison.org/wp-content/uploads/2017/02/foodpantry3.jpg
END:VEVENT
BEGIN:VEVENT
DTSTART;TZID=America/New_York:20291220T090000
DTEND;TZID=America/New_York:20291220T110000
DTSTAMP:20260421T084007
CREATED:20260223T214228Z
LAST-MODIFIED:20260223T214338Z
UID:10022161-1892451600-1892458800@cpcedison.org
SUMMARY:Food Pantry
DESCRIPTION:
URL:https://cpcedison.org/event/food-pantry-5-2-2/2029-12-20/
LOCATION:Community Presbyterian Church\, 75 Glenville Rd.\, Edison\, NJ\, 08817 \, United States
CATEGORIES:food pantry
ATTACH;FMTTYPE=image/jpeg:https://cpcedison.org/wp-content/uploads/2017/02/foodpantry3.jpg
END:VEVENT
BEGIN:VEVENT
DTSTART;TZID=America/New_York:20291225T090000
DTEND;TZID=America/New_York:20291225T110000
DTSTAMP:20260421T084007
CREATED:20260223T214228Z
LAST-MODIFIED:20260223T214338Z
UID:10021488-1892883600-1892890800@cpcedison.org
SUMMARY:Food Pantry
DESCRIPTION:
URL:https://cpcedison.org/event/food-pantry-5-2-2/2029-12-25/
LOCATION:Community Presbyterian Church\, 75 Glenville Rd.\, Edison\, NJ\, 08817 \, United States
CATEGORIES:food pantry
ATTACH;FMTTYPE=image/jpeg:https://cpcedison.org/wp-content/uploads/2017/02/foodpantry3.jpg
END:VEVENT
BEGIN:VEVENT
DTSTART;TZID=America/New_York:20291227T090000
DTEND;TZID=America/New_York:20291227T110000
DTSTAMP:20260421T084007
CREATED:20260223T214228Z
LAST-MODIFIED:20260223T214338Z
UID:10022162-1893056400-1893063600@cpcedison.org
SUMMARY:Food Pantry
DESCRIPTION:
URL:https://cpcedison.org/event/food-pantry-5-2-2/2029-12-27/
LOCATION:Community Presbyterian Church\, 75 Glenville Rd.\, Edison\, NJ\, 08817 \, United States
CATEGORIES:food pantry
ATTACH;FMTTYPE=image/jpeg:https://cpcedison.org/wp-content/uploads/2017/02/foodpantry3.jpg
END:VEVENT
BEGIN:VEVENT
DTSTART;TZID=America/New_York:20300101T090000
DTEND;TZID=America/New_York:20300101T110000
DTSTAMP:20260421T084007
CREATED:20260223T214228Z
LAST-MODIFIED:20260223T214338Z
UID:10021489-1893488400-1893495600@cpcedison.org
SUMMARY:Food Pantry
DESCRIPTION:
URL:https://cpcedison.org/event/food-pantry-5-2-2/2030-01-01/
LOCATION:Community Presbyterian Church\, 75 Glenville Rd.\, Edison\, NJ\, 08817 \, United States
CATEGORIES:food pantry
ATTACH;FMTTYPE=image/jpeg:https://cpcedison.org/wp-content/uploads/2017/02/foodpantry3.jpg
END:VEVENT
BEGIN:VEVENT
DTSTART;TZID=America/New_York:20300103T090000
DTEND;TZID=America/New_York:20300103T110000
DTSTAMP:20260421T084007
CREATED:20260223T214228Z
LAST-MODIFIED:20260223T214338Z
UID:10022163-1893661200-1893668400@cpcedison.org
SUMMARY:Food Pantry
DESCRIPTION:
URL:https://cpcedison.org/event/food-pantry-5-2-2/2030-01-03/
LOCATION:Community Presbyterian Church\, 75 Glenville Rd.\, Edison\, NJ\, 08817 \, United States
CATEGORIES:food pantry
ATTACH;FMTTYPE=image/jpeg:https://cpcedison.org/wp-content/uploads/2017/02/foodpantry3.jpg
END:VEVENT
BEGIN:VEVENT
DTSTART;TZID=America/New_York:20300108T090000
DTEND;TZID=America/New_York:20300108T110000
DTSTAMP:20260421T084007
CREATED:20260223T214228Z
LAST-MODIFIED:20260223T214338Z
UID:10021490-1894093200-1894100400@cpcedison.org
SUMMARY:Food Pantry
DESCRIPTION:
URL:https://cpcedison.org/event/food-pantry-5-2-2/2030-01-08/
LOCATION:Community Presbyterian Church\, 75 Glenville Rd.\, Edison\, NJ\, 08817 \, United States
CATEGORIES:food pantry
ATTACH;FMTTYPE=image/jpeg:https://cpcedison.org/wp-content/uploads/2017/02/foodpantry3.jpg
END:VEVENT
BEGIN:VEVENT
DTSTART;TZID=America/New_York:20300110T090000
DTEND;TZID=America/New_York:20300110T110000
DTSTAMP:20260421T084007
CREATED:20260223T214228Z
LAST-MODIFIED:20260223T214338Z
UID:10022164-1894266000-1894273200@cpcedison.org
SUMMARY:Food Pantry
DESCRIPTION:
URL:https://cpcedison.org/event/food-pantry-5-2-2/2030-01-10/
LOCATION:Community Presbyterian Church\, 75 Glenville Rd.\, Edison\, NJ\, 08817 \, United States
CATEGORIES:food pantry
ATTACH;FMTTYPE=image/jpeg:https://cpcedison.org/wp-content/uploads/2017/02/foodpantry3.jpg
END:VEVENT
END:VCALENDAR