BEGIN:VCALENDAR
VERSION:2.0
PRODID:-//Community Presbyterian Church - Edison NJ - ECPv6.15.20//NONSGML v1.0//EN
CALSCALE:GREGORIAN
METHOD:PUBLISH
X-ORIGINAL-URL:https://cpcedison.org
X-WR-CALDESC:Events for Community Presbyterian Church - Edison NJ
REFRESH-INTERVAL;VALUE=DURATION:PT1H
X-Robots-Tag:noindex
X-PUBLISHED-TTL:PT1H
BEGIN:VTIMEZONE
TZID:America/New_York
BEGIN:DAYLIGHT
TZOFFSETFROM:-0500
TZOFFSETTO:-0400
TZNAME:EDT
DTSTART:20210314T070000
END:DAYLIGHT
BEGIN:STANDARD
TZOFFSETFROM:-0400
TZOFFSETTO:-0500
TZNAME:EST
DTSTART:20211107T060000
END:STANDARD
BEGIN:DAYLIGHT
TZOFFSETFROM:-0500
TZOFFSETTO:-0400
TZNAME:EDT
DTSTART:20220313T070000
END:DAYLIGHT
BEGIN:STANDARD
TZOFFSETFROM:-0400
TZOFFSETTO:-0500
TZNAME:EST
DTSTART:20221106T060000
END:STANDARD
BEGIN:DAYLIGHT
TZOFFSETFROM:-0500
TZOFFSETTO:-0400
TZNAME:EDT
DTSTART:20230312T070000
END:DAYLIGHT
BEGIN:STANDARD
TZOFFSETFROM:-0400
TZOFFSETTO:-0500
TZNAME:EST
DTSTART:20231105T060000
END:STANDARD
END:VTIMEZONE
BEGIN:VEVENT
DTSTART;TZID=America/New_York:20220419T090000
DTEND;TZID=America/New_York:20220419T110000
DTSTAMP:20260421T123120
CREATED:20200615T203852Z
LAST-MODIFIED:20220722T143535Z
UID:10000252-1650358800-1650366000@cpcedison.org
SUMMARY:Food Pantry
DESCRIPTION:  \nFOOD PANTRY\nFood Pantry is open Tuesdays and Thursdays\, 9:00am – 11:00am for Edison Residents.  No appointment necessary.
URL:https://cpcedison.org/event/food-pantry-5/2022-04-19/
LOCATION:Community Presbyterian Church\, 75 Glenville Rd.\, Edison\, NJ\, 08817 \, United States
CATEGORIES:food pantry
ATTACH;FMTTYPE=image/jpeg:https://cpcedison.org/wp-content/uploads/2017/02/foodpantry3.jpg
END:VEVENT
BEGIN:VEVENT
DTSTART;TZID=America/New_York:20220414T090000
DTEND;TZID=America/New_York:20220414T110000
DTSTAMP:20260421T123120
CREATED:20200615T203852Z
LAST-MODIFIED:20220722T143535Z
UID:10000251-1649926800-1649934000@cpcedison.org
SUMMARY:Food Pantry
DESCRIPTION:  \nFOOD PANTRY\nFood Pantry is open Tuesdays and Thursdays\, 9:00am – 11:00am for Edison Residents.  No appointment necessary.
URL:https://cpcedison.org/event/food-pantry-5/2022-04-14/
LOCATION:Community Presbyterian Church\, 75 Glenville Rd.\, Edison\, NJ\, 08817 \, United States
CATEGORIES:food pantry
ATTACH;FMTTYPE=image/jpeg:https://cpcedison.org/wp-content/uploads/2017/02/foodpantry3.jpg
END:VEVENT
BEGIN:VEVENT
DTSTART;TZID=America/New_York:20220412T090000
DTEND;TZID=America/New_York:20220412T110000
DTSTAMP:20260421T123120
CREATED:20200615T203852Z
LAST-MODIFIED:20220722T143535Z
UID:10000250-1649754000-1649761200@cpcedison.org
SUMMARY:Food Pantry
DESCRIPTION:  \nFOOD PANTRY\nFood Pantry is open Tuesdays and Thursdays\, 9:00am – 11:00am for Edison Residents.  No appointment necessary.
URL:https://cpcedison.org/event/food-pantry-5/2022-04-12/
LOCATION:Community Presbyterian Church\, 75 Glenville Rd.\, Edison\, NJ\, 08817 \, United States
CATEGORIES:food pantry
ATTACH;FMTTYPE=image/jpeg:https://cpcedison.org/wp-content/uploads/2017/02/foodpantry3.jpg
END:VEVENT
BEGIN:VEVENT
DTSTART;TZID=America/New_York:20220407T090000
DTEND;TZID=America/New_York:20220407T110000
DTSTAMP:20260421T123120
CREATED:20200615T203852Z
LAST-MODIFIED:20220722T143535Z
UID:10000249-1649322000-1649329200@cpcedison.org
SUMMARY:Food Pantry
DESCRIPTION:  \nFOOD PANTRY\nFood Pantry is open Tuesdays and Thursdays\, 9:00am – 11:00am for Edison Residents.  No appointment necessary.
URL:https://cpcedison.org/event/food-pantry-5/2022-04-07/
LOCATION:Community Presbyterian Church\, 75 Glenville Rd.\, Edison\, NJ\, 08817 \, United States
CATEGORIES:food pantry
ATTACH;FMTTYPE=image/jpeg:https://cpcedison.org/wp-content/uploads/2017/02/foodpantry3.jpg
END:VEVENT
BEGIN:VEVENT
DTSTART;TZID=America/New_York:20220405T090000
DTEND;TZID=America/New_York:20220405T110000
DTSTAMP:20260421T123120
CREATED:20200615T203852Z
LAST-MODIFIED:20220722T143535Z
UID:10000248-1649149200-1649156400@cpcedison.org
SUMMARY:Food Pantry
DESCRIPTION:  \nFOOD PANTRY\nFood Pantry is open Tuesdays and Thursdays\, 9:00am – 11:00am for Edison Residents.  No appointment necessary.
URL:https://cpcedison.org/event/food-pantry-5/2022-04-05/
LOCATION:Community Presbyterian Church\, 75 Glenville Rd.\, Edison\, NJ\, 08817 \, United States
CATEGORIES:food pantry
ATTACH;FMTTYPE=image/jpeg:https://cpcedison.org/wp-content/uploads/2017/02/foodpantry3.jpg
END:VEVENT
BEGIN:VEVENT
DTSTART;TZID=America/New_York:20220331T090000
DTEND;TZID=America/New_York:20220331T110000
DTSTAMP:20260421T123120
CREATED:20200615T203852Z
LAST-MODIFIED:20220722T143535Z
UID:10000247-1648717200-1648724400@cpcedison.org
SUMMARY:Food Pantry
DESCRIPTION:  \nFOOD PANTRY\nFood Pantry is open Tuesdays and Thursdays\, 9:00am – 11:00am for Edison Residents.  No appointment necessary.
URL:https://cpcedison.org/event/food-pantry-5/2022-03-31/
LOCATION:Community Presbyterian Church\, 75 Glenville Rd.\, Edison\, NJ\, 08817 \, United States
CATEGORIES:food pantry
ATTACH;FMTTYPE=image/jpeg:https://cpcedison.org/wp-content/uploads/2017/02/foodpantry3.jpg
END:VEVENT
BEGIN:VEVENT
DTSTART;TZID=America/New_York:20220329T090000
DTEND;TZID=America/New_York:20220329T110000
DTSTAMP:20260421T123120
CREATED:20200615T203852Z
LAST-MODIFIED:20220722T143535Z
UID:10000246-1648544400-1648551600@cpcedison.org
SUMMARY:Food Pantry
DESCRIPTION:  \nFOOD PANTRY\nFood Pantry is open Tuesdays and Thursdays\, 9:00am – 11:00am for Edison Residents.  No appointment necessary.
URL:https://cpcedison.org/event/food-pantry-5/2022-03-29/
LOCATION:Community Presbyterian Church\, 75 Glenville Rd.\, Edison\, NJ\, 08817 \, United States
CATEGORIES:food pantry
ATTACH;FMTTYPE=image/jpeg:https://cpcedison.org/wp-content/uploads/2017/02/foodpantry3.jpg
END:VEVENT
BEGIN:VEVENT
DTSTART;TZID=America/New_York:20220324T090000
DTEND;TZID=America/New_York:20220324T110000
DTSTAMP:20260421T123120
CREATED:20200615T203852Z
LAST-MODIFIED:20220722T143535Z
UID:10000245-1648112400-1648119600@cpcedison.org
SUMMARY:Food Pantry
DESCRIPTION:  \nFOOD PANTRY\nFood Pantry is open Tuesdays and Thursdays\, 9:00am – 11:00am for Edison Residents.  No appointment necessary.
URL:https://cpcedison.org/event/food-pantry-5/2022-03-24/
LOCATION:Community Presbyterian Church\, 75 Glenville Rd.\, Edison\, NJ\, 08817 \, United States
CATEGORIES:food pantry
ATTACH;FMTTYPE=image/jpeg:https://cpcedison.org/wp-content/uploads/2017/02/foodpantry3.jpg
END:VEVENT
BEGIN:VEVENT
DTSTART;TZID=America/New_York:20220322T090000
DTEND;TZID=America/New_York:20220322T110000
DTSTAMP:20260421T123120
CREATED:20200615T203852Z
LAST-MODIFIED:20220722T143535Z
UID:10000244-1647939600-1647946800@cpcedison.org
SUMMARY:Food Pantry
DESCRIPTION:  \nFOOD PANTRY\nFood Pantry is open Tuesdays and Thursdays\, 9:00am – 11:00am for Edison Residents.  No appointment necessary.
URL:https://cpcedison.org/event/food-pantry-5/2022-03-22/
LOCATION:Community Presbyterian Church\, 75 Glenville Rd.\, Edison\, NJ\, 08817 \, United States
CATEGORIES:food pantry
ATTACH;FMTTYPE=image/jpeg:https://cpcedison.org/wp-content/uploads/2017/02/foodpantry3.jpg
END:VEVENT
BEGIN:VEVENT
DTSTART;TZID=America/New_York:20220317T090000
DTEND;TZID=America/New_York:20220317T110000
DTSTAMP:20260421T123120
CREATED:20200615T203852Z
LAST-MODIFIED:20220722T143535Z
UID:10000243-1647507600-1647514800@cpcedison.org
SUMMARY:Food Pantry
DESCRIPTION:  \nFOOD PANTRY\nFood Pantry is open Tuesdays and Thursdays\, 9:00am – 11:00am for Edison Residents.  No appointment necessary.
URL:https://cpcedison.org/event/food-pantry-5/2022-03-17/
LOCATION:Community Presbyterian Church\, 75 Glenville Rd.\, Edison\, NJ\, 08817 \, United States
CATEGORIES:food pantry
ATTACH;FMTTYPE=image/jpeg:https://cpcedison.org/wp-content/uploads/2017/02/foodpantry3.jpg
END:VEVENT
BEGIN:VEVENT
DTSTART;TZID=America/New_York:20220315T090000
DTEND;TZID=America/New_York:20220315T110000
DTSTAMP:20260421T123120
CREATED:20200615T203852Z
LAST-MODIFIED:20220722T143535Z
UID:10000242-1647334800-1647342000@cpcedison.org
SUMMARY:Food Pantry
DESCRIPTION:  \nFOOD PANTRY\nFood Pantry is open Tuesdays and Thursdays\, 9:00am – 11:00am for Edison Residents.  No appointment necessary.
URL:https://cpcedison.org/event/food-pantry-5/2022-03-15/
LOCATION:Community Presbyterian Church\, 75 Glenville Rd.\, Edison\, NJ\, 08817 \, United States
CATEGORIES:food pantry
ATTACH;FMTTYPE=image/jpeg:https://cpcedison.org/wp-content/uploads/2017/02/foodpantry3.jpg
END:VEVENT
BEGIN:VEVENT
DTSTART;TZID=America/New_York:20220310T090000
DTEND;TZID=America/New_York:20220310T110000
DTSTAMP:20260421T123120
CREATED:20200615T203852Z
LAST-MODIFIED:20220722T143535Z
UID:10000241-1646902800-1646910000@cpcedison.org
SUMMARY:Food Pantry
DESCRIPTION:  \nFOOD PANTRY\nFood Pantry is open Tuesdays and Thursdays\, 9:00am – 11:00am for Edison Residents.  No appointment necessary.
URL:https://cpcedison.org/event/food-pantry-5/2022-03-10/
LOCATION:Community Presbyterian Church\, 75 Glenville Rd.\, Edison\, NJ\, 08817 \, United States
CATEGORIES:food pantry
ATTACH;FMTTYPE=image/jpeg:https://cpcedison.org/wp-content/uploads/2017/02/foodpantry3.jpg
END:VEVENT
BEGIN:VEVENT
DTSTART;TZID=America/New_York:20220308T090000
DTEND;TZID=America/New_York:20220308T110000
DTSTAMP:20260421T123120
CREATED:20200615T203852Z
LAST-MODIFIED:20220722T143535Z
UID:10000240-1646730000-1646737200@cpcedison.org
SUMMARY:Food Pantry
DESCRIPTION:  \nFOOD PANTRY\nFood Pantry is open Tuesdays and Thursdays\, 9:00am – 11:00am for Edison Residents.  No appointment necessary.
URL:https://cpcedison.org/event/food-pantry-5/2022-03-08/
LOCATION:Community Presbyterian Church\, 75 Glenville Rd.\, Edison\, NJ\, 08817 \, United States
CATEGORIES:food pantry
ATTACH;FMTTYPE=image/jpeg:https://cpcedison.org/wp-content/uploads/2017/02/foodpantry3.jpg
END:VEVENT
BEGIN:VEVENT
DTSTART;TZID=America/New_York:20220303T090000
DTEND;TZID=America/New_York:20220303T110000
DTSTAMP:20260421T123120
CREATED:20200615T203852Z
LAST-MODIFIED:20220722T143535Z
UID:10000239-1646298000-1646305200@cpcedison.org
SUMMARY:Food Pantry
DESCRIPTION:  \nFOOD PANTRY\nFood Pantry is open Tuesdays and Thursdays\, 9:00am – 11:00am for Edison Residents.  No appointment necessary.
URL:https://cpcedison.org/event/food-pantry-5/2022-03-03/
LOCATION:Community Presbyterian Church\, 75 Glenville Rd.\, Edison\, NJ\, 08817 \, United States
CATEGORIES:food pantry
ATTACH;FMTTYPE=image/jpeg:https://cpcedison.org/wp-content/uploads/2017/02/foodpantry3.jpg
END:VEVENT
BEGIN:VEVENT
DTSTART;TZID=America/New_York:20220301T090000
DTEND;TZID=America/New_York:20220301T110000
DTSTAMP:20260421T123120
CREATED:20200615T203852Z
LAST-MODIFIED:20220722T143535Z
UID:10000238-1646125200-1646132400@cpcedison.org
SUMMARY:Food Pantry
DESCRIPTION:  \nFOOD PANTRY\nFood Pantry is open Tuesdays and Thursdays\, 9:00am – 11:00am for Edison Residents.  No appointment necessary.
URL:https://cpcedison.org/event/food-pantry-5/2022-03-01/
LOCATION:Community Presbyterian Church\, 75 Glenville Rd.\, Edison\, NJ\, 08817 \, United States
CATEGORIES:food pantry
ATTACH;FMTTYPE=image/jpeg:https://cpcedison.org/wp-content/uploads/2017/02/foodpantry3.jpg
END:VEVENT
BEGIN:VEVENT
DTSTART;TZID=America/New_York:20220224T090000
DTEND;TZID=America/New_York:20220224T110000
DTSTAMP:20260421T123120
CREATED:20200615T203852Z
LAST-MODIFIED:20220722T143535Z
UID:10000237-1645693200-1645700400@cpcedison.org
SUMMARY:Food Pantry
DESCRIPTION:  \nFOOD PANTRY\nFood Pantry is open Tuesdays and Thursdays\, 9:00am – 11:00am for Edison Residents.  No appointment necessary.
URL:https://cpcedison.org/event/food-pantry-5/2022-02-24/
LOCATION:Community Presbyterian Church\, 75 Glenville Rd.\, Edison\, NJ\, 08817 \, United States
CATEGORIES:food pantry
ATTACH;FMTTYPE=image/jpeg:https://cpcedison.org/wp-content/uploads/2017/02/foodpantry3.jpg
END:VEVENT
BEGIN:VEVENT
DTSTART;TZID=America/New_York:20220222T090000
DTEND;TZID=America/New_York:20220222T110000
DTSTAMP:20260421T123120
CREATED:20200615T203852Z
LAST-MODIFIED:20220722T143535Z
UID:10000236-1645520400-1645527600@cpcedison.org
SUMMARY:Food Pantry
DESCRIPTION:  \nFOOD PANTRY\nFood Pantry is open Tuesdays and Thursdays\, 9:00am – 11:00am for Edison Residents.  No appointment necessary.
URL:https://cpcedison.org/event/food-pantry-5/2022-02-22/
LOCATION:Community Presbyterian Church\, 75 Glenville Rd.\, Edison\, NJ\, 08817 \, United States
CATEGORIES:food pantry
ATTACH;FMTTYPE=image/jpeg:https://cpcedison.org/wp-content/uploads/2017/02/foodpantry3.jpg
END:VEVENT
BEGIN:VEVENT
DTSTART;TZID=America/New_York:20220217T090000
DTEND;TZID=America/New_York:20220217T110000
DTSTAMP:20260421T123120
CREATED:20200615T203852Z
LAST-MODIFIED:20220722T143535Z
UID:10000235-1645088400-1645095600@cpcedison.org
SUMMARY:Food Pantry
DESCRIPTION:  \nFOOD PANTRY\nFood Pantry is open Tuesdays and Thursdays\, 9:00am – 11:00am for Edison Residents.  No appointment necessary.
URL:https://cpcedison.org/event/food-pantry-5/2022-02-17/
LOCATION:Community Presbyterian Church\, 75 Glenville Rd.\, Edison\, NJ\, 08817 \, United States
CATEGORIES:food pantry
ATTACH;FMTTYPE=image/jpeg:https://cpcedison.org/wp-content/uploads/2017/02/foodpantry3.jpg
END:VEVENT
BEGIN:VEVENT
DTSTART;TZID=America/New_York:20220215T090000
DTEND;TZID=America/New_York:20220215T110000
DTSTAMP:20260421T123120
CREATED:20200615T203852Z
LAST-MODIFIED:20220722T143535Z
UID:10000234-1644915600-1644922800@cpcedison.org
SUMMARY:Food Pantry
DESCRIPTION:  \nFOOD PANTRY\nFood Pantry is open Tuesdays and Thursdays\, 9:00am – 11:00am for Edison Residents.  No appointment necessary.
URL:https://cpcedison.org/event/food-pantry-5/2022-02-15/
LOCATION:Community Presbyterian Church\, 75 Glenville Rd.\, Edison\, NJ\, 08817 \, United States
CATEGORIES:food pantry
ATTACH;FMTTYPE=image/jpeg:https://cpcedison.org/wp-content/uploads/2017/02/foodpantry3.jpg
END:VEVENT
BEGIN:VEVENT
DTSTART;TZID=America/New_York:20220210T090000
DTEND;TZID=America/New_York:20220210T110000
DTSTAMP:20260421T123120
CREATED:20200615T203852Z
LAST-MODIFIED:20220722T143535Z
UID:10000233-1644483600-1644490800@cpcedison.org
SUMMARY:Food Pantry
DESCRIPTION:  \nFOOD PANTRY\nFood Pantry is open Tuesdays and Thursdays\, 9:00am – 11:00am for Edison Residents.  No appointment necessary.
URL:https://cpcedison.org/event/food-pantry-5/2022-02-10/
LOCATION:Community Presbyterian Church\, 75 Glenville Rd.\, Edison\, NJ\, 08817 \, United States
CATEGORIES:food pantry
ATTACH;FMTTYPE=image/jpeg:https://cpcedison.org/wp-content/uploads/2017/02/foodpantry3.jpg
END:VEVENT
BEGIN:VEVENT
DTSTART;TZID=America/New_York:20220208T090000
DTEND;TZID=America/New_York:20220208T110000
DTSTAMP:20260421T123120
CREATED:20200615T203852Z
LAST-MODIFIED:20220722T143535Z
UID:10000232-1644310800-1644318000@cpcedison.org
SUMMARY:Food Pantry
DESCRIPTION:  \nFOOD PANTRY\nFood Pantry is open Tuesdays and Thursdays\, 9:00am – 11:00am for Edison Residents.  No appointment necessary.
URL:https://cpcedison.org/event/food-pantry-5/2022-02-08/
LOCATION:Community Presbyterian Church\, 75 Glenville Rd.\, Edison\, NJ\, 08817 \, United States
CATEGORIES:food pantry
ATTACH;FMTTYPE=image/jpeg:https://cpcedison.org/wp-content/uploads/2017/02/foodpantry3.jpg
END:VEVENT
BEGIN:VEVENT
DTSTART;TZID=America/New_York:20220203T090000
DTEND;TZID=America/New_York:20220203T110000
DTSTAMP:20260421T123120
CREATED:20200615T203852Z
LAST-MODIFIED:20220722T143535Z
UID:10000231-1643878800-1643886000@cpcedison.org
SUMMARY:Food Pantry
DESCRIPTION:  \nFOOD PANTRY\nFood Pantry is open Tuesdays and Thursdays\, 9:00am – 11:00am for Edison Residents.  No appointment necessary.
URL:https://cpcedison.org/event/food-pantry-5/2022-02-03/
LOCATION:Community Presbyterian Church\, 75 Glenville Rd.\, Edison\, NJ\, 08817 \, United States
CATEGORIES:food pantry
ATTACH;FMTTYPE=image/jpeg:https://cpcedison.org/wp-content/uploads/2017/02/foodpantry3.jpg
END:VEVENT
BEGIN:VEVENT
DTSTART;TZID=America/New_York:20220201T090000
DTEND;TZID=America/New_York:20220201T110000
DTSTAMP:20260421T123120
CREATED:20200615T203852Z
LAST-MODIFIED:20220722T143535Z
UID:10000230-1643706000-1643713200@cpcedison.org
SUMMARY:Food Pantry
DESCRIPTION:  \nFOOD PANTRY\nFood Pantry is open Tuesdays and Thursdays\, 9:00am – 11:00am for Edison Residents.  No appointment necessary.
URL:https://cpcedison.org/event/food-pantry-5/2022-02-01/
LOCATION:Community Presbyterian Church\, 75 Glenville Rd.\, Edison\, NJ\, 08817 \, United States
CATEGORIES:food pantry
ATTACH;FMTTYPE=image/jpeg:https://cpcedison.org/wp-content/uploads/2017/02/foodpantry3.jpg
END:VEVENT
BEGIN:VEVENT
DTSTART;TZID=America/New_York:20220127T090000
DTEND;TZID=America/New_York:20220127T110000
DTSTAMP:20260421T123120
CREATED:20200615T203852Z
LAST-MODIFIED:20220722T143535Z
UID:10000229-1643274000-1643281200@cpcedison.org
SUMMARY:Food Pantry
DESCRIPTION:  \nFOOD PANTRY\nFood Pantry is open Tuesdays and Thursdays\, 9:00am – 11:00am for Edison Residents.  No appointment necessary.
URL:https://cpcedison.org/event/food-pantry-5/2022-01-27/
LOCATION:Community Presbyterian Church\, 75 Glenville Rd.\, Edison\, NJ\, 08817 \, United States
CATEGORIES:food pantry
ATTACH;FMTTYPE=image/jpeg:https://cpcedison.org/wp-content/uploads/2017/02/foodpantry3.jpg
END:VEVENT
BEGIN:VEVENT
DTSTART;TZID=America/New_York:20220125T090000
DTEND;TZID=America/New_York:20220125T110000
DTSTAMP:20260421T123120
CREATED:20200615T203852Z
LAST-MODIFIED:20220722T143535Z
UID:10000228-1643101200-1643108400@cpcedison.org
SUMMARY:Food Pantry
DESCRIPTION:  \nFOOD PANTRY\nFood Pantry is open Tuesdays and Thursdays\, 9:00am – 11:00am for Edison Residents.  No appointment necessary.
URL:https://cpcedison.org/event/food-pantry-5/2022-01-25/
LOCATION:Community Presbyterian Church\, 75 Glenville Rd.\, Edison\, NJ\, 08817 \, United States
CATEGORIES:food pantry
ATTACH;FMTTYPE=image/jpeg:https://cpcedison.org/wp-content/uploads/2017/02/foodpantry3.jpg
END:VEVENT
BEGIN:VEVENT
DTSTART;TZID=America/New_York:20220120T090000
DTEND;TZID=America/New_York:20220120T110000
DTSTAMP:20260421T123120
CREATED:20200615T203852Z
LAST-MODIFIED:20220722T143535Z
UID:10000227-1642669200-1642676400@cpcedison.org
SUMMARY:Food Pantry
DESCRIPTION:  \nFOOD PANTRY\nFood Pantry is open Tuesdays and Thursdays\, 9:00am – 11:00am for Edison Residents.  No appointment necessary.
URL:https://cpcedison.org/event/food-pantry-5/2022-01-20/
LOCATION:Community Presbyterian Church\, 75 Glenville Rd.\, Edison\, NJ\, 08817 \, United States
CATEGORIES:food pantry
ATTACH;FMTTYPE=image/jpeg:https://cpcedison.org/wp-content/uploads/2017/02/foodpantry3.jpg
END:VEVENT
BEGIN:VEVENT
DTSTART;TZID=America/New_York:20220118T090000
DTEND;TZID=America/New_York:20220118T110000
DTSTAMP:20260421T123120
CREATED:20200615T203852Z
LAST-MODIFIED:20220722T143535Z
UID:10000226-1642496400-1642503600@cpcedison.org
SUMMARY:Food Pantry
DESCRIPTION:  \nFOOD PANTRY\nFood Pantry is open Tuesdays and Thursdays\, 9:00am – 11:00am for Edison Residents.  No appointment necessary.
URL:https://cpcedison.org/event/food-pantry-5/2022-01-18/
LOCATION:Community Presbyterian Church\, 75 Glenville Rd.\, Edison\, NJ\, 08817 \, United States
CATEGORIES:food pantry
ATTACH;FMTTYPE=image/jpeg:https://cpcedison.org/wp-content/uploads/2017/02/foodpantry3.jpg
END:VEVENT
BEGIN:VEVENT
DTSTART;TZID=America/New_York:20220113T090000
DTEND;TZID=America/New_York:20220113T110000
DTSTAMP:20260421T123120
CREATED:20200615T203852Z
LAST-MODIFIED:20220722T143535Z
UID:10000225-1642064400-1642071600@cpcedison.org
SUMMARY:Food Pantry
DESCRIPTION:  \nFOOD PANTRY\nFood Pantry is open Tuesdays and Thursdays\, 9:00am – 11:00am for Edison Residents.  No appointment necessary.
URL:https://cpcedison.org/event/food-pantry-5/2022-01-13/
LOCATION:Community Presbyterian Church\, 75 Glenville Rd.\, Edison\, NJ\, 08817 \, United States
CATEGORIES:food pantry
ATTACH;FMTTYPE=image/jpeg:https://cpcedison.org/wp-content/uploads/2017/02/foodpantry3.jpg
END:VEVENT
BEGIN:VEVENT
DTSTART;TZID=America/New_York:20220111T090000
DTEND;TZID=America/New_York:20220111T110000
DTSTAMP:20260421T123120
CREATED:20200615T203852Z
LAST-MODIFIED:20220722T143535Z
UID:10000224-1641891600-1641898800@cpcedison.org
SUMMARY:Food Pantry
DESCRIPTION:  \nFOOD PANTRY\nFood Pantry is open Tuesdays and Thursdays\, 9:00am – 11:00am for Edison Residents.  No appointment necessary.
URL:https://cpcedison.org/event/food-pantry-5/2022-01-11/
LOCATION:Community Presbyterian Church\, 75 Glenville Rd.\, Edison\, NJ\, 08817 \, United States
CATEGORIES:food pantry
ATTACH;FMTTYPE=image/jpeg:https://cpcedison.org/wp-content/uploads/2017/02/foodpantry3.jpg
END:VEVENT
BEGIN:VEVENT
DTSTART;TZID=America/New_York:20220106T090000
DTEND;TZID=America/New_York:20220106T110000
DTSTAMP:20260421T123120
CREATED:20200615T203852Z
LAST-MODIFIED:20220722T143535Z
UID:10000223-1641459600-1641466800@cpcedison.org
SUMMARY:Food Pantry
DESCRIPTION:  \nFOOD PANTRY\nFood Pantry is open Tuesdays and Thursdays\, 9:00am – 11:00am for Edison Residents.  No appointment necessary.
URL:https://cpcedison.org/event/food-pantry-5/2022-01-06/
LOCATION:Community Presbyterian Church\, 75 Glenville Rd.\, Edison\, NJ\, 08817 \, United States
CATEGORIES:food pantry
ATTACH;FMTTYPE=image/jpeg:https://cpcedison.org/wp-content/uploads/2017/02/foodpantry3.jpg
END:VEVENT
END:VCALENDAR