BEGIN:VCALENDAR
VERSION:2.0
PRODID:-//Community Presbyterian Church - Edison NJ - ECPv6.15.20//NONSGML v1.0//EN
CALSCALE:GREGORIAN
METHOD:PUBLISH
X-WR-CALNAME:Community Presbyterian Church - Edison NJ
X-ORIGINAL-URL:https://cpcedison.org
X-WR-CALDESC:Events for Community Presbyterian Church - Edison NJ
REFRESH-INTERVAL;VALUE=DURATION:PT1H
X-Robots-Tag:noindex
X-PUBLISHED-TTL:PT1H
BEGIN:VTIMEZONE
TZID:America/New_York
BEGIN:DAYLIGHT
TZOFFSETFROM:-0500
TZOFFSETTO:-0400
TZNAME:EDT
DTSTART:20280312T070000
END:DAYLIGHT
BEGIN:STANDARD
TZOFFSETFROM:-0400
TZOFFSETTO:-0500
TZNAME:EST
DTSTART:20281105T060000
END:STANDARD
BEGIN:DAYLIGHT
TZOFFSETFROM:-0500
TZOFFSETTO:-0400
TZNAME:EDT
DTSTART:20290311T070000
END:DAYLIGHT
BEGIN:STANDARD
TZOFFSETFROM:-0400
TZOFFSETTO:-0500
TZNAME:EST
DTSTART:20291104T060000
END:STANDARD
BEGIN:DAYLIGHT
TZOFFSETFROM:-0500
TZOFFSETTO:-0400
TZNAME:EDT
DTSTART:20300310T070000
END:DAYLIGHT
BEGIN:STANDARD
TZOFFSETFROM:-0400
TZOFFSETTO:-0500
TZNAME:EST
DTSTART:20301103T060000
END:STANDARD
BEGIN:DAYLIGHT
TZOFFSETFROM:-0500
TZOFFSETTO:-0400
TZNAME:EDT
DTSTART:20310309T070000
END:DAYLIGHT
BEGIN:STANDARD
TZOFFSETFROM:-0400
TZOFFSETTO:-0500
TZNAME:EST
DTSTART:20311102T060000
END:STANDARD
END:VTIMEZONE
BEGIN:VEVENT
DTSTART;TZID=America/New_York:20291213T090000
DTEND;TZID=America/New_York:20291213T110000
DTSTAMP:20260421T122023
CREATED:20260223T214228Z
LAST-MODIFIED:20260223T214338Z
UID:10022160-1891846800-1891854000@cpcedison.org
SUMMARY:Food Pantry
DESCRIPTION:
URL:https://cpcedison.org/event/food-pantry-5-2-2/2029-12-13/
LOCATION:Community Presbyterian Church\, 75 Glenville Rd.\, Edison\, NJ\, 08817 \, United States
CATEGORIES:food pantry
ATTACH;FMTTYPE=image/jpeg:https://cpcedison.org/wp-content/uploads/2017/02/foodpantry3.jpg
END:VEVENT
BEGIN:VEVENT
DTSTART;TZID=America/New_York:20291218T090000
DTEND;TZID=America/New_York:20291218T110000
DTSTAMP:20260421T122023
CREATED:20260223T214228Z
LAST-MODIFIED:20260223T214338Z
UID:10021487-1892278800-1892286000@cpcedison.org
SUMMARY:Food Pantry
DESCRIPTION:
URL:https://cpcedison.org/event/food-pantry-5-2-2/2029-12-18/
LOCATION:Community Presbyterian Church\, 75 Glenville Rd.\, Edison\, NJ\, 08817 \, United States
CATEGORIES:food pantry
ATTACH;FMTTYPE=image/jpeg:https://cpcedison.org/wp-content/uploads/2017/02/foodpantry3.jpg
END:VEVENT
BEGIN:VEVENT
DTSTART;TZID=America/New_York:20291220T090000
DTEND;TZID=America/New_York:20291220T110000
DTSTAMP:20260421T122023
CREATED:20260223T214228Z
LAST-MODIFIED:20260223T214338Z
UID:10022161-1892451600-1892458800@cpcedison.org
SUMMARY:Food Pantry
DESCRIPTION:
URL:https://cpcedison.org/event/food-pantry-5-2-2/2029-12-20/
LOCATION:Community Presbyterian Church\, 75 Glenville Rd.\, Edison\, NJ\, 08817 \, United States
CATEGORIES:food pantry
ATTACH;FMTTYPE=image/jpeg:https://cpcedison.org/wp-content/uploads/2017/02/foodpantry3.jpg
END:VEVENT
BEGIN:VEVENT
DTSTART;TZID=America/New_York:20291225T090000
DTEND;TZID=America/New_York:20291225T110000
DTSTAMP:20260421T122023
CREATED:20260223T214228Z
LAST-MODIFIED:20260223T214338Z
UID:10021488-1892883600-1892890800@cpcedison.org
SUMMARY:Food Pantry
DESCRIPTION:
URL:https://cpcedison.org/event/food-pantry-5-2-2/2029-12-25/
LOCATION:Community Presbyterian Church\, 75 Glenville Rd.\, Edison\, NJ\, 08817 \, United States
CATEGORIES:food pantry
ATTACH;FMTTYPE=image/jpeg:https://cpcedison.org/wp-content/uploads/2017/02/foodpantry3.jpg
END:VEVENT
BEGIN:VEVENT
DTSTART;TZID=America/New_York:20291227T090000
DTEND;TZID=America/New_York:20291227T110000
DTSTAMP:20260421T122023
CREATED:20260223T214228Z
LAST-MODIFIED:20260223T214338Z
UID:10022162-1893056400-1893063600@cpcedison.org
SUMMARY:Food Pantry
DESCRIPTION:
URL:https://cpcedison.org/event/food-pantry-5-2-2/2029-12-27/
LOCATION:Community Presbyterian Church\, 75 Glenville Rd.\, Edison\, NJ\, 08817 \, United States
CATEGORIES:food pantry
ATTACH;FMTTYPE=image/jpeg:https://cpcedison.org/wp-content/uploads/2017/02/foodpantry3.jpg
END:VEVENT
BEGIN:VEVENT
DTSTART;TZID=America/New_York:20300101T090000
DTEND;TZID=America/New_York:20300101T110000
DTSTAMP:20260421T122023
CREATED:20260223T214228Z
LAST-MODIFIED:20260223T214338Z
UID:10021489-1893488400-1893495600@cpcedison.org
SUMMARY:Food Pantry
DESCRIPTION:
URL:https://cpcedison.org/event/food-pantry-5-2-2/2030-01-01/
LOCATION:Community Presbyterian Church\, 75 Glenville Rd.\, Edison\, NJ\, 08817 \, United States
CATEGORIES:food pantry
ATTACH;FMTTYPE=image/jpeg:https://cpcedison.org/wp-content/uploads/2017/02/foodpantry3.jpg
END:VEVENT
BEGIN:VEVENT
DTSTART;TZID=America/New_York:20300103T090000
DTEND;TZID=America/New_York:20300103T110000
DTSTAMP:20260421T122023
CREATED:20260223T214228Z
LAST-MODIFIED:20260223T214338Z
UID:10022163-1893661200-1893668400@cpcedison.org
SUMMARY:Food Pantry
DESCRIPTION:
URL:https://cpcedison.org/event/food-pantry-5-2-2/2030-01-03/
LOCATION:Community Presbyterian Church\, 75 Glenville Rd.\, Edison\, NJ\, 08817 \, United States
CATEGORIES:food pantry
ATTACH;FMTTYPE=image/jpeg:https://cpcedison.org/wp-content/uploads/2017/02/foodpantry3.jpg
END:VEVENT
BEGIN:VEVENT
DTSTART;TZID=America/New_York:20300108T090000
DTEND;TZID=America/New_York:20300108T110000
DTSTAMP:20260421T122023
CREATED:20260223T214228Z
LAST-MODIFIED:20260223T214338Z
UID:10021490-1894093200-1894100400@cpcedison.org
SUMMARY:Food Pantry
DESCRIPTION:
URL:https://cpcedison.org/event/food-pantry-5-2-2/2030-01-08/
LOCATION:Community Presbyterian Church\, 75 Glenville Rd.\, Edison\, NJ\, 08817 \, United States
CATEGORIES:food pantry
ATTACH;FMTTYPE=image/jpeg:https://cpcedison.org/wp-content/uploads/2017/02/foodpantry3.jpg
END:VEVENT
BEGIN:VEVENT
DTSTART;TZID=America/New_York:20300110T090000
DTEND;TZID=America/New_York:20300110T110000
DTSTAMP:20260421T122023
CREATED:20260223T214228Z
LAST-MODIFIED:20260223T214338Z
UID:10022164-1894266000-1894273200@cpcedison.org
SUMMARY:Food Pantry
DESCRIPTION:
URL:https://cpcedison.org/event/food-pantry-5-2-2/2030-01-10/
LOCATION:Community Presbyterian Church\, 75 Glenville Rd.\, Edison\, NJ\, 08817 \, United States
CATEGORIES:food pantry
ATTACH;FMTTYPE=image/jpeg:https://cpcedison.org/wp-content/uploads/2017/02/foodpantry3.jpg
END:VEVENT
BEGIN:VEVENT
DTSTART;TZID=America/New_York:20300115T090000
DTEND;TZID=America/New_York:20300115T110000
DTSTAMP:20260421T122023
CREATED:20260223T214228Z
LAST-MODIFIED:20260223T214338Z
UID:10021491-1894698000-1894705200@cpcedison.org
SUMMARY:Food Pantry
DESCRIPTION:
URL:https://cpcedison.org/event/food-pantry-5-2-2/2030-01-15/
LOCATION:Community Presbyterian Church\, 75 Glenville Rd.\, Edison\, NJ\, 08817 \, United States
CATEGORIES:food pantry
ATTACH;FMTTYPE=image/jpeg:https://cpcedison.org/wp-content/uploads/2017/02/foodpantry3.jpg
END:VEVENT
BEGIN:VEVENT
DTSTART;TZID=America/New_York:20300117T090000
DTEND;TZID=America/New_York:20300117T110000
DTSTAMP:20260421T122023
CREATED:20260223T214228Z
LAST-MODIFIED:20260223T214338Z
UID:10022165-1894870800-1894878000@cpcedison.org
SUMMARY:Food Pantry
DESCRIPTION:
URL:https://cpcedison.org/event/food-pantry-5-2-2/2030-01-17/
LOCATION:Community Presbyterian Church\, 75 Glenville Rd.\, Edison\, NJ\, 08817 \, United States
CATEGORIES:food pantry
ATTACH;FMTTYPE=image/jpeg:https://cpcedison.org/wp-content/uploads/2017/02/foodpantry3.jpg
END:VEVENT
BEGIN:VEVENT
DTSTART;TZID=America/New_York:20300122T090000
DTEND;TZID=America/New_York:20300122T110000
DTSTAMP:20260421T122023
CREATED:20260223T214228Z
LAST-MODIFIED:20260223T214338Z
UID:10021492-1895302800-1895310000@cpcedison.org
SUMMARY:Food Pantry
DESCRIPTION:
URL:https://cpcedison.org/event/food-pantry-5-2-2/2030-01-22/
LOCATION:Community Presbyterian Church\, 75 Glenville Rd.\, Edison\, NJ\, 08817 \, United States
CATEGORIES:food pantry
ATTACH;FMTTYPE=image/jpeg:https://cpcedison.org/wp-content/uploads/2017/02/foodpantry3.jpg
END:VEVENT
BEGIN:VEVENT
DTSTART;TZID=America/New_York:20300124T090000
DTEND;TZID=America/New_York:20300124T110000
DTSTAMP:20260421T122023
CREATED:20260223T214228Z
LAST-MODIFIED:20260223T214338Z
UID:10022166-1895475600-1895482800@cpcedison.org
SUMMARY:Food Pantry
DESCRIPTION:
URL:https://cpcedison.org/event/food-pantry-5-2-2/2030-01-24/
LOCATION:Community Presbyterian Church\, 75 Glenville Rd.\, Edison\, NJ\, 08817 \, United States
CATEGORIES:food pantry
ATTACH;FMTTYPE=image/jpeg:https://cpcedison.org/wp-content/uploads/2017/02/foodpantry3.jpg
END:VEVENT
BEGIN:VEVENT
DTSTART;TZID=America/New_York:20300129T090000
DTEND;TZID=America/New_York:20300129T110000
DTSTAMP:20260421T122023
CREATED:20260223T214228Z
LAST-MODIFIED:20260223T214338Z
UID:10021493-1895907600-1895914800@cpcedison.org
SUMMARY:Food Pantry
DESCRIPTION:
URL:https://cpcedison.org/event/food-pantry-5-2-2/2030-01-29/
LOCATION:Community Presbyterian Church\, 75 Glenville Rd.\, Edison\, NJ\, 08817 \, United States
CATEGORIES:food pantry
ATTACH;FMTTYPE=image/jpeg:https://cpcedison.org/wp-content/uploads/2017/02/foodpantry3.jpg
END:VEVENT
BEGIN:VEVENT
DTSTART;TZID=America/New_York:20300131T090000
DTEND;TZID=America/New_York:20300131T110000
DTSTAMP:20260421T122023
CREATED:20260223T214228Z
LAST-MODIFIED:20260223T214338Z
UID:10022167-1896080400-1896087600@cpcedison.org
SUMMARY:Food Pantry
DESCRIPTION:
URL:https://cpcedison.org/event/food-pantry-5-2-2/2030-01-31/
LOCATION:Community Presbyterian Church\, 75 Glenville Rd.\, Edison\, NJ\, 08817 \, United States
CATEGORIES:food pantry
ATTACH;FMTTYPE=image/jpeg:https://cpcedison.org/wp-content/uploads/2017/02/foodpantry3.jpg
END:VEVENT
BEGIN:VEVENT
DTSTART;TZID=America/New_York:20300205T090000
DTEND;TZID=America/New_York:20300205T110000
DTSTAMP:20260421T122023
CREATED:20260223T214228Z
LAST-MODIFIED:20260223T214338Z
UID:10021494-1896512400-1896519600@cpcedison.org
SUMMARY:Food Pantry
DESCRIPTION:
URL:https://cpcedison.org/event/food-pantry-5-2-2/2030-02-05/
LOCATION:Community Presbyterian Church\, 75 Glenville Rd.\, Edison\, NJ\, 08817 \, United States
CATEGORIES:food pantry
ATTACH;FMTTYPE=image/jpeg:https://cpcedison.org/wp-content/uploads/2017/02/foodpantry3.jpg
END:VEVENT
BEGIN:VEVENT
DTSTART;TZID=America/New_York:20300207T090000
DTEND;TZID=America/New_York:20300207T110000
DTSTAMP:20260421T122023
CREATED:20260223T214228Z
LAST-MODIFIED:20260223T214338Z
UID:10022168-1896685200-1896692400@cpcedison.org
SUMMARY:Food Pantry
DESCRIPTION:
URL:https://cpcedison.org/event/food-pantry-5-2-2/2030-02-07/
LOCATION:Community Presbyterian Church\, 75 Glenville Rd.\, Edison\, NJ\, 08817 \, United States
CATEGORIES:food pantry
ATTACH;FMTTYPE=image/jpeg:https://cpcedison.org/wp-content/uploads/2017/02/foodpantry3.jpg
END:VEVENT
BEGIN:VEVENT
DTSTART;TZID=America/New_York:20300212T090000
DTEND;TZID=America/New_York:20300212T110000
DTSTAMP:20260421T122023
CREATED:20260223T214228Z
LAST-MODIFIED:20260223T214338Z
UID:10021495-1897117200-1897124400@cpcedison.org
SUMMARY:Food Pantry
DESCRIPTION:
URL:https://cpcedison.org/event/food-pantry-5-2-2/2030-02-12/
LOCATION:Community Presbyterian Church\, 75 Glenville Rd.\, Edison\, NJ\, 08817 \, United States
CATEGORIES:food pantry
ATTACH;FMTTYPE=image/jpeg:https://cpcedison.org/wp-content/uploads/2017/02/foodpantry3.jpg
END:VEVENT
BEGIN:VEVENT
DTSTART;TZID=America/New_York:20300214T090000
DTEND;TZID=America/New_York:20300214T110000
DTSTAMP:20260421T122023
CREATED:20260223T214228Z
LAST-MODIFIED:20260223T214338Z
UID:10022169-1897290000-1897297200@cpcedison.org
SUMMARY:Food Pantry
DESCRIPTION:
URL:https://cpcedison.org/event/food-pantry-5-2-2/2030-02-14/
LOCATION:Community Presbyterian Church\, 75 Glenville Rd.\, Edison\, NJ\, 08817 \, United States
CATEGORIES:food pantry
ATTACH;FMTTYPE=image/jpeg:https://cpcedison.org/wp-content/uploads/2017/02/foodpantry3.jpg
END:VEVENT
BEGIN:VEVENT
DTSTART;TZID=America/New_York:20300219T090000
DTEND;TZID=America/New_York:20300219T110000
DTSTAMP:20260421T122023
CREATED:20260223T214228Z
LAST-MODIFIED:20260223T214338Z
UID:10021496-1897722000-1897729200@cpcedison.org
SUMMARY:Food Pantry
DESCRIPTION:
URL:https://cpcedison.org/event/food-pantry-5-2-2/2030-02-19/
LOCATION:Community Presbyterian Church\, 75 Glenville Rd.\, Edison\, NJ\, 08817 \, United States
CATEGORIES:food pantry
ATTACH;FMTTYPE=image/jpeg:https://cpcedison.org/wp-content/uploads/2017/02/foodpantry3.jpg
END:VEVENT
BEGIN:VEVENT
DTSTART;TZID=America/New_York:20300221T090000
DTEND;TZID=America/New_York:20300221T110000
DTSTAMP:20260421T122023
CREATED:20260223T214228Z
LAST-MODIFIED:20260223T214338Z
UID:10022170-1897894800-1897902000@cpcedison.org
SUMMARY:Food Pantry
DESCRIPTION:
URL:https://cpcedison.org/event/food-pantry-5-2-2/2030-02-21/
LOCATION:Community Presbyterian Church\, 75 Glenville Rd.\, Edison\, NJ\, 08817 \, United States
CATEGORIES:food pantry
ATTACH;FMTTYPE=image/jpeg:https://cpcedison.org/wp-content/uploads/2017/02/foodpantry3.jpg
END:VEVENT
BEGIN:VEVENT
DTSTART;TZID=America/New_York:20300226T090000
DTEND;TZID=America/New_York:20300226T110000
DTSTAMP:20260421T122023
CREATED:20260223T214228Z
LAST-MODIFIED:20260223T214338Z
UID:10021497-1898326800-1898334000@cpcedison.org
SUMMARY:Food Pantry
DESCRIPTION:
URL:https://cpcedison.org/event/food-pantry-5-2-2/2030-02-26/
LOCATION:Community Presbyterian Church\, 75 Glenville Rd.\, Edison\, NJ\, 08817 \, United States
CATEGORIES:food pantry
ATTACH;FMTTYPE=image/jpeg:https://cpcedison.org/wp-content/uploads/2017/02/foodpantry3.jpg
END:VEVENT
BEGIN:VEVENT
DTSTART;TZID=America/New_York:20300228T090000
DTEND;TZID=America/New_York:20300228T110000
DTSTAMP:20260421T122023
CREATED:20260223T214228Z
LAST-MODIFIED:20260223T214338Z
UID:10022171-1898499600-1898506800@cpcedison.org
SUMMARY:Food Pantry
DESCRIPTION:
URL:https://cpcedison.org/event/food-pantry-5-2-2/2030-02-28/
LOCATION:Community Presbyterian Church\, 75 Glenville Rd.\, Edison\, NJ\, 08817 \, United States
CATEGORIES:food pantry
ATTACH;FMTTYPE=image/jpeg:https://cpcedison.org/wp-content/uploads/2017/02/foodpantry3.jpg
END:VEVENT
BEGIN:VEVENT
DTSTART;TZID=America/New_York:20300305T090000
DTEND;TZID=America/New_York:20300305T110000
DTSTAMP:20260421T122023
CREATED:20260223T214228Z
LAST-MODIFIED:20260223T214338Z
UID:10021498-1898931600-1898938800@cpcedison.org
SUMMARY:Food Pantry
DESCRIPTION:
URL:https://cpcedison.org/event/food-pantry-5-2-2/2030-03-05/
LOCATION:Community Presbyterian Church\, 75 Glenville Rd.\, Edison\, NJ\, 08817 \, United States
CATEGORIES:food pantry
ATTACH;FMTTYPE=image/jpeg:https://cpcedison.org/wp-content/uploads/2017/02/foodpantry3.jpg
END:VEVENT
BEGIN:VEVENT
DTSTART;TZID=America/New_York:20300307T090000
DTEND;TZID=America/New_York:20300307T110000
DTSTAMP:20260421T122023
CREATED:20260223T214228Z
LAST-MODIFIED:20260223T214338Z
UID:10022172-1899104400-1899111600@cpcedison.org
SUMMARY:Food Pantry
DESCRIPTION:
URL:https://cpcedison.org/event/food-pantry-5-2-2/2030-03-07/
LOCATION:Community Presbyterian Church\, 75 Glenville Rd.\, Edison\, NJ\, 08817 \, United States
CATEGORIES:food pantry
ATTACH;FMTTYPE=image/jpeg:https://cpcedison.org/wp-content/uploads/2017/02/foodpantry3.jpg
END:VEVENT
BEGIN:VEVENT
DTSTART;TZID=America/New_York:20300312T090000
DTEND;TZID=America/New_York:20300312T110000
DTSTAMP:20260421T122023
CREATED:20260223T214228Z
LAST-MODIFIED:20260223T214338Z
UID:10021499-1899536400-1899543600@cpcedison.org
SUMMARY:Food Pantry
DESCRIPTION:
URL:https://cpcedison.org/event/food-pantry-5-2-2/2030-03-12/
LOCATION:Community Presbyterian Church\, 75 Glenville Rd.\, Edison\, NJ\, 08817 \, United States
CATEGORIES:food pantry
ATTACH;FMTTYPE=image/jpeg:https://cpcedison.org/wp-content/uploads/2017/02/foodpantry3.jpg
END:VEVENT
BEGIN:VEVENT
DTSTART;TZID=America/New_York:20300314T090000
DTEND;TZID=America/New_York:20300314T110000
DTSTAMP:20260421T122023
CREATED:20260223T214228Z
LAST-MODIFIED:20260223T214338Z
UID:10022173-1899709200-1899716400@cpcedison.org
SUMMARY:Food Pantry
DESCRIPTION:
URL:https://cpcedison.org/event/food-pantry-5-2-2/2030-03-14/
LOCATION:Community Presbyterian Church\, 75 Glenville Rd.\, Edison\, NJ\, 08817 \, United States
CATEGORIES:food pantry
ATTACH;FMTTYPE=image/jpeg:https://cpcedison.org/wp-content/uploads/2017/02/foodpantry3.jpg
END:VEVENT
BEGIN:VEVENT
DTSTART;TZID=America/New_York:20300319T090000
DTEND;TZID=America/New_York:20300319T110000
DTSTAMP:20260421T122023
CREATED:20260223T214228Z
LAST-MODIFIED:20260223T214338Z
UID:10021500-1900141200-1900148400@cpcedison.org
SUMMARY:Food Pantry
DESCRIPTION:
URL:https://cpcedison.org/event/food-pantry-5-2-2/2030-03-19/
LOCATION:Community Presbyterian Church\, 75 Glenville Rd.\, Edison\, NJ\, 08817 \, United States
CATEGORIES:food pantry
ATTACH;FMTTYPE=image/jpeg:https://cpcedison.org/wp-content/uploads/2017/02/foodpantry3.jpg
END:VEVENT
BEGIN:VEVENT
DTSTART;TZID=America/New_York:20300321T090000
DTEND;TZID=America/New_York:20300321T110000
DTSTAMP:20260421T122023
CREATED:20260223T214228Z
LAST-MODIFIED:20260223T214338Z
UID:10022174-1900314000-1900321200@cpcedison.org
SUMMARY:Food Pantry
DESCRIPTION:
URL:https://cpcedison.org/event/food-pantry-5-2-2/2030-03-21/
LOCATION:Community Presbyterian Church\, 75 Glenville Rd.\, Edison\, NJ\, 08817 \, United States
CATEGORIES:food pantry
ATTACH;FMTTYPE=image/jpeg:https://cpcedison.org/wp-content/uploads/2017/02/foodpantry3.jpg
END:VEVENT
BEGIN:VEVENT
DTSTART;TZID=America/New_York:20300326T090000
DTEND;TZID=America/New_York:20300326T110000
DTSTAMP:20260421T122023
CREATED:20260223T214228Z
LAST-MODIFIED:20260223T214338Z
UID:10021501-1900746000-1900753200@cpcedison.org
SUMMARY:Food Pantry
DESCRIPTION:
URL:https://cpcedison.org/event/food-pantry-5-2-2/2030-03-26/
LOCATION:Community Presbyterian Church\, 75 Glenville Rd.\, Edison\, NJ\, 08817 \, United States
CATEGORIES:food pantry
ATTACH;FMTTYPE=image/jpeg:https://cpcedison.org/wp-content/uploads/2017/02/foodpantry3.jpg
END:VEVENT
END:VCALENDAR