BEGIN:VCALENDAR
VERSION:2.0
PRODID:-//Community Presbyterian Church - Edison NJ - ECPv6.15.20//NONSGML v1.0//EN
CALSCALE:GREGORIAN
METHOD:PUBLISH
X-WR-CALNAME:Community Presbyterian Church - Edison NJ
X-ORIGINAL-URL:https://cpcedison.org
X-WR-CALDESC:Events for Community Presbyterian Church - Edison NJ
REFRESH-INTERVAL;VALUE=DURATION:PT1H
X-Robots-Tag:noindex
X-PUBLISHED-TTL:PT1H
BEGIN:VTIMEZONE
TZID:America/New_York
BEGIN:DAYLIGHT
TZOFFSETFROM:-0500
TZOFFSETTO:-0400
TZNAME:EDT
DTSTART:20290311T070000
END:DAYLIGHT
BEGIN:STANDARD
TZOFFSETFROM:-0400
TZOFFSETTO:-0500
TZNAME:EST
DTSTART:20291104T060000
END:STANDARD
BEGIN:DAYLIGHT
TZOFFSETFROM:-0500
TZOFFSETTO:-0400
TZNAME:EDT
DTSTART:20300310T070000
END:DAYLIGHT
BEGIN:STANDARD
TZOFFSETFROM:-0400
TZOFFSETTO:-0500
TZNAME:EST
DTSTART:20301103T060000
END:STANDARD
BEGIN:DAYLIGHT
TZOFFSETFROM:-0500
TZOFFSETTO:-0400
TZNAME:EDT
DTSTART:20310309T070000
END:DAYLIGHT
BEGIN:STANDARD
TZOFFSETFROM:-0400
TZOFFSETTO:-0500
TZNAME:EST
DTSTART:20311102T060000
END:STANDARD
END:VTIMEZONE
BEGIN:VEVENT
DTSTART;TZID=America/New_York:20300221T090000
DTEND;TZID=America/New_York:20300221T110000
DTSTAMP:20260423T064156
CREATED:20260223T214228Z
LAST-MODIFIED:20260223T214338Z
UID:10022170-1897894800-1897902000@cpcedison.org
SUMMARY:Food Pantry
DESCRIPTION:
URL:https://cpcedison.org/event/food-pantry-5-2-2/2030-02-21/
LOCATION:Community Presbyterian Church\, 75 Glenville Rd.\, Edison\, NJ\, 08817 \, United States
CATEGORIES:food pantry
ATTACH;FMTTYPE=image/jpeg:https://cpcedison.org/wp-content/uploads/2017/02/foodpantry3.jpg
END:VEVENT
BEGIN:VEVENT
DTSTART;TZID=America/New_York:20300226T090000
DTEND;TZID=America/New_York:20300226T110000
DTSTAMP:20260423T064156
CREATED:20260223T214228Z
LAST-MODIFIED:20260223T214338Z
UID:10021497-1898326800-1898334000@cpcedison.org
SUMMARY:Food Pantry
DESCRIPTION:
URL:https://cpcedison.org/event/food-pantry-5-2-2/2030-02-26/
LOCATION:Community Presbyterian Church\, 75 Glenville Rd.\, Edison\, NJ\, 08817 \, United States
CATEGORIES:food pantry
ATTACH;FMTTYPE=image/jpeg:https://cpcedison.org/wp-content/uploads/2017/02/foodpantry3.jpg
END:VEVENT
BEGIN:VEVENT
DTSTART;TZID=America/New_York:20300228T090000
DTEND;TZID=America/New_York:20300228T110000
DTSTAMP:20260423T064156
CREATED:20260223T214228Z
LAST-MODIFIED:20260223T214338Z
UID:10022171-1898499600-1898506800@cpcedison.org
SUMMARY:Food Pantry
DESCRIPTION:
URL:https://cpcedison.org/event/food-pantry-5-2-2/2030-02-28/
LOCATION:Community Presbyterian Church\, 75 Glenville Rd.\, Edison\, NJ\, 08817 \, United States
CATEGORIES:food pantry
ATTACH;FMTTYPE=image/jpeg:https://cpcedison.org/wp-content/uploads/2017/02/foodpantry3.jpg
END:VEVENT
BEGIN:VEVENT
DTSTART;TZID=America/New_York:20300305T090000
DTEND;TZID=America/New_York:20300305T110000
DTSTAMP:20260423T064156
CREATED:20260223T214228Z
LAST-MODIFIED:20260223T214338Z
UID:10021498-1898931600-1898938800@cpcedison.org
SUMMARY:Food Pantry
DESCRIPTION:
URL:https://cpcedison.org/event/food-pantry-5-2-2/2030-03-05/
LOCATION:Community Presbyterian Church\, 75 Glenville Rd.\, Edison\, NJ\, 08817 \, United States
CATEGORIES:food pantry
ATTACH;FMTTYPE=image/jpeg:https://cpcedison.org/wp-content/uploads/2017/02/foodpantry3.jpg
END:VEVENT
BEGIN:VEVENT
DTSTART;TZID=America/New_York:20300307T090000
DTEND;TZID=America/New_York:20300307T110000
DTSTAMP:20260423T064156
CREATED:20260223T214228Z
LAST-MODIFIED:20260223T214338Z
UID:10022172-1899104400-1899111600@cpcedison.org
SUMMARY:Food Pantry
DESCRIPTION:
URL:https://cpcedison.org/event/food-pantry-5-2-2/2030-03-07/
LOCATION:Community Presbyterian Church\, 75 Glenville Rd.\, Edison\, NJ\, 08817 \, United States
CATEGORIES:food pantry
ATTACH;FMTTYPE=image/jpeg:https://cpcedison.org/wp-content/uploads/2017/02/foodpantry3.jpg
END:VEVENT
BEGIN:VEVENT
DTSTART;TZID=America/New_York:20300312T090000
DTEND;TZID=America/New_York:20300312T110000
DTSTAMP:20260423T064156
CREATED:20260223T214228Z
LAST-MODIFIED:20260223T214338Z
UID:10021499-1899536400-1899543600@cpcedison.org
SUMMARY:Food Pantry
DESCRIPTION:
URL:https://cpcedison.org/event/food-pantry-5-2-2/2030-03-12/
LOCATION:Community Presbyterian Church\, 75 Glenville Rd.\, Edison\, NJ\, 08817 \, United States
CATEGORIES:food pantry
ATTACH;FMTTYPE=image/jpeg:https://cpcedison.org/wp-content/uploads/2017/02/foodpantry3.jpg
END:VEVENT
BEGIN:VEVENT
DTSTART;TZID=America/New_York:20300314T090000
DTEND;TZID=America/New_York:20300314T110000
DTSTAMP:20260423T064156
CREATED:20260223T214228Z
LAST-MODIFIED:20260223T214338Z
UID:10022173-1899709200-1899716400@cpcedison.org
SUMMARY:Food Pantry
DESCRIPTION:
URL:https://cpcedison.org/event/food-pantry-5-2-2/2030-03-14/
LOCATION:Community Presbyterian Church\, 75 Glenville Rd.\, Edison\, NJ\, 08817 \, United States
CATEGORIES:food pantry
ATTACH;FMTTYPE=image/jpeg:https://cpcedison.org/wp-content/uploads/2017/02/foodpantry3.jpg
END:VEVENT
BEGIN:VEVENT
DTSTART;TZID=America/New_York:20300319T090000
DTEND;TZID=America/New_York:20300319T110000
DTSTAMP:20260423T064156
CREATED:20260223T214228Z
LAST-MODIFIED:20260223T214338Z
UID:10021500-1900141200-1900148400@cpcedison.org
SUMMARY:Food Pantry
DESCRIPTION:
URL:https://cpcedison.org/event/food-pantry-5-2-2/2030-03-19/
LOCATION:Community Presbyterian Church\, 75 Glenville Rd.\, Edison\, NJ\, 08817 \, United States
CATEGORIES:food pantry
ATTACH;FMTTYPE=image/jpeg:https://cpcedison.org/wp-content/uploads/2017/02/foodpantry3.jpg
END:VEVENT
BEGIN:VEVENT
DTSTART;TZID=America/New_York:20300321T090000
DTEND;TZID=America/New_York:20300321T110000
DTSTAMP:20260423T064156
CREATED:20260223T214228Z
LAST-MODIFIED:20260223T214338Z
UID:10022174-1900314000-1900321200@cpcedison.org
SUMMARY:Food Pantry
DESCRIPTION:
URL:https://cpcedison.org/event/food-pantry-5-2-2/2030-03-21/
LOCATION:Community Presbyterian Church\, 75 Glenville Rd.\, Edison\, NJ\, 08817 \, United States
CATEGORIES:food pantry
ATTACH;FMTTYPE=image/jpeg:https://cpcedison.org/wp-content/uploads/2017/02/foodpantry3.jpg
END:VEVENT
BEGIN:VEVENT
DTSTART;TZID=America/New_York:20300326T090000
DTEND;TZID=America/New_York:20300326T110000
DTSTAMP:20260423T064156
CREATED:20260223T214228Z
LAST-MODIFIED:20260223T214338Z
UID:10021501-1900746000-1900753200@cpcedison.org
SUMMARY:Food Pantry
DESCRIPTION:
URL:https://cpcedison.org/event/food-pantry-5-2-2/2030-03-26/
LOCATION:Community Presbyterian Church\, 75 Glenville Rd.\, Edison\, NJ\, 08817 \, United States
CATEGORIES:food pantry
ATTACH;FMTTYPE=image/jpeg:https://cpcedison.org/wp-content/uploads/2017/02/foodpantry3.jpg
END:VEVENT
BEGIN:VEVENT
DTSTART;TZID=America/New_York:20300328T090000
DTEND;TZID=America/New_York:20300328T110000
DTSTAMP:20260423T064156
CREATED:20260223T214228Z
LAST-MODIFIED:20260223T214338Z
UID:10022175-1900918800-1900926000@cpcedison.org
SUMMARY:Food Pantry
DESCRIPTION:
URL:https://cpcedison.org/event/food-pantry-5-2-2/2030-03-28/
LOCATION:Community Presbyterian Church\, 75 Glenville Rd.\, Edison\, NJ\, 08817 \, United States
CATEGORIES:food pantry
ATTACH;FMTTYPE=image/jpeg:https://cpcedison.org/wp-content/uploads/2017/02/foodpantry3.jpg
END:VEVENT
BEGIN:VEVENT
DTSTART;TZID=America/New_York:20300402T090000
DTEND;TZID=America/New_York:20300402T110000
DTSTAMP:20260423T064156
CREATED:20260223T214228Z
LAST-MODIFIED:20260223T214338Z
UID:10021502-1901350800-1901358000@cpcedison.org
SUMMARY:Food Pantry
DESCRIPTION:
URL:https://cpcedison.org/event/food-pantry-5-2-2/2030-04-02/
LOCATION:Community Presbyterian Church\, 75 Glenville Rd.\, Edison\, NJ\, 08817 \, United States
CATEGORIES:food pantry
ATTACH;FMTTYPE=image/jpeg:https://cpcedison.org/wp-content/uploads/2017/02/foodpantry3.jpg
END:VEVENT
BEGIN:VEVENT
DTSTART;TZID=America/New_York:20300404T090000
DTEND;TZID=America/New_York:20300404T110000
DTSTAMP:20260423T064156
CREATED:20260223T214228Z
LAST-MODIFIED:20260223T214338Z
UID:10022176-1901523600-1901530800@cpcedison.org
SUMMARY:Food Pantry
DESCRIPTION:
URL:https://cpcedison.org/event/food-pantry-5-2-2/2030-04-04/
LOCATION:Community Presbyterian Church\, 75 Glenville Rd.\, Edison\, NJ\, 08817 \, United States
CATEGORIES:food pantry
ATTACH;FMTTYPE=image/jpeg:https://cpcedison.org/wp-content/uploads/2017/02/foodpantry3.jpg
END:VEVENT
BEGIN:VEVENT
DTSTART;TZID=America/New_York:20300409T090000
DTEND;TZID=America/New_York:20300409T110000
DTSTAMP:20260423T064156
CREATED:20260223T214228Z
LAST-MODIFIED:20260223T214338Z
UID:10021503-1901955600-1901962800@cpcedison.org
SUMMARY:Food Pantry
DESCRIPTION:
URL:https://cpcedison.org/event/food-pantry-5-2-2/2030-04-09/
LOCATION:Community Presbyterian Church\, 75 Glenville Rd.\, Edison\, NJ\, 08817 \, United States
CATEGORIES:food pantry
ATTACH;FMTTYPE=image/jpeg:https://cpcedison.org/wp-content/uploads/2017/02/foodpantry3.jpg
END:VEVENT
BEGIN:VEVENT
DTSTART;TZID=America/New_York:20300411T090000
DTEND;TZID=America/New_York:20300411T110000
DTSTAMP:20260423T064156
CREATED:20260223T214228Z
LAST-MODIFIED:20260223T214338Z
UID:10022177-1902128400-1902135600@cpcedison.org
SUMMARY:Food Pantry
DESCRIPTION:
URL:https://cpcedison.org/event/food-pantry-5-2-2/2030-04-11/
LOCATION:Community Presbyterian Church\, 75 Glenville Rd.\, Edison\, NJ\, 08817 \, United States
CATEGORIES:food pantry
ATTACH;FMTTYPE=image/jpeg:https://cpcedison.org/wp-content/uploads/2017/02/foodpantry3.jpg
END:VEVENT
BEGIN:VEVENT
DTSTART;TZID=America/New_York:20300416T090000
DTEND;TZID=America/New_York:20300416T110000
DTSTAMP:20260423T064156
CREATED:20260223T214228Z
LAST-MODIFIED:20260223T214338Z
UID:10021504-1902560400-1902567600@cpcedison.org
SUMMARY:Food Pantry
DESCRIPTION:
URL:https://cpcedison.org/event/food-pantry-5-2-2/2030-04-16/
LOCATION:Community Presbyterian Church\, 75 Glenville Rd.\, Edison\, NJ\, 08817 \, United States
CATEGORIES:food pantry
ATTACH;FMTTYPE=image/jpeg:https://cpcedison.org/wp-content/uploads/2017/02/foodpantry3.jpg
END:VEVENT
BEGIN:VEVENT
DTSTART;TZID=America/New_York:20300418T090000
DTEND;TZID=America/New_York:20300418T110000
DTSTAMP:20260423T064156
CREATED:20260223T214228Z
LAST-MODIFIED:20260223T214338Z
UID:10022178-1902733200-1902740400@cpcedison.org
SUMMARY:Food Pantry
DESCRIPTION:
URL:https://cpcedison.org/event/food-pantry-5-2-2/2030-04-18/
LOCATION:Community Presbyterian Church\, 75 Glenville Rd.\, Edison\, NJ\, 08817 \, United States
CATEGORIES:food pantry
ATTACH;FMTTYPE=image/jpeg:https://cpcedison.org/wp-content/uploads/2017/02/foodpantry3.jpg
END:VEVENT
BEGIN:VEVENT
DTSTART;TZID=America/New_York:20300423T090000
DTEND;TZID=America/New_York:20300423T110000
DTSTAMP:20260423T064156
CREATED:20260223T214228Z
LAST-MODIFIED:20260223T214338Z
UID:10021505-1903165200-1903172400@cpcedison.org
SUMMARY:Food Pantry
DESCRIPTION:
URL:https://cpcedison.org/event/food-pantry-5-2-2/2030-04-23/
LOCATION:Community Presbyterian Church\, 75 Glenville Rd.\, Edison\, NJ\, 08817 \, United States
CATEGORIES:food pantry
ATTACH;FMTTYPE=image/jpeg:https://cpcedison.org/wp-content/uploads/2017/02/foodpantry3.jpg
END:VEVENT
BEGIN:VEVENT
DTSTART;TZID=America/New_York:20300425T090000
DTEND;TZID=America/New_York:20300425T110000
DTSTAMP:20260423T064156
CREATED:20260223T214228Z
LAST-MODIFIED:20260223T214338Z
UID:10022179-1903338000-1903345200@cpcedison.org
SUMMARY:Food Pantry
DESCRIPTION:
URL:https://cpcedison.org/event/food-pantry-5-2-2/2030-04-25/
LOCATION:Community Presbyterian Church\, 75 Glenville Rd.\, Edison\, NJ\, 08817 \, United States
CATEGORIES:food pantry
ATTACH;FMTTYPE=image/jpeg:https://cpcedison.org/wp-content/uploads/2017/02/foodpantry3.jpg
END:VEVENT
BEGIN:VEVENT
DTSTART;TZID=America/New_York:20300430T090000
DTEND;TZID=America/New_York:20300430T110000
DTSTAMP:20260423T064156
CREATED:20260223T214228Z
LAST-MODIFIED:20260223T214338Z
UID:10021506-1903770000-1903777200@cpcedison.org
SUMMARY:Food Pantry
DESCRIPTION:
URL:https://cpcedison.org/event/food-pantry-5-2-2/2030-04-30/
LOCATION:Community Presbyterian Church\, 75 Glenville Rd.\, Edison\, NJ\, 08817 \, United States
CATEGORIES:food pantry
ATTACH;FMTTYPE=image/jpeg:https://cpcedison.org/wp-content/uploads/2017/02/foodpantry3.jpg
END:VEVENT
BEGIN:VEVENT
DTSTART;TZID=America/New_York:20300502T090000
DTEND;TZID=America/New_York:20300502T110000
DTSTAMP:20260423T064156
CREATED:20260223T214228Z
LAST-MODIFIED:20260223T214338Z
UID:10022180-1903942800-1903950000@cpcedison.org
SUMMARY:Food Pantry
DESCRIPTION:
URL:https://cpcedison.org/event/food-pantry-5-2-2/2030-05-02/
LOCATION:Community Presbyterian Church\, 75 Glenville Rd.\, Edison\, NJ\, 08817 \, United States
CATEGORIES:food pantry
ATTACH;FMTTYPE=image/jpeg:https://cpcedison.org/wp-content/uploads/2017/02/foodpantry3.jpg
END:VEVENT
BEGIN:VEVENT
DTSTART;TZID=America/New_York:20300507T090000
DTEND;TZID=America/New_York:20300507T110000
DTSTAMP:20260423T064156
CREATED:20260223T214228Z
LAST-MODIFIED:20260223T214338Z
UID:10021507-1904374800-1904382000@cpcedison.org
SUMMARY:Food Pantry
DESCRIPTION:
URL:https://cpcedison.org/event/food-pantry-5-2-2/2030-05-07/
LOCATION:Community Presbyterian Church\, 75 Glenville Rd.\, Edison\, NJ\, 08817 \, United States
CATEGORIES:food pantry
ATTACH;FMTTYPE=image/jpeg:https://cpcedison.org/wp-content/uploads/2017/02/foodpantry3.jpg
END:VEVENT
BEGIN:VEVENT
DTSTART;TZID=America/New_York:20300509T090000
DTEND;TZID=America/New_York:20300509T110000
DTSTAMP:20260423T064156
CREATED:20260223T214228Z
LAST-MODIFIED:20260223T214338Z
UID:10022181-1904547600-1904554800@cpcedison.org
SUMMARY:Food Pantry
DESCRIPTION:
URL:https://cpcedison.org/event/food-pantry-5-2-2/2030-05-09/
LOCATION:Community Presbyterian Church\, 75 Glenville Rd.\, Edison\, NJ\, 08817 \, United States
CATEGORIES:food pantry
ATTACH;FMTTYPE=image/jpeg:https://cpcedison.org/wp-content/uploads/2017/02/foodpantry3.jpg
END:VEVENT
BEGIN:VEVENT
DTSTART;TZID=America/New_York:20300514T090000
DTEND;TZID=America/New_York:20300514T110000
DTSTAMP:20260423T064156
CREATED:20260223T214228Z
LAST-MODIFIED:20260223T214338Z
UID:10021508-1904979600-1904986800@cpcedison.org
SUMMARY:Food Pantry
DESCRIPTION:
URL:https://cpcedison.org/event/food-pantry-5-2-2/2030-05-14/
LOCATION:Community Presbyterian Church\, 75 Glenville Rd.\, Edison\, NJ\, 08817 \, United States
CATEGORIES:food pantry
ATTACH;FMTTYPE=image/jpeg:https://cpcedison.org/wp-content/uploads/2017/02/foodpantry3.jpg
END:VEVENT
BEGIN:VEVENT
DTSTART;TZID=America/New_York:20300516T090000
DTEND;TZID=America/New_York:20300516T110000
DTSTAMP:20260423T064156
CREATED:20260223T214228Z
LAST-MODIFIED:20260223T214338Z
UID:10022182-1905152400-1905159600@cpcedison.org
SUMMARY:Food Pantry
DESCRIPTION:
URL:https://cpcedison.org/event/food-pantry-5-2-2/2030-05-16/
LOCATION:Community Presbyterian Church\, 75 Glenville Rd.\, Edison\, NJ\, 08817 \, United States
CATEGORIES:food pantry
ATTACH;FMTTYPE=image/jpeg:https://cpcedison.org/wp-content/uploads/2017/02/foodpantry3.jpg
END:VEVENT
BEGIN:VEVENT
DTSTART;TZID=America/New_York:20300521T090000
DTEND;TZID=America/New_York:20300521T110000
DTSTAMP:20260423T064156
CREATED:20260223T214228Z
LAST-MODIFIED:20260223T214338Z
UID:10021509-1905584400-1905591600@cpcedison.org
SUMMARY:Food Pantry
DESCRIPTION:
URL:https://cpcedison.org/event/food-pantry-5-2-2/2030-05-21/
LOCATION:Community Presbyterian Church\, 75 Glenville Rd.\, Edison\, NJ\, 08817 \, United States
CATEGORIES:food pantry
ATTACH;FMTTYPE=image/jpeg:https://cpcedison.org/wp-content/uploads/2017/02/foodpantry3.jpg
END:VEVENT
BEGIN:VEVENT
DTSTART;TZID=America/New_York:20300523T090000
DTEND;TZID=America/New_York:20300523T110000
DTSTAMP:20260423T064156
CREATED:20260223T214228Z
LAST-MODIFIED:20260223T214338Z
UID:10022183-1905757200-1905764400@cpcedison.org
SUMMARY:Food Pantry
DESCRIPTION:
URL:https://cpcedison.org/event/food-pantry-5-2-2/2030-05-23/
LOCATION:Community Presbyterian Church\, 75 Glenville Rd.\, Edison\, NJ\, 08817 \, United States
CATEGORIES:food pantry
ATTACH;FMTTYPE=image/jpeg:https://cpcedison.org/wp-content/uploads/2017/02/foodpantry3.jpg
END:VEVENT
BEGIN:VEVENT
DTSTART;TZID=America/New_York:20300528T090000
DTEND;TZID=America/New_York:20300528T110000
DTSTAMP:20260423T064156
CREATED:20260223T214228Z
LAST-MODIFIED:20260223T214338Z
UID:10021510-1906189200-1906196400@cpcedison.org
SUMMARY:Food Pantry
DESCRIPTION:
URL:https://cpcedison.org/event/food-pantry-5-2-2/2030-05-28/
LOCATION:Community Presbyterian Church\, 75 Glenville Rd.\, Edison\, NJ\, 08817 \, United States
CATEGORIES:food pantry
ATTACH;FMTTYPE=image/jpeg:https://cpcedison.org/wp-content/uploads/2017/02/foodpantry3.jpg
END:VEVENT
BEGIN:VEVENT
DTSTART;TZID=America/New_York:20300530T090000
DTEND;TZID=America/New_York:20300530T110000
DTSTAMP:20260423T064156
CREATED:20260223T214228Z
LAST-MODIFIED:20260223T214338Z
UID:10022184-1906362000-1906369200@cpcedison.org
SUMMARY:Food Pantry
DESCRIPTION:
URL:https://cpcedison.org/event/food-pantry-5-2-2/2030-05-30/
LOCATION:Community Presbyterian Church\, 75 Glenville Rd.\, Edison\, NJ\, 08817 \, United States
CATEGORIES:food pantry
ATTACH;FMTTYPE=image/jpeg:https://cpcedison.org/wp-content/uploads/2017/02/foodpantry3.jpg
END:VEVENT
BEGIN:VEVENT
DTSTART;TZID=America/New_York:20300604T090000
DTEND;TZID=America/New_York:20300604T110000
DTSTAMP:20260423T064156
CREATED:20260223T214228Z
LAST-MODIFIED:20260223T214338Z
UID:10021511-1906794000-1906801200@cpcedison.org
SUMMARY:Food Pantry
DESCRIPTION:
URL:https://cpcedison.org/event/food-pantry-5-2-2/2030-06-04/
LOCATION:Community Presbyterian Church\, 75 Glenville Rd.\, Edison\, NJ\, 08817 \, United States
CATEGORIES:food pantry
ATTACH;FMTTYPE=image/jpeg:https://cpcedison.org/wp-content/uploads/2017/02/foodpantry3.jpg
END:VEVENT
END:VCALENDAR