BEGIN:VCALENDAR
VERSION:2.0
PRODID:-//Community Presbyterian Church - Edison NJ - ECPv6.15.20//NONSGML v1.0//EN
CALSCALE:GREGORIAN
METHOD:PUBLISH
X-WR-CALNAME:Community Presbyterian Church - Edison NJ
X-ORIGINAL-URL:https://cpcedison.org
X-WR-CALDESC:Events for Community Presbyterian Church - Edison NJ
REFRESH-INTERVAL;VALUE=DURATION:PT1H
X-Robots-Tag:noindex
X-PUBLISHED-TTL:PT1H
BEGIN:VTIMEZONE
TZID:America/New_York
BEGIN:DAYLIGHT
TZOFFSETFROM:-0500
TZOFFSETTO:-0400
TZNAME:EDT
DTSTART:20200308T070000
END:DAYLIGHT
BEGIN:STANDARD
TZOFFSETFROM:-0400
TZOFFSETTO:-0500
TZNAME:EST
DTSTART:20201101T060000
END:STANDARD
BEGIN:DAYLIGHT
TZOFFSETFROM:-0500
TZOFFSETTO:-0400
TZNAME:EDT
DTSTART:20210314T070000
END:DAYLIGHT
BEGIN:STANDARD
TZOFFSETFROM:-0400
TZOFFSETTO:-0500
TZNAME:EST
DTSTART:20211107T060000
END:STANDARD
BEGIN:DAYLIGHT
TZOFFSETFROM:-0500
TZOFFSETTO:-0400
TZNAME:EDT
DTSTART:20220313T070000
END:DAYLIGHT
BEGIN:STANDARD
TZOFFSETFROM:-0400
TZOFFSETTO:-0500
TZNAME:EST
DTSTART:20221106T060000
END:STANDARD
END:VTIMEZONE
BEGIN:VEVENT
DTSTART;TZID=America/New_York:20211130T090000
DTEND;TZID=America/New_York:20211130T110000
DTSTAMP:20260421T202045
CREATED:20200615T203852Z
LAST-MODIFIED:20220722T143535Z
UID:10000212-1638262800-1638270000@cpcedison.org
SUMMARY:Food Pantry
DESCRIPTION:  \nFOOD PANTRY\nFood Pantry is open Tuesdays and Thursdays\, 9:00am – 11:00am for Edison Residents.  No appointment necessary.
URL:https://cpcedison.org/event/food-pantry-5/2021-11-30/
LOCATION:Community Presbyterian Church\, 75 Glenville Rd.\, Edison\, NJ\, 08817 \, United States
CATEGORIES:food pantry
ATTACH;FMTTYPE=image/jpeg:https://cpcedison.org/wp-content/uploads/2017/02/foodpantry3.jpg
END:VEVENT
BEGIN:VEVENT
DTSTART;TZID=America/New_York:20211125T090000
DTEND;TZID=America/New_York:20211125T110000
DTSTAMP:20260421T202045
CREATED:20200615T203852Z
LAST-MODIFIED:20220722T143535Z
UID:10000211-1637830800-1637838000@cpcedison.org
SUMMARY:Food Pantry
DESCRIPTION:  \nFOOD PANTRY\nFood Pantry is open Tuesdays and Thursdays\, 9:00am – 11:00am for Edison Residents.  No appointment necessary.
URL:https://cpcedison.org/event/food-pantry-5/2021-11-25/
LOCATION:Community Presbyterian Church\, 75 Glenville Rd.\, Edison\, NJ\, 08817 \, United States
CATEGORIES:food pantry
ATTACH;FMTTYPE=image/jpeg:https://cpcedison.org/wp-content/uploads/2017/02/foodpantry3.jpg
END:VEVENT
BEGIN:VEVENT
DTSTART;TZID=America/New_York:20211123T090000
DTEND;TZID=America/New_York:20211123T110000
DTSTAMP:20260421T202045
CREATED:20200615T203852Z
LAST-MODIFIED:20220722T143535Z
UID:10000210-1637658000-1637665200@cpcedison.org
SUMMARY:Food Pantry
DESCRIPTION:  \nFOOD PANTRY\nFood Pantry is open Tuesdays and Thursdays\, 9:00am – 11:00am for Edison Residents.  No appointment necessary.
URL:https://cpcedison.org/event/food-pantry-5/2021-11-23/
LOCATION:Community Presbyterian Church\, 75 Glenville Rd.\, Edison\, NJ\, 08817 \, United States
CATEGORIES:food pantry
ATTACH;FMTTYPE=image/jpeg:https://cpcedison.org/wp-content/uploads/2017/02/foodpantry3.jpg
END:VEVENT
BEGIN:VEVENT
DTSTART;TZID=America/New_York:20211118T090000
DTEND;TZID=America/New_York:20211118T110000
DTSTAMP:20260421T202045
CREATED:20200615T203852Z
LAST-MODIFIED:20220722T143535Z
UID:10000209-1637226000-1637233200@cpcedison.org
SUMMARY:Food Pantry
DESCRIPTION:  \nFOOD PANTRY\nFood Pantry is open Tuesdays and Thursdays\, 9:00am – 11:00am for Edison Residents.  No appointment necessary.
URL:https://cpcedison.org/event/food-pantry-5/2021-11-18/
LOCATION:Community Presbyterian Church\, 75 Glenville Rd.\, Edison\, NJ\, 08817 \, United States
CATEGORIES:food pantry
ATTACH;FMTTYPE=image/jpeg:https://cpcedison.org/wp-content/uploads/2017/02/foodpantry3.jpg
END:VEVENT
BEGIN:VEVENT
DTSTART;TZID=America/New_York:20211116T090000
DTEND;TZID=America/New_York:20211116T110000
DTSTAMP:20260421T202045
CREATED:20200615T203852Z
LAST-MODIFIED:20220722T143535Z
UID:10000208-1637053200-1637060400@cpcedison.org
SUMMARY:Food Pantry
DESCRIPTION:  \nFOOD PANTRY\nFood Pantry is open Tuesdays and Thursdays\, 9:00am – 11:00am for Edison Residents.  No appointment necessary.
URL:https://cpcedison.org/event/food-pantry-5/2021-11-16/
LOCATION:Community Presbyterian Church\, 75 Glenville Rd.\, Edison\, NJ\, 08817 \, United States
CATEGORIES:food pantry
ATTACH;FMTTYPE=image/jpeg:https://cpcedison.org/wp-content/uploads/2017/02/foodpantry3.jpg
END:VEVENT
BEGIN:VEVENT
DTSTART;TZID=America/New_York:20211111T090000
DTEND;TZID=America/New_York:20211111T110000
DTSTAMP:20260421T202045
CREATED:20200615T203852Z
LAST-MODIFIED:20220722T143535Z
UID:10000207-1636621200-1636628400@cpcedison.org
SUMMARY:Food Pantry
DESCRIPTION:  \nFOOD PANTRY\nFood Pantry is open Tuesdays and Thursdays\, 9:00am – 11:00am for Edison Residents.  No appointment necessary.
URL:https://cpcedison.org/event/food-pantry-5/2021-11-11/
LOCATION:Community Presbyterian Church\, 75 Glenville Rd.\, Edison\, NJ\, 08817 \, United States
CATEGORIES:food pantry
ATTACH;FMTTYPE=image/jpeg:https://cpcedison.org/wp-content/uploads/2017/02/foodpantry3.jpg
END:VEVENT
BEGIN:VEVENT
DTSTART;TZID=America/New_York:20211109T090000
DTEND;TZID=America/New_York:20211109T110000
DTSTAMP:20260421T202045
CREATED:20200615T203852Z
LAST-MODIFIED:20220722T143535Z
UID:10000206-1636448400-1636455600@cpcedison.org
SUMMARY:Food Pantry
DESCRIPTION:  \nFOOD PANTRY\nFood Pantry is open Tuesdays and Thursdays\, 9:00am – 11:00am for Edison Residents.  No appointment necessary.
URL:https://cpcedison.org/event/food-pantry-5/2021-11-09/
LOCATION:Community Presbyterian Church\, 75 Glenville Rd.\, Edison\, NJ\, 08817 \, United States
CATEGORIES:food pantry
ATTACH;FMTTYPE=image/jpeg:https://cpcedison.org/wp-content/uploads/2017/02/foodpantry3.jpg
END:VEVENT
BEGIN:VEVENT
DTSTART;TZID=America/New_York:20211104T090000
DTEND;TZID=America/New_York:20211104T110000
DTSTAMP:20260421T202045
CREATED:20200615T203852Z
LAST-MODIFIED:20220722T143535Z
UID:10000205-1636016400-1636023600@cpcedison.org
SUMMARY:Food Pantry
DESCRIPTION:  \nFOOD PANTRY\nFood Pantry is open Tuesdays and Thursdays\, 9:00am – 11:00am for Edison Residents.  No appointment necessary.
URL:https://cpcedison.org/event/food-pantry-5/2021-11-04/
LOCATION:Community Presbyterian Church\, 75 Glenville Rd.\, Edison\, NJ\, 08817 \, United States
CATEGORIES:food pantry
ATTACH;FMTTYPE=image/jpeg:https://cpcedison.org/wp-content/uploads/2017/02/foodpantry3.jpg
END:VEVENT
BEGIN:VEVENT
DTSTART;TZID=America/New_York:20211102T090000
DTEND;TZID=America/New_York:20211102T110000
DTSTAMP:20260421T202045
CREATED:20200615T203852Z
LAST-MODIFIED:20220722T143535Z
UID:10000204-1635843600-1635850800@cpcedison.org
SUMMARY:Food Pantry
DESCRIPTION:  \nFOOD PANTRY\nFood Pantry is open Tuesdays and Thursdays\, 9:00am – 11:00am for Edison Residents.  No appointment necessary.
URL:https://cpcedison.org/event/food-pantry-5/2021-11-02/
LOCATION:Community Presbyterian Church\, 75 Glenville Rd.\, Edison\, NJ\, 08817 \, United States
CATEGORIES:food pantry
ATTACH;FMTTYPE=image/jpeg:https://cpcedison.org/wp-content/uploads/2017/02/foodpantry3.jpg
END:VEVENT
BEGIN:VEVENT
DTSTART;TZID=America/New_York:20211028T090000
DTEND;TZID=America/New_York:20211028T110000
DTSTAMP:20260421T202045
CREATED:20200615T203852Z
LAST-MODIFIED:20220722T143535Z
UID:10000203-1635411600-1635418800@cpcedison.org
SUMMARY:Food Pantry
DESCRIPTION:  \nFOOD PANTRY\nFood Pantry is open Tuesdays and Thursdays\, 9:00am – 11:00am for Edison Residents.  No appointment necessary.
URL:https://cpcedison.org/event/food-pantry-5/2021-10-28/
LOCATION:Community Presbyterian Church\, 75 Glenville Rd.\, Edison\, NJ\, 08817 \, United States
CATEGORIES:food pantry
ATTACH;FMTTYPE=image/jpeg:https://cpcedison.org/wp-content/uploads/2017/02/foodpantry3.jpg
END:VEVENT
BEGIN:VEVENT
DTSTART;TZID=America/New_York:20211026T090000
DTEND;TZID=America/New_York:20211026T110000
DTSTAMP:20260421T202045
CREATED:20200615T203852Z
LAST-MODIFIED:20220722T143535Z
UID:10000202-1635238800-1635246000@cpcedison.org
SUMMARY:Food Pantry
DESCRIPTION:  \nFOOD PANTRY\nFood Pantry is open Tuesdays and Thursdays\, 9:00am – 11:00am for Edison Residents.  No appointment necessary.
URL:https://cpcedison.org/event/food-pantry-5/2021-10-26/
LOCATION:Community Presbyterian Church\, 75 Glenville Rd.\, Edison\, NJ\, 08817 \, United States
CATEGORIES:food pantry
ATTACH;FMTTYPE=image/jpeg:https://cpcedison.org/wp-content/uploads/2017/02/foodpantry3.jpg
END:VEVENT
BEGIN:VEVENT
DTSTART;TZID=America/New_York:20211021T090000
DTEND;TZID=America/New_York:20211021T110000
DTSTAMP:20260421T202045
CREATED:20200615T203852Z
LAST-MODIFIED:20220722T143535Z
UID:10000201-1634806800-1634814000@cpcedison.org
SUMMARY:Food Pantry
DESCRIPTION:  \nFOOD PANTRY\nFood Pantry is open Tuesdays and Thursdays\, 9:00am – 11:00am for Edison Residents.  No appointment necessary.
URL:https://cpcedison.org/event/food-pantry-5/2021-10-21/
LOCATION:Community Presbyterian Church\, 75 Glenville Rd.\, Edison\, NJ\, 08817 \, United States
CATEGORIES:food pantry
ATTACH;FMTTYPE=image/jpeg:https://cpcedison.org/wp-content/uploads/2017/02/foodpantry3.jpg
END:VEVENT
BEGIN:VEVENT
DTSTART;TZID=America/New_York:20211019T090000
DTEND;TZID=America/New_York:20211019T110000
DTSTAMP:20260421T202045
CREATED:20200615T203852Z
LAST-MODIFIED:20220722T143535Z
UID:10000200-1634634000-1634641200@cpcedison.org
SUMMARY:Food Pantry
DESCRIPTION:  \nFOOD PANTRY\nFood Pantry is open Tuesdays and Thursdays\, 9:00am – 11:00am for Edison Residents.  No appointment necessary.
URL:https://cpcedison.org/event/food-pantry-5/2021-10-19/
LOCATION:Community Presbyterian Church\, 75 Glenville Rd.\, Edison\, NJ\, 08817 \, United States
CATEGORIES:food pantry
ATTACH;FMTTYPE=image/jpeg:https://cpcedison.org/wp-content/uploads/2017/02/foodpantry3.jpg
END:VEVENT
BEGIN:VEVENT
DTSTART;TZID=America/New_York:20211014T090000
DTEND;TZID=America/New_York:20211014T110000
DTSTAMP:20260421T202045
CREATED:20200615T203852Z
LAST-MODIFIED:20220722T143535Z
UID:10000199-1634202000-1634209200@cpcedison.org
SUMMARY:Food Pantry
DESCRIPTION:  \nFOOD PANTRY\nFood Pantry is open Tuesdays and Thursdays\, 9:00am – 11:00am for Edison Residents.  No appointment necessary.
URL:https://cpcedison.org/event/food-pantry-5/2021-10-14/
LOCATION:Community Presbyterian Church\, 75 Glenville Rd.\, Edison\, NJ\, 08817 \, United States
CATEGORIES:food pantry
ATTACH;FMTTYPE=image/jpeg:https://cpcedison.org/wp-content/uploads/2017/02/foodpantry3.jpg
END:VEVENT
BEGIN:VEVENT
DTSTART;TZID=America/New_York:20211012T090000
DTEND;TZID=America/New_York:20211012T110000
DTSTAMP:20260421T202045
CREATED:20200615T203852Z
LAST-MODIFIED:20220722T143535Z
UID:10000198-1634029200-1634036400@cpcedison.org
SUMMARY:Food Pantry
DESCRIPTION:  \nFOOD PANTRY\nFood Pantry is open Tuesdays and Thursdays\, 9:00am – 11:00am for Edison Residents.  No appointment necessary.
URL:https://cpcedison.org/event/food-pantry-5/2021-10-12/
LOCATION:Community Presbyterian Church\, 75 Glenville Rd.\, Edison\, NJ\, 08817 \, United States
CATEGORIES:food pantry
ATTACH;FMTTYPE=image/jpeg:https://cpcedison.org/wp-content/uploads/2017/02/foodpantry3.jpg
END:VEVENT
BEGIN:VEVENT
DTSTART;TZID=America/New_York:20211007T090000
DTEND;TZID=America/New_York:20211007T110000
DTSTAMP:20260421T202045
CREATED:20200615T203852Z
LAST-MODIFIED:20220722T143535Z
UID:10000197-1633597200-1633604400@cpcedison.org
SUMMARY:Food Pantry
DESCRIPTION:  \nFOOD PANTRY\nFood Pantry is open Tuesdays and Thursdays\, 9:00am – 11:00am for Edison Residents.  No appointment necessary.
URL:https://cpcedison.org/event/food-pantry-5/2021-10-07/
LOCATION:Community Presbyterian Church\, 75 Glenville Rd.\, Edison\, NJ\, 08817 \, United States
CATEGORIES:food pantry
ATTACH;FMTTYPE=image/jpeg:https://cpcedison.org/wp-content/uploads/2017/02/foodpantry3.jpg
END:VEVENT
BEGIN:VEVENT
DTSTART;TZID=America/New_York:20211005T090000
DTEND;TZID=America/New_York:20211005T110000
DTSTAMP:20260421T202045
CREATED:20200615T203852Z
LAST-MODIFIED:20220722T143535Z
UID:10000196-1633424400-1633431600@cpcedison.org
SUMMARY:Food Pantry
DESCRIPTION:  \nFOOD PANTRY\nFood Pantry is open Tuesdays and Thursdays\, 9:00am – 11:00am for Edison Residents.  No appointment necessary.
URL:https://cpcedison.org/event/food-pantry-5/2021-10-05/
LOCATION:Community Presbyterian Church\, 75 Glenville Rd.\, Edison\, NJ\, 08817 \, United States
CATEGORIES:food pantry
ATTACH;FMTTYPE=image/jpeg:https://cpcedison.org/wp-content/uploads/2017/02/foodpantry3.jpg
END:VEVENT
BEGIN:VEVENT
DTSTART;TZID=America/New_York:20210930T090000
DTEND;TZID=America/New_York:20210930T110000
DTSTAMP:20260421T202045
CREATED:20200615T203852Z
LAST-MODIFIED:20220722T143535Z
UID:10000195-1632992400-1632999600@cpcedison.org
SUMMARY:Food Pantry
DESCRIPTION:  \nFOOD PANTRY\nFood Pantry is open Tuesdays and Thursdays\, 9:00am – 11:00am for Edison Residents.  No appointment necessary.
URL:https://cpcedison.org/event/food-pantry-5/2021-09-30/
LOCATION:Community Presbyterian Church\, 75 Glenville Rd.\, Edison\, NJ\, 08817 \, United States
CATEGORIES:food pantry
ATTACH;FMTTYPE=image/jpeg:https://cpcedison.org/wp-content/uploads/2017/02/foodpantry3.jpg
END:VEVENT
BEGIN:VEVENT
DTSTART;TZID=America/New_York:20210928T090000
DTEND;TZID=America/New_York:20210928T110000
DTSTAMP:20260421T202045
CREATED:20200615T203852Z
LAST-MODIFIED:20220722T143535Z
UID:10000194-1632819600-1632826800@cpcedison.org
SUMMARY:Food Pantry
DESCRIPTION:  \nFOOD PANTRY\nFood Pantry is open Tuesdays and Thursdays\, 9:00am – 11:00am for Edison Residents.  No appointment necessary.
URL:https://cpcedison.org/event/food-pantry-5/2021-09-28/
LOCATION:Community Presbyterian Church\, 75 Glenville Rd.\, Edison\, NJ\, 08817 \, United States
CATEGORIES:food pantry
ATTACH;FMTTYPE=image/jpeg:https://cpcedison.org/wp-content/uploads/2017/02/foodpantry3.jpg
END:VEVENT
BEGIN:VEVENT
DTSTART;TZID=America/New_York:20210923T090000
DTEND;TZID=America/New_York:20210923T110000
DTSTAMP:20260421T202045
CREATED:20200615T203852Z
LAST-MODIFIED:20220722T143535Z
UID:10000193-1632387600-1632394800@cpcedison.org
SUMMARY:Food Pantry
DESCRIPTION:  \nFOOD PANTRY\nFood Pantry is open Tuesdays and Thursdays\, 9:00am – 11:00am for Edison Residents.  No appointment necessary.
URL:https://cpcedison.org/event/food-pantry-5/2021-09-23/
LOCATION:Community Presbyterian Church\, 75 Glenville Rd.\, Edison\, NJ\, 08817 \, United States
CATEGORIES:food pantry
ATTACH;FMTTYPE=image/jpeg:https://cpcedison.org/wp-content/uploads/2017/02/foodpantry3.jpg
END:VEVENT
BEGIN:VEVENT
DTSTART;TZID=America/New_York:20210921T090000
DTEND;TZID=America/New_York:20210921T110000
DTSTAMP:20260421T202045
CREATED:20200615T203852Z
LAST-MODIFIED:20220722T143535Z
UID:10000192-1632214800-1632222000@cpcedison.org
SUMMARY:Food Pantry
DESCRIPTION:  \nFOOD PANTRY\nFood Pantry is open Tuesdays and Thursdays\, 9:00am – 11:00am for Edison Residents.  No appointment necessary.
URL:https://cpcedison.org/event/food-pantry-5/2021-09-21/
LOCATION:Community Presbyterian Church\, 75 Glenville Rd.\, Edison\, NJ\, 08817 \, United States
CATEGORIES:food pantry
ATTACH;FMTTYPE=image/jpeg:https://cpcedison.org/wp-content/uploads/2017/02/foodpantry3.jpg
END:VEVENT
BEGIN:VEVENT
DTSTART;TZID=America/New_York:20210916T090000
DTEND;TZID=America/New_York:20210916T110000
DTSTAMP:20260421T202045
CREATED:20200615T203852Z
LAST-MODIFIED:20220722T143535Z
UID:10000191-1631782800-1631790000@cpcedison.org
SUMMARY:Food Pantry
DESCRIPTION:  \nFOOD PANTRY\nFood Pantry is open Tuesdays and Thursdays\, 9:00am – 11:00am for Edison Residents.  No appointment necessary.
URL:https://cpcedison.org/event/food-pantry-5/2021-09-16/
LOCATION:Community Presbyterian Church\, 75 Glenville Rd.\, Edison\, NJ\, 08817 \, United States
CATEGORIES:food pantry
ATTACH;FMTTYPE=image/jpeg:https://cpcedison.org/wp-content/uploads/2017/02/foodpantry3.jpg
END:VEVENT
BEGIN:VEVENT
DTSTART;TZID=America/New_York:20210914T090000
DTEND;TZID=America/New_York:20210914T110000
DTSTAMP:20260421T202045
CREATED:20200615T203852Z
LAST-MODIFIED:20220722T143535Z
UID:10000190-1631610000-1631617200@cpcedison.org
SUMMARY:Food Pantry
DESCRIPTION:  \nFOOD PANTRY\nFood Pantry is open Tuesdays and Thursdays\, 9:00am – 11:00am for Edison Residents.  No appointment necessary.
URL:https://cpcedison.org/event/food-pantry-5/2021-09-14/
LOCATION:Community Presbyterian Church\, 75 Glenville Rd.\, Edison\, NJ\, 08817 \, United States
CATEGORIES:food pantry
ATTACH;FMTTYPE=image/jpeg:https://cpcedison.org/wp-content/uploads/2017/02/foodpantry3.jpg
END:VEVENT
BEGIN:VEVENT
DTSTART;TZID=America/New_York:20210909T090000
DTEND;TZID=America/New_York:20210909T110000
DTSTAMP:20260421T202045
CREATED:20200615T203852Z
LAST-MODIFIED:20220722T143535Z
UID:10000189-1631178000-1631185200@cpcedison.org
SUMMARY:Food Pantry
DESCRIPTION:  \nFOOD PANTRY\nFood Pantry is open Tuesdays and Thursdays\, 9:00am – 11:00am for Edison Residents.  No appointment necessary.
URL:https://cpcedison.org/event/food-pantry-5/2021-09-09/
LOCATION:Community Presbyterian Church\, 75 Glenville Rd.\, Edison\, NJ\, 08817 \, United States
CATEGORIES:food pantry
ATTACH;FMTTYPE=image/jpeg:https://cpcedison.org/wp-content/uploads/2017/02/foodpantry3.jpg
END:VEVENT
BEGIN:VEVENT
DTSTART;TZID=America/New_York:20210907T090000
DTEND;TZID=America/New_York:20210907T110000
DTSTAMP:20260421T202045
CREATED:20200615T203852Z
LAST-MODIFIED:20220722T143535Z
UID:10000188-1631005200-1631012400@cpcedison.org
SUMMARY:Food Pantry
DESCRIPTION:  \nFOOD PANTRY\nFood Pantry is open Tuesdays and Thursdays\, 9:00am – 11:00am for Edison Residents.  No appointment necessary.
URL:https://cpcedison.org/event/food-pantry-5/2021-09-07/
LOCATION:Community Presbyterian Church\, 75 Glenville Rd.\, Edison\, NJ\, 08817 \, United States
CATEGORIES:food pantry
ATTACH;FMTTYPE=image/jpeg:https://cpcedison.org/wp-content/uploads/2017/02/foodpantry3.jpg
END:VEVENT
BEGIN:VEVENT
DTSTART;TZID=America/New_York:20210902T090000
DTEND;TZID=America/New_York:20210902T110000
DTSTAMP:20260421T202045
CREATED:20200615T203852Z
LAST-MODIFIED:20220722T143535Z
UID:10000187-1630573200-1630580400@cpcedison.org
SUMMARY:Food Pantry
DESCRIPTION:  \nFOOD PANTRY\nFood Pantry is open Tuesdays and Thursdays\, 9:00am – 11:00am for Edison Residents.  No appointment necessary.
URL:https://cpcedison.org/event/food-pantry-5/2021-09-02/
LOCATION:Community Presbyterian Church\, 75 Glenville Rd.\, Edison\, NJ\, 08817 \, United States
CATEGORIES:food pantry
ATTACH;FMTTYPE=image/jpeg:https://cpcedison.org/wp-content/uploads/2017/02/foodpantry3.jpg
END:VEVENT
BEGIN:VEVENT
DTSTART;TZID=America/New_York:20210831T090000
DTEND;TZID=America/New_York:20210831T110000
DTSTAMP:20260421T202045
CREATED:20200615T203852Z
LAST-MODIFIED:20220722T143535Z
UID:10000186-1630400400-1630407600@cpcedison.org
SUMMARY:Food Pantry
DESCRIPTION:  \nFOOD PANTRY\nFood Pantry is open Tuesdays and Thursdays\, 9:00am – 11:00am for Edison Residents.  No appointment necessary.
URL:https://cpcedison.org/event/food-pantry-5/2021-08-31/
LOCATION:Community Presbyterian Church\, 75 Glenville Rd.\, Edison\, NJ\, 08817 \, United States
CATEGORIES:food pantry
ATTACH;FMTTYPE=image/jpeg:https://cpcedison.org/wp-content/uploads/2017/02/foodpantry3.jpg
END:VEVENT
BEGIN:VEVENT
DTSTART;TZID=America/New_York:20210826T090000
DTEND;TZID=America/New_York:20210826T110000
DTSTAMP:20260421T202045
CREATED:20200615T203852Z
LAST-MODIFIED:20220722T143535Z
UID:10000185-1629968400-1629975600@cpcedison.org
SUMMARY:Food Pantry
DESCRIPTION:  \nFOOD PANTRY\nFood Pantry is open Tuesdays and Thursdays\, 9:00am – 11:00am for Edison Residents.  No appointment necessary.
URL:https://cpcedison.org/event/food-pantry-5/2021-08-26/
LOCATION:Community Presbyterian Church\, 75 Glenville Rd.\, Edison\, NJ\, 08817 \, United States
CATEGORIES:food pantry
ATTACH;FMTTYPE=image/jpeg:https://cpcedison.org/wp-content/uploads/2017/02/foodpantry3.jpg
END:VEVENT
BEGIN:VEVENT
DTSTART;TZID=America/New_York:20210824T090000
DTEND;TZID=America/New_York:20210824T110000
DTSTAMP:20260421T202045
CREATED:20200615T203852Z
LAST-MODIFIED:20220722T143535Z
UID:10000184-1629795600-1629802800@cpcedison.org
SUMMARY:Food Pantry
DESCRIPTION:  \nFOOD PANTRY\nFood Pantry is open Tuesdays and Thursdays\, 9:00am – 11:00am for Edison Residents.  No appointment necessary.
URL:https://cpcedison.org/event/food-pantry-5/2021-08-24/
LOCATION:Community Presbyterian Church\, 75 Glenville Rd.\, Edison\, NJ\, 08817 \, United States
CATEGORIES:food pantry
ATTACH;FMTTYPE=image/jpeg:https://cpcedison.org/wp-content/uploads/2017/02/foodpantry3.jpg
END:VEVENT
BEGIN:VEVENT
DTSTART;TZID=America/New_York:20210819T090000
DTEND;TZID=America/New_York:20210819T110000
DTSTAMP:20260421T202045
CREATED:20200615T203852Z
LAST-MODIFIED:20220722T143535Z
UID:10000183-1629363600-1629370800@cpcedison.org
SUMMARY:Food Pantry
DESCRIPTION:  \nFOOD PANTRY\nFood Pantry is open Tuesdays and Thursdays\, 9:00am – 11:00am for Edison Residents.  No appointment necessary.
URL:https://cpcedison.org/event/food-pantry-5/2021-08-19/
LOCATION:Community Presbyterian Church\, 75 Glenville Rd.\, Edison\, NJ\, 08817 \, United States
CATEGORIES:food pantry
ATTACH;FMTTYPE=image/jpeg:https://cpcedison.org/wp-content/uploads/2017/02/foodpantry3.jpg
END:VEVENT
END:VCALENDAR