BEGIN:VCALENDAR
VERSION:2.0
PRODID:-//Community Presbyterian Church - Edison NJ - ECPv6.15.20//NONSGML v1.0//EN
CALSCALE:GREGORIAN
METHOD:PUBLISH
X-ORIGINAL-URL:https://cpcedison.org
X-WR-CALDESC:Events for Community Presbyterian Church - Edison NJ
REFRESH-INTERVAL;VALUE=DURATION:PT1H
X-Robots-Tag:noindex
X-PUBLISHED-TTL:PT1H
BEGIN:VTIMEZONE
TZID:America/New_York
BEGIN:DAYLIGHT
TZOFFSETFROM:-0500
TZOFFSETTO:-0400
TZNAME:EDT
DTSTART:20200308T070000
END:DAYLIGHT
BEGIN:STANDARD
TZOFFSETFROM:-0400
TZOFFSETTO:-0500
TZNAME:EST
DTSTART:20201101T060000
END:STANDARD
BEGIN:DAYLIGHT
TZOFFSETFROM:-0500
TZOFFSETTO:-0400
TZNAME:EDT
DTSTART:20210314T070000
END:DAYLIGHT
BEGIN:STANDARD
TZOFFSETFROM:-0400
TZOFFSETTO:-0500
TZNAME:EST
DTSTART:20211107T060000
END:STANDARD
BEGIN:DAYLIGHT
TZOFFSETFROM:-0500
TZOFFSETTO:-0400
TZNAME:EDT
DTSTART:20220313T070000
END:DAYLIGHT
BEGIN:STANDARD
TZOFFSETFROM:-0400
TZOFFSETTO:-0500
TZNAME:EST
DTSTART:20221106T060000
END:STANDARD
END:VTIMEZONE
BEGIN:VEVENT
DTSTART;TZID=America/New_York:20210817T090000
DTEND;TZID=America/New_York:20210817T110000
DTSTAMP:20260422T020951
CREATED:20200615T203852Z
LAST-MODIFIED:20220722T143535Z
UID:10000182-1629190800-1629198000@cpcedison.org
SUMMARY:Food Pantry
DESCRIPTION:  \nFOOD PANTRY\nFood Pantry is open Tuesdays and Thursdays\, 9:00am – 11:00am for Edison Residents.  No appointment necessary.
URL:https://cpcedison.org/event/food-pantry-5/2021-08-17/
LOCATION:Community Presbyterian Church\, 75 Glenville Rd.\, Edison\, NJ\, 08817 \, United States
CATEGORIES:food pantry
ATTACH;FMTTYPE=image/jpeg:https://cpcedison.org/wp-content/uploads/2017/02/foodpantry3.jpg
END:VEVENT
BEGIN:VEVENT
DTSTART;TZID=America/New_York:20210812T090000
DTEND;TZID=America/New_York:20210812T110000
DTSTAMP:20260422T020951
CREATED:20200615T203852Z
LAST-MODIFIED:20220722T143535Z
UID:10000181-1628758800-1628766000@cpcedison.org
SUMMARY:Food Pantry
DESCRIPTION:  \nFOOD PANTRY\nFood Pantry is open Tuesdays and Thursdays\, 9:00am – 11:00am for Edison Residents.  No appointment necessary.
URL:https://cpcedison.org/event/food-pantry-5/2021-08-12/
LOCATION:Community Presbyterian Church\, 75 Glenville Rd.\, Edison\, NJ\, 08817 \, United States
CATEGORIES:food pantry
ATTACH;FMTTYPE=image/jpeg:https://cpcedison.org/wp-content/uploads/2017/02/foodpantry3.jpg
END:VEVENT
BEGIN:VEVENT
DTSTART;TZID=America/New_York:20210810T090000
DTEND;TZID=America/New_York:20210810T110000
DTSTAMP:20260422T020951
CREATED:20200615T203852Z
LAST-MODIFIED:20220722T143535Z
UID:10000180-1628586000-1628593200@cpcedison.org
SUMMARY:Food Pantry
DESCRIPTION:  \nFOOD PANTRY\nFood Pantry is open Tuesdays and Thursdays\, 9:00am – 11:00am for Edison Residents.  No appointment necessary.
URL:https://cpcedison.org/event/food-pantry-5/2021-08-10/
LOCATION:Community Presbyterian Church\, 75 Glenville Rd.\, Edison\, NJ\, 08817 \, United States
CATEGORIES:food pantry
ATTACH;FMTTYPE=image/jpeg:https://cpcedison.org/wp-content/uploads/2017/02/foodpantry3.jpg
END:VEVENT
BEGIN:VEVENT
DTSTART;TZID=America/New_York:20210805T090000
DTEND;TZID=America/New_York:20210805T110000
DTSTAMP:20260422T020951
CREATED:20200615T203852Z
LAST-MODIFIED:20220722T143535Z
UID:10000179-1628154000-1628161200@cpcedison.org
SUMMARY:Food Pantry
DESCRIPTION:  \nFOOD PANTRY\nFood Pantry is open Tuesdays and Thursdays\, 9:00am – 11:00am for Edison Residents.  No appointment necessary.
URL:https://cpcedison.org/event/food-pantry-5/2021-08-05/
LOCATION:Community Presbyterian Church\, 75 Glenville Rd.\, Edison\, NJ\, 08817 \, United States
CATEGORIES:food pantry
ATTACH;FMTTYPE=image/jpeg:https://cpcedison.org/wp-content/uploads/2017/02/foodpantry3.jpg
END:VEVENT
BEGIN:VEVENT
DTSTART;TZID=America/New_York:20210803T090000
DTEND;TZID=America/New_York:20210803T110000
DTSTAMP:20260422T020951
CREATED:20200615T203852Z
LAST-MODIFIED:20220722T143535Z
UID:10000178-1627981200-1627988400@cpcedison.org
SUMMARY:Food Pantry
DESCRIPTION:  \nFOOD PANTRY\nFood Pantry is open Tuesdays and Thursdays\, 9:00am – 11:00am for Edison Residents.  No appointment necessary.
URL:https://cpcedison.org/event/food-pantry-5/2021-08-03/
LOCATION:Community Presbyterian Church\, 75 Glenville Rd.\, Edison\, NJ\, 08817 \, United States
CATEGORIES:food pantry
ATTACH;FMTTYPE=image/jpeg:https://cpcedison.org/wp-content/uploads/2017/02/foodpantry3.jpg
END:VEVENT
BEGIN:VEVENT
DTSTART;TZID=America/New_York:20210729T090000
DTEND;TZID=America/New_York:20210729T110000
DTSTAMP:20260422T020951
CREATED:20200615T203852Z
LAST-MODIFIED:20220722T143535Z
UID:10000177-1627549200-1627556400@cpcedison.org
SUMMARY:Food Pantry
DESCRIPTION:  \nFOOD PANTRY\nFood Pantry is open Tuesdays and Thursdays\, 9:00am – 11:00am for Edison Residents.  No appointment necessary.
URL:https://cpcedison.org/event/food-pantry-5/2021-07-29/
LOCATION:Community Presbyterian Church\, 75 Glenville Rd.\, Edison\, NJ\, 08817 \, United States
CATEGORIES:food pantry
ATTACH;FMTTYPE=image/jpeg:https://cpcedison.org/wp-content/uploads/2017/02/foodpantry3.jpg
END:VEVENT
BEGIN:VEVENT
DTSTART;TZID=America/New_York:20210727T090000
DTEND;TZID=America/New_York:20210727T110000
DTSTAMP:20260422T020951
CREATED:20200615T203852Z
LAST-MODIFIED:20220722T143535Z
UID:10000176-1627376400-1627383600@cpcedison.org
SUMMARY:Food Pantry
DESCRIPTION:  \nFOOD PANTRY\nFood Pantry is open Tuesdays and Thursdays\, 9:00am – 11:00am for Edison Residents.  No appointment necessary.
URL:https://cpcedison.org/event/food-pantry-5/2021-07-27/
LOCATION:Community Presbyterian Church\, 75 Glenville Rd.\, Edison\, NJ\, 08817 \, United States
CATEGORIES:food pantry
ATTACH;FMTTYPE=image/jpeg:https://cpcedison.org/wp-content/uploads/2017/02/foodpantry3.jpg
END:VEVENT
BEGIN:VEVENT
DTSTART;TZID=America/New_York:20210722T090000
DTEND;TZID=America/New_York:20210722T110000
DTSTAMP:20260422T020951
CREATED:20200615T203852Z
LAST-MODIFIED:20220722T143535Z
UID:10000175-1626944400-1626951600@cpcedison.org
SUMMARY:Food Pantry
DESCRIPTION:  \nFOOD PANTRY\nFood Pantry is open Tuesdays and Thursdays\, 9:00am – 11:00am for Edison Residents.  No appointment necessary.
URL:https://cpcedison.org/event/food-pantry-5/2021-07-22/
LOCATION:Community Presbyterian Church\, 75 Glenville Rd.\, Edison\, NJ\, 08817 \, United States
CATEGORIES:food pantry
ATTACH;FMTTYPE=image/jpeg:https://cpcedison.org/wp-content/uploads/2017/02/foodpantry3.jpg
END:VEVENT
BEGIN:VEVENT
DTSTART;TZID=America/New_York:20210720T090000
DTEND;TZID=America/New_York:20210720T110000
DTSTAMP:20260422T020951
CREATED:20200615T203852Z
LAST-MODIFIED:20220722T143535Z
UID:10000174-1626771600-1626778800@cpcedison.org
SUMMARY:Food Pantry
DESCRIPTION:  \nFOOD PANTRY\nFood Pantry is open Tuesdays and Thursdays\, 9:00am – 11:00am for Edison Residents.  No appointment necessary.
URL:https://cpcedison.org/event/food-pantry-5/2021-07-20/
LOCATION:Community Presbyterian Church\, 75 Glenville Rd.\, Edison\, NJ\, 08817 \, United States
CATEGORIES:food pantry
ATTACH;FMTTYPE=image/jpeg:https://cpcedison.org/wp-content/uploads/2017/02/foodpantry3.jpg
END:VEVENT
BEGIN:VEVENT
DTSTART;TZID=America/New_York:20210715T090000
DTEND;TZID=America/New_York:20210715T110000
DTSTAMP:20260422T020951
CREATED:20200615T203852Z
LAST-MODIFIED:20220722T143535Z
UID:10000173-1626339600-1626346800@cpcedison.org
SUMMARY:Food Pantry
DESCRIPTION:  \nFOOD PANTRY\nFood Pantry is open Tuesdays and Thursdays\, 9:00am – 11:00am for Edison Residents.  No appointment necessary.
URL:https://cpcedison.org/event/food-pantry-5/2021-07-15/
LOCATION:Community Presbyterian Church\, 75 Glenville Rd.\, Edison\, NJ\, 08817 \, United States
CATEGORIES:food pantry
ATTACH;FMTTYPE=image/jpeg:https://cpcedison.org/wp-content/uploads/2017/02/foodpantry3.jpg
END:VEVENT
BEGIN:VEVENT
DTSTART;TZID=America/New_York:20210713T090000
DTEND;TZID=America/New_York:20210713T110000
DTSTAMP:20260422T020951
CREATED:20200615T203852Z
LAST-MODIFIED:20220722T143535Z
UID:10000172-1626166800-1626174000@cpcedison.org
SUMMARY:Food Pantry
DESCRIPTION:  \nFOOD PANTRY\nFood Pantry is open Tuesdays and Thursdays\, 9:00am – 11:00am for Edison Residents.  No appointment necessary.
URL:https://cpcedison.org/event/food-pantry-5/2021-07-13/
LOCATION:Community Presbyterian Church\, 75 Glenville Rd.\, Edison\, NJ\, 08817 \, United States
CATEGORIES:food pantry
ATTACH;FMTTYPE=image/jpeg:https://cpcedison.org/wp-content/uploads/2017/02/foodpantry3.jpg
END:VEVENT
BEGIN:VEVENT
DTSTART;TZID=America/New_York:20210708T090000
DTEND;TZID=America/New_York:20210708T110000
DTSTAMP:20260422T020951
CREATED:20200615T203852Z
LAST-MODIFIED:20220722T143535Z
UID:10000171-1625734800-1625742000@cpcedison.org
SUMMARY:Food Pantry
DESCRIPTION:  \nFOOD PANTRY\nFood Pantry is open Tuesdays and Thursdays\, 9:00am – 11:00am for Edison Residents.  No appointment necessary.
URL:https://cpcedison.org/event/food-pantry-5/2021-07-08/
LOCATION:Community Presbyterian Church\, 75 Glenville Rd.\, Edison\, NJ\, 08817 \, United States
CATEGORIES:food pantry
ATTACH;FMTTYPE=image/jpeg:https://cpcedison.org/wp-content/uploads/2017/02/foodpantry3.jpg
END:VEVENT
BEGIN:VEVENT
DTSTART;TZID=America/New_York:20210706T090000
DTEND;TZID=America/New_York:20210706T110000
DTSTAMP:20260422T020951
CREATED:20200615T203852Z
LAST-MODIFIED:20220722T143535Z
UID:10000170-1625562000-1625569200@cpcedison.org
SUMMARY:Food Pantry
DESCRIPTION:  \nFOOD PANTRY\nFood Pantry is open Tuesdays and Thursdays\, 9:00am – 11:00am for Edison Residents.  No appointment necessary.
URL:https://cpcedison.org/event/food-pantry-5/2021-07-06/
LOCATION:Community Presbyterian Church\, 75 Glenville Rd.\, Edison\, NJ\, 08817 \, United States
CATEGORIES:food pantry
ATTACH;FMTTYPE=image/jpeg:https://cpcedison.org/wp-content/uploads/2017/02/foodpantry3.jpg
END:VEVENT
BEGIN:VEVENT
DTSTART;TZID=America/New_York:20210701T090000
DTEND;TZID=America/New_York:20210701T110000
DTSTAMP:20260422T020951
CREATED:20200615T203852Z
LAST-MODIFIED:20220722T143535Z
UID:10000169-1625130000-1625137200@cpcedison.org
SUMMARY:Food Pantry
DESCRIPTION:  \nFOOD PANTRY\nFood Pantry is open Tuesdays and Thursdays\, 9:00am – 11:00am for Edison Residents.  No appointment necessary.
URL:https://cpcedison.org/event/food-pantry-5/2021-07-01/
LOCATION:Community Presbyterian Church\, 75 Glenville Rd.\, Edison\, NJ\, 08817 \, United States
CATEGORIES:food pantry
ATTACH;FMTTYPE=image/jpeg:https://cpcedison.org/wp-content/uploads/2017/02/foodpantry3.jpg
END:VEVENT
BEGIN:VEVENT
DTSTART;TZID=America/New_York:20210629T090000
DTEND;TZID=America/New_York:20210629T110000
DTSTAMP:20260422T020951
CREATED:20200615T203852Z
LAST-MODIFIED:20220722T143535Z
UID:10000168-1624957200-1624964400@cpcedison.org
SUMMARY:Food Pantry
DESCRIPTION:  \nFOOD PANTRY\nFood Pantry is open Tuesdays and Thursdays\, 9:00am – 11:00am for Edison Residents.  No appointment necessary.
URL:https://cpcedison.org/event/food-pantry-5/2021-06-29/
LOCATION:Community Presbyterian Church\, 75 Glenville Rd.\, Edison\, NJ\, 08817 \, United States
CATEGORIES:food pantry
ATTACH;FMTTYPE=image/jpeg:https://cpcedison.org/wp-content/uploads/2017/02/foodpantry3.jpg
END:VEVENT
BEGIN:VEVENT
DTSTART;TZID=America/New_York:20210624T090000
DTEND;TZID=America/New_York:20210624T110000
DTSTAMP:20260422T020951
CREATED:20200615T203852Z
LAST-MODIFIED:20220722T143535Z
UID:10000167-1624525200-1624532400@cpcedison.org
SUMMARY:Food Pantry
DESCRIPTION:  \nFOOD PANTRY\nFood Pantry is open Tuesdays and Thursdays\, 9:00am – 11:00am for Edison Residents.  No appointment necessary.
URL:https://cpcedison.org/event/food-pantry-5/2021-06-24/
LOCATION:Community Presbyterian Church\, 75 Glenville Rd.\, Edison\, NJ\, 08817 \, United States
CATEGORIES:food pantry
ATTACH;FMTTYPE=image/jpeg:https://cpcedison.org/wp-content/uploads/2017/02/foodpantry3.jpg
END:VEVENT
BEGIN:VEVENT
DTSTART;TZID=America/New_York:20210622T090000
DTEND;TZID=America/New_York:20210622T110000
DTSTAMP:20260422T020951
CREATED:20200615T203852Z
LAST-MODIFIED:20220722T143535Z
UID:10000166-1624352400-1624359600@cpcedison.org
SUMMARY:Food Pantry
DESCRIPTION:  \nFOOD PANTRY\nFood Pantry is open Tuesdays and Thursdays\, 9:00am – 11:00am for Edison Residents.  No appointment necessary.
URL:https://cpcedison.org/event/food-pantry-5/2021-06-22/
LOCATION:Community Presbyterian Church\, 75 Glenville Rd.\, Edison\, NJ\, 08817 \, United States
CATEGORIES:food pantry
ATTACH;FMTTYPE=image/jpeg:https://cpcedison.org/wp-content/uploads/2017/02/foodpantry3.jpg
END:VEVENT
BEGIN:VEVENT
DTSTART;TZID=America/New_York:20210617T090000
DTEND;TZID=America/New_York:20210617T110000
DTSTAMP:20260422T020951
CREATED:20200615T203852Z
LAST-MODIFIED:20220722T143535Z
UID:10000165-1623920400-1623927600@cpcedison.org
SUMMARY:Food Pantry
DESCRIPTION:  \nFOOD PANTRY\nFood Pantry is open Tuesdays and Thursdays\, 9:00am – 11:00am for Edison Residents.  No appointment necessary.
URL:https://cpcedison.org/event/food-pantry-5/2021-06-17/
LOCATION:Community Presbyterian Church\, 75 Glenville Rd.\, Edison\, NJ\, 08817 \, United States
CATEGORIES:food pantry
ATTACH;FMTTYPE=image/jpeg:https://cpcedison.org/wp-content/uploads/2017/02/foodpantry3.jpg
END:VEVENT
BEGIN:VEVENT
DTSTART;TZID=America/New_York:20210615T090000
DTEND;TZID=America/New_York:20210615T110000
DTSTAMP:20260422T020951
CREATED:20200615T203852Z
LAST-MODIFIED:20220722T143535Z
UID:10000164-1623747600-1623754800@cpcedison.org
SUMMARY:Food Pantry
DESCRIPTION:  \nFOOD PANTRY\nFood Pantry is open Tuesdays and Thursdays\, 9:00am – 11:00am for Edison Residents.  No appointment necessary.
URL:https://cpcedison.org/event/food-pantry-5/2021-06-15/
LOCATION:Community Presbyterian Church\, 75 Glenville Rd.\, Edison\, NJ\, 08817 \, United States
CATEGORIES:food pantry
ATTACH;FMTTYPE=image/jpeg:https://cpcedison.org/wp-content/uploads/2017/02/foodpantry3.jpg
END:VEVENT
BEGIN:VEVENT
DTSTART;TZID=America/New_York:20210610T090000
DTEND;TZID=America/New_York:20210610T110000
DTSTAMP:20260422T020951
CREATED:20200615T203852Z
LAST-MODIFIED:20220722T143535Z
UID:10000163-1623315600-1623322800@cpcedison.org
SUMMARY:Food Pantry
DESCRIPTION:  \nFOOD PANTRY\nFood Pantry is open Tuesdays and Thursdays\, 9:00am – 11:00am for Edison Residents.  No appointment necessary.
URL:https://cpcedison.org/event/food-pantry-5/2021-06-10/
LOCATION:Community Presbyterian Church\, 75 Glenville Rd.\, Edison\, NJ\, 08817 \, United States
CATEGORIES:food pantry
ATTACH;FMTTYPE=image/jpeg:https://cpcedison.org/wp-content/uploads/2017/02/foodpantry3.jpg
END:VEVENT
BEGIN:VEVENT
DTSTART;TZID=America/New_York:20210608T090000
DTEND;TZID=America/New_York:20210608T110000
DTSTAMP:20260422T020951
CREATED:20200615T203852Z
LAST-MODIFIED:20220722T143535Z
UID:10000162-1623142800-1623150000@cpcedison.org
SUMMARY:Food Pantry
DESCRIPTION:  \nFOOD PANTRY\nFood Pantry is open Tuesdays and Thursdays\, 9:00am – 11:00am for Edison Residents.  No appointment necessary.
URL:https://cpcedison.org/event/food-pantry-5/2021-06-08/
LOCATION:Community Presbyterian Church\, 75 Glenville Rd.\, Edison\, NJ\, 08817 \, United States
CATEGORIES:food pantry
ATTACH;FMTTYPE=image/jpeg:https://cpcedison.org/wp-content/uploads/2017/02/foodpantry3.jpg
END:VEVENT
BEGIN:VEVENT
DTSTART;TZID=America/New_York:20210603T090000
DTEND;TZID=America/New_York:20210603T110000
DTSTAMP:20260422T020951
CREATED:20200615T203852Z
LAST-MODIFIED:20220722T143535Z
UID:10000161-1622710800-1622718000@cpcedison.org
SUMMARY:Food Pantry
DESCRIPTION:  \nFOOD PANTRY\nFood Pantry is open Tuesdays and Thursdays\, 9:00am – 11:00am for Edison Residents.  No appointment necessary.
URL:https://cpcedison.org/event/food-pantry-5/2021-06-03/
LOCATION:Community Presbyterian Church\, 75 Glenville Rd.\, Edison\, NJ\, 08817 \, United States
CATEGORIES:food pantry
ATTACH;FMTTYPE=image/jpeg:https://cpcedison.org/wp-content/uploads/2017/02/foodpantry3.jpg
END:VEVENT
BEGIN:VEVENT
DTSTART;TZID=America/New_York:20210601T090000
DTEND;TZID=America/New_York:20210601T110000
DTSTAMP:20260422T020951
CREATED:20200615T203852Z
LAST-MODIFIED:20220722T143535Z
UID:10000160-1622538000-1622545200@cpcedison.org
SUMMARY:Food Pantry
DESCRIPTION:  \nFOOD PANTRY\nFood Pantry is open Tuesdays and Thursdays\, 9:00am – 11:00am for Edison Residents.  No appointment necessary.
URL:https://cpcedison.org/event/food-pantry-5/2021-06-01/
LOCATION:Community Presbyterian Church\, 75 Glenville Rd.\, Edison\, NJ\, 08817 \, United States
CATEGORIES:food pantry
ATTACH;FMTTYPE=image/jpeg:https://cpcedison.org/wp-content/uploads/2017/02/foodpantry3.jpg
END:VEVENT
BEGIN:VEVENT
DTSTART;TZID=America/New_York:20210527T090000
DTEND;TZID=America/New_York:20210527T110000
DTSTAMP:20260422T020951
CREATED:20200615T203852Z
LAST-MODIFIED:20220722T143535Z
UID:10000159-1622106000-1622113200@cpcedison.org
SUMMARY:Food Pantry
DESCRIPTION:  \nFOOD PANTRY\nFood Pantry is open Tuesdays and Thursdays\, 9:00am – 11:00am for Edison Residents.  No appointment necessary.
URL:https://cpcedison.org/event/food-pantry-5/2021-05-27/
LOCATION:Community Presbyterian Church\, 75 Glenville Rd.\, Edison\, NJ\, 08817 \, United States
CATEGORIES:food pantry
ATTACH;FMTTYPE=image/jpeg:https://cpcedison.org/wp-content/uploads/2017/02/foodpantry3.jpg
END:VEVENT
BEGIN:VEVENT
DTSTART;TZID=America/New_York:20210525T090000
DTEND;TZID=America/New_York:20210525T110000
DTSTAMP:20260422T020951
CREATED:20200615T203852Z
LAST-MODIFIED:20220722T143535Z
UID:10000158-1621933200-1621940400@cpcedison.org
SUMMARY:Food Pantry
DESCRIPTION:  \nFOOD PANTRY\nFood Pantry is open Tuesdays and Thursdays\, 9:00am – 11:00am for Edison Residents.  No appointment necessary.
URL:https://cpcedison.org/event/food-pantry-5/2021-05-25/
LOCATION:Community Presbyterian Church\, 75 Glenville Rd.\, Edison\, NJ\, 08817 \, United States
CATEGORIES:food pantry
ATTACH;FMTTYPE=image/jpeg:https://cpcedison.org/wp-content/uploads/2017/02/foodpantry3.jpg
END:VEVENT
BEGIN:VEVENT
DTSTART;TZID=America/New_York:20210520T090000
DTEND;TZID=America/New_York:20210520T110000
DTSTAMP:20260422T020951
CREATED:20200615T203852Z
LAST-MODIFIED:20220722T143535Z
UID:10000157-1621501200-1621508400@cpcedison.org
SUMMARY:Food Pantry
DESCRIPTION:  \nFOOD PANTRY\nFood Pantry is open Tuesdays and Thursdays\, 9:00am – 11:00am for Edison Residents.  No appointment necessary.
URL:https://cpcedison.org/event/food-pantry-5/2021-05-20/
LOCATION:Community Presbyterian Church\, 75 Glenville Rd.\, Edison\, NJ\, 08817 \, United States
CATEGORIES:food pantry
ATTACH;FMTTYPE=image/jpeg:https://cpcedison.org/wp-content/uploads/2017/02/foodpantry3.jpg
END:VEVENT
BEGIN:VEVENT
DTSTART;TZID=America/New_York:20210518T090000
DTEND;TZID=America/New_York:20210518T110000
DTSTAMP:20260422T020951
CREATED:20200615T203852Z
LAST-MODIFIED:20220722T143535Z
UID:10000156-1621328400-1621335600@cpcedison.org
SUMMARY:Food Pantry
DESCRIPTION:  \nFOOD PANTRY\nFood Pantry is open Tuesdays and Thursdays\, 9:00am – 11:00am for Edison Residents.  No appointment necessary.
URL:https://cpcedison.org/event/food-pantry-5/2021-05-18/
LOCATION:Community Presbyterian Church\, 75 Glenville Rd.\, Edison\, NJ\, 08817 \, United States
CATEGORIES:food pantry
ATTACH;FMTTYPE=image/jpeg:https://cpcedison.org/wp-content/uploads/2017/02/foodpantry3.jpg
END:VEVENT
BEGIN:VEVENT
DTSTART;TZID=America/New_York:20210513T090000
DTEND;TZID=America/New_York:20210513T110000
DTSTAMP:20260422T020951
CREATED:20200615T203852Z
LAST-MODIFIED:20220722T143535Z
UID:10000155-1620896400-1620903600@cpcedison.org
SUMMARY:Food Pantry
DESCRIPTION:  \nFOOD PANTRY\nFood Pantry is open Tuesdays and Thursdays\, 9:00am – 11:00am for Edison Residents.  No appointment necessary.
URL:https://cpcedison.org/event/food-pantry-5/2021-05-13/
LOCATION:Community Presbyterian Church\, 75 Glenville Rd.\, Edison\, NJ\, 08817 \, United States
CATEGORIES:food pantry
ATTACH;FMTTYPE=image/jpeg:https://cpcedison.org/wp-content/uploads/2017/02/foodpantry3.jpg
END:VEVENT
BEGIN:VEVENT
DTSTART;TZID=America/New_York:20210511T090000
DTEND;TZID=America/New_York:20210511T110000
DTSTAMP:20260422T020951
CREATED:20200615T203852Z
LAST-MODIFIED:20220722T143535Z
UID:10000154-1620723600-1620730800@cpcedison.org
SUMMARY:Food Pantry
DESCRIPTION:  \nFOOD PANTRY\nFood Pantry is open Tuesdays and Thursdays\, 9:00am – 11:00am for Edison Residents.  No appointment necessary.
URL:https://cpcedison.org/event/food-pantry-5/2021-05-11/
LOCATION:Community Presbyterian Church\, 75 Glenville Rd.\, Edison\, NJ\, 08817 \, United States
CATEGORIES:food pantry
ATTACH;FMTTYPE=image/jpeg:https://cpcedison.org/wp-content/uploads/2017/02/foodpantry3.jpg
END:VEVENT
BEGIN:VEVENT
DTSTART;TZID=America/New_York:20210506T090000
DTEND;TZID=America/New_York:20210506T110000
DTSTAMP:20260422T020951
CREATED:20200615T203852Z
LAST-MODIFIED:20220722T143535Z
UID:10000153-1620291600-1620298800@cpcedison.org
SUMMARY:Food Pantry
DESCRIPTION:  \nFOOD PANTRY\nFood Pantry is open Tuesdays and Thursdays\, 9:00am – 11:00am for Edison Residents.  No appointment necessary.
URL:https://cpcedison.org/event/food-pantry-5/2021-05-06/
LOCATION:Community Presbyterian Church\, 75 Glenville Rd.\, Edison\, NJ\, 08817 \, United States
CATEGORIES:food pantry
ATTACH;FMTTYPE=image/jpeg:https://cpcedison.org/wp-content/uploads/2017/02/foodpantry3.jpg
END:VEVENT
END:VCALENDAR