BEGIN:VCALENDAR
VERSION:2.0
PRODID:-//Community Presbyterian Church - Edison NJ - ECPv6.15.20//NONSGML v1.0//EN
CALSCALE:GREGORIAN
METHOD:PUBLISH
X-ORIGINAL-URL:https://cpcedison.org
X-WR-CALDESC:Events for Community Presbyterian Church - Edison NJ
REFRESH-INTERVAL;VALUE=DURATION:PT1H
X-Robots-Tag:noindex
X-PUBLISHED-TTL:PT1H
BEGIN:VTIMEZONE
TZID:America/New_York
BEGIN:DAYLIGHT
TZOFFSETFROM:-0500
TZOFFSETTO:-0400
TZNAME:EDT
DTSTART:20290311T070000
END:DAYLIGHT
BEGIN:STANDARD
TZOFFSETFROM:-0400
TZOFFSETTO:-0500
TZNAME:EST
DTSTART:20291104T060000
END:STANDARD
BEGIN:DAYLIGHT
TZOFFSETFROM:-0500
TZOFFSETTO:-0400
TZNAME:EDT
DTSTART:20300310T070000
END:DAYLIGHT
BEGIN:STANDARD
TZOFFSETFROM:-0400
TZOFFSETTO:-0500
TZNAME:EST
DTSTART:20301103T060000
END:STANDARD
BEGIN:DAYLIGHT
TZOFFSETFROM:-0500
TZOFFSETTO:-0400
TZNAME:EDT
DTSTART:20310309T070000
END:DAYLIGHT
BEGIN:STANDARD
TZOFFSETFROM:-0400
TZOFFSETTO:-0500
TZNAME:EST
DTSTART:20311102T060000
END:STANDARD
END:VTIMEZONE
BEGIN:VEVENT
DTSTART;TZID=America/New_York:20300815T090000
DTEND;TZID=America/New_York:20300815T110000
DTSTAMP:20260422T012139
CREATED:20260223T214228Z
LAST-MODIFIED:20260223T214338Z
UID:10022195-1913014800-1913022000@cpcedison.org
SUMMARY:Food Pantry
DESCRIPTION:
URL:https://cpcedison.org/event/food-pantry-5-2-2/2030-08-15/
LOCATION:Community Presbyterian Church\, 75 Glenville Rd.\, Edison\, NJ\, 08817 \, United States
CATEGORIES:food pantry
ATTACH;FMTTYPE=image/jpeg:https://cpcedison.org/wp-content/uploads/2017/02/foodpantry3.jpg
END:VEVENT
BEGIN:VEVENT
DTSTART;TZID=America/New_York:20300820T090000
DTEND;TZID=America/New_York:20300820T110000
DTSTAMP:20260422T012139
CREATED:20260223T214228Z
LAST-MODIFIED:20260223T214338Z
UID:10021522-1913446800-1913454000@cpcedison.org
SUMMARY:Food Pantry
DESCRIPTION:
URL:https://cpcedison.org/event/food-pantry-5-2-2/2030-08-20/
LOCATION:Community Presbyterian Church\, 75 Glenville Rd.\, Edison\, NJ\, 08817 \, United States
CATEGORIES:food pantry
ATTACH;FMTTYPE=image/jpeg:https://cpcedison.org/wp-content/uploads/2017/02/foodpantry3.jpg
END:VEVENT
BEGIN:VEVENT
DTSTART;TZID=America/New_York:20300822T090000
DTEND;TZID=America/New_York:20300822T110000
DTSTAMP:20260422T012139
CREATED:20260223T214228Z
LAST-MODIFIED:20260223T214338Z
UID:10022196-1913619600-1913626800@cpcedison.org
SUMMARY:Food Pantry
DESCRIPTION:
URL:https://cpcedison.org/event/food-pantry-5-2-2/2030-08-22/
LOCATION:Community Presbyterian Church\, 75 Glenville Rd.\, Edison\, NJ\, 08817 \, United States
CATEGORIES:food pantry
ATTACH;FMTTYPE=image/jpeg:https://cpcedison.org/wp-content/uploads/2017/02/foodpantry3.jpg
END:VEVENT
BEGIN:VEVENT
DTSTART;TZID=America/New_York:20300827T090000
DTEND;TZID=America/New_York:20300827T110000
DTSTAMP:20260422T012139
CREATED:20260223T214228Z
LAST-MODIFIED:20260223T214338Z
UID:10021523-1914051600-1914058800@cpcedison.org
SUMMARY:Food Pantry
DESCRIPTION:
URL:https://cpcedison.org/event/food-pantry-5-2-2/2030-08-27/
LOCATION:Community Presbyterian Church\, 75 Glenville Rd.\, Edison\, NJ\, 08817 \, United States
CATEGORIES:food pantry
ATTACH;FMTTYPE=image/jpeg:https://cpcedison.org/wp-content/uploads/2017/02/foodpantry3.jpg
END:VEVENT
BEGIN:VEVENT
DTSTART;TZID=America/New_York:20300829T090000
DTEND;TZID=America/New_York:20300829T110000
DTSTAMP:20260422T012139
CREATED:20260223T214228Z
LAST-MODIFIED:20260223T214338Z
UID:10022197-1914224400-1914231600@cpcedison.org
SUMMARY:Food Pantry
DESCRIPTION:
URL:https://cpcedison.org/event/food-pantry-5-2-2/2030-08-29/
LOCATION:Community Presbyterian Church\, 75 Glenville Rd.\, Edison\, NJ\, 08817 \, United States
CATEGORIES:food pantry
ATTACH;FMTTYPE=image/jpeg:https://cpcedison.org/wp-content/uploads/2017/02/foodpantry3.jpg
END:VEVENT
BEGIN:VEVENT
DTSTART;TZID=America/New_York:20300903T090000
DTEND;TZID=America/New_York:20300903T110000
DTSTAMP:20260422T012139
CREATED:20260223T214228Z
LAST-MODIFIED:20260223T214338Z
UID:10021524-1914656400-1914663600@cpcedison.org
SUMMARY:Food Pantry
DESCRIPTION:
URL:https://cpcedison.org/event/food-pantry-5-2-2/2030-09-03/
LOCATION:Community Presbyterian Church\, 75 Glenville Rd.\, Edison\, NJ\, 08817 \, United States
CATEGORIES:food pantry
ATTACH;FMTTYPE=image/jpeg:https://cpcedison.org/wp-content/uploads/2017/02/foodpantry3.jpg
END:VEVENT
BEGIN:VEVENT
DTSTART;TZID=America/New_York:20300905T090000
DTEND;TZID=America/New_York:20300905T110000
DTSTAMP:20260422T012139
CREATED:20260223T214228Z
LAST-MODIFIED:20260223T214338Z
UID:10022198-1914829200-1914836400@cpcedison.org
SUMMARY:Food Pantry
DESCRIPTION:
URL:https://cpcedison.org/event/food-pantry-5-2-2/2030-09-05/
LOCATION:Community Presbyterian Church\, 75 Glenville Rd.\, Edison\, NJ\, 08817 \, United States
CATEGORIES:food pantry
ATTACH;FMTTYPE=image/jpeg:https://cpcedison.org/wp-content/uploads/2017/02/foodpantry3.jpg
END:VEVENT
BEGIN:VEVENT
DTSTART;TZID=America/New_York:20300910T090000
DTEND;TZID=America/New_York:20300910T110000
DTSTAMP:20260422T012139
CREATED:20260223T214228Z
LAST-MODIFIED:20260223T214338Z
UID:10021525-1915261200-1915268400@cpcedison.org
SUMMARY:Food Pantry
DESCRIPTION:
URL:https://cpcedison.org/event/food-pantry-5-2-2/2030-09-10/
LOCATION:Community Presbyterian Church\, 75 Glenville Rd.\, Edison\, NJ\, 08817 \, United States
CATEGORIES:food pantry
ATTACH;FMTTYPE=image/jpeg:https://cpcedison.org/wp-content/uploads/2017/02/foodpantry3.jpg
END:VEVENT
BEGIN:VEVENT
DTSTART;TZID=America/New_York:20300912T090000
DTEND;TZID=America/New_York:20300912T110000
DTSTAMP:20260422T012139
CREATED:20260223T214228Z
LAST-MODIFIED:20260223T214338Z
UID:10022199-1915434000-1915441200@cpcedison.org
SUMMARY:Food Pantry
DESCRIPTION:
URL:https://cpcedison.org/event/food-pantry-5-2-2/2030-09-12/
LOCATION:Community Presbyterian Church\, 75 Glenville Rd.\, Edison\, NJ\, 08817 \, United States
CATEGORIES:food pantry
ATTACH;FMTTYPE=image/jpeg:https://cpcedison.org/wp-content/uploads/2017/02/foodpantry3.jpg
END:VEVENT
BEGIN:VEVENT
DTSTART;TZID=America/New_York:20300917T090000
DTEND;TZID=America/New_York:20300917T110000
DTSTAMP:20260422T012139
CREATED:20260223T214228Z
LAST-MODIFIED:20260223T214338Z
UID:10021526-1915866000-1915873200@cpcedison.org
SUMMARY:Food Pantry
DESCRIPTION:
URL:https://cpcedison.org/event/food-pantry-5-2-2/2030-09-17/
LOCATION:Community Presbyterian Church\, 75 Glenville Rd.\, Edison\, NJ\, 08817 \, United States
CATEGORIES:food pantry
ATTACH;FMTTYPE=image/jpeg:https://cpcedison.org/wp-content/uploads/2017/02/foodpantry3.jpg
END:VEVENT
BEGIN:VEVENT
DTSTART;TZID=America/New_York:20300919T090000
DTEND;TZID=America/New_York:20300919T110000
DTSTAMP:20260422T012139
CREATED:20260223T214228Z
LAST-MODIFIED:20260223T214338Z
UID:10022200-1916038800-1916046000@cpcedison.org
SUMMARY:Food Pantry
DESCRIPTION:
URL:https://cpcedison.org/event/food-pantry-5-2-2/2030-09-19/
LOCATION:Community Presbyterian Church\, 75 Glenville Rd.\, Edison\, NJ\, 08817 \, United States
CATEGORIES:food pantry
ATTACH;FMTTYPE=image/jpeg:https://cpcedison.org/wp-content/uploads/2017/02/foodpantry3.jpg
END:VEVENT
BEGIN:VEVENT
DTSTART;TZID=America/New_York:20300924T090000
DTEND;TZID=America/New_York:20300924T110000
DTSTAMP:20260422T012139
CREATED:20260223T214228Z
LAST-MODIFIED:20260223T214338Z
UID:10021527-1916470800-1916478000@cpcedison.org
SUMMARY:Food Pantry
DESCRIPTION:
URL:https://cpcedison.org/event/food-pantry-5-2-2/2030-09-24/
LOCATION:Community Presbyterian Church\, 75 Glenville Rd.\, Edison\, NJ\, 08817 \, United States
CATEGORIES:food pantry
ATTACH;FMTTYPE=image/jpeg:https://cpcedison.org/wp-content/uploads/2017/02/foodpantry3.jpg
END:VEVENT
BEGIN:VEVENT
DTSTART;TZID=America/New_York:20300926T090000
DTEND;TZID=America/New_York:20300926T110000
DTSTAMP:20260422T012139
CREATED:20260223T214228Z
LAST-MODIFIED:20260223T214338Z
UID:10022201-1916643600-1916650800@cpcedison.org
SUMMARY:Food Pantry
DESCRIPTION:
URL:https://cpcedison.org/event/food-pantry-5-2-2/2030-09-26/
LOCATION:Community Presbyterian Church\, 75 Glenville Rd.\, Edison\, NJ\, 08817 \, United States
CATEGORIES:food pantry
ATTACH;FMTTYPE=image/jpeg:https://cpcedison.org/wp-content/uploads/2017/02/foodpantry3.jpg
END:VEVENT
BEGIN:VEVENT
DTSTART;TZID=America/New_York:20301001T090000
DTEND;TZID=America/New_York:20301001T110000
DTSTAMP:20260422T012139
CREATED:20260223T214228Z
LAST-MODIFIED:20260223T214338Z
UID:10021528-1917075600-1917082800@cpcedison.org
SUMMARY:Food Pantry
DESCRIPTION:
URL:https://cpcedison.org/event/food-pantry-5-2-2/2030-10-01/
LOCATION:Community Presbyterian Church\, 75 Glenville Rd.\, Edison\, NJ\, 08817 \, United States
CATEGORIES:food pantry
ATTACH;FMTTYPE=image/jpeg:https://cpcedison.org/wp-content/uploads/2017/02/foodpantry3.jpg
END:VEVENT
BEGIN:VEVENT
DTSTART;TZID=America/New_York:20301003T090000
DTEND;TZID=America/New_York:20301003T110000
DTSTAMP:20260422T012139
CREATED:20260223T214228Z
LAST-MODIFIED:20260223T214338Z
UID:10022202-1917248400-1917255600@cpcedison.org
SUMMARY:Food Pantry
DESCRIPTION:
URL:https://cpcedison.org/event/food-pantry-5-2-2/2030-10-03/
LOCATION:Community Presbyterian Church\, 75 Glenville Rd.\, Edison\, NJ\, 08817 \, United States
CATEGORIES:food pantry
ATTACH;FMTTYPE=image/jpeg:https://cpcedison.org/wp-content/uploads/2017/02/foodpantry3.jpg
END:VEVENT
BEGIN:VEVENT
DTSTART;TZID=America/New_York:20301008T090000
DTEND;TZID=America/New_York:20301008T110000
DTSTAMP:20260422T012139
CREATED:20260223T214228Z
LAST-MODIFIED:20260223T214338Z
UID:10021529-1917680400-1917687600@cpcedison.org
SUMMARY:Food Pantry
DESCRIPTION:
URL:https://cpcedison.org/event/food-pantry-5-2-2/2030-10-08/
LOCATION:Community Presbyterian Church\, 75 Glenville Rd.\, Edison\, NJ\, 08817 \, United States
CATEGORIES:food pantry
ATTACH;FMTTYPE=image/jpeg:https://cpcedison.org/wp-content/uploads/2017/02/foodpantry3.jpg
END:VEVENT
BEGIN:VEVENT
DTSTART;TZID=America/New_York:20301010T090000
DTEND;TZID=America/New_York:20301010T110000
DTSTAMP:20260422T012139
CREATED:20260223T214228Z
LAST-MODIFIED:20260223T214338Z
UID:10022203-1917853200-1917860400@cpcedison.org
SUMMARY:Food Pantry
DESCRIPTION:
URL:https://cpcedison.org/event/food-pantry-5-2-2/2030-10-10/
LOCATION:Community Presbyterian Church\, 75 Glenville Rd.\, Edison\, NJ\, 08817 \, United States
CATEGORIES:food pantry
ATTACH;FMTTYPE=image/jpeg:https://cpcedison.org/wp-content/uploads/2017/02/foodpantry3.jpg
END:VEVENT
BEGIN:VEVENT
DTSTART;TZID=America/New_York:20301015T090000
DTEND;TZID=America/New_York:20301015T110000
DTSTAMP:20260422T012139
CREATED:20260223T214228Z
LAST-MODIFIED:20260223T214338Z
UID:10021530-1918285200-1918292400@cpcedison.org
SUMMARY:Food Pantry
DESCRIPTION:
URL:https://cpcedison.org/event/food-pantry-5-2-2/2030-10-15/
LOCATION:Community Presbyterian Church\, 75 Glenville Rd.\, Edison\, NJ\, 08817 \, United States
CATEGORIES:food pantry
ATTACH;FMTTYPE=image/jpeg:https://cpcedison.org/wp-content/uploads/2017/02/foodpantry3.jpg
END:VEVENT
BEGIN:VEVENT
DTSTART;TZID=America/New_York:20301017T090000
DTEND;TZID=America/New_York:20301017T110000
DTSTAMP:20260422T012139
CREATED:20260223T214228Z
LAST-MODIFIED:20260223T214338Z
UID:10022204-1918458000-1918465200@cpcedison.org
SUMMARY:Food Pantry
DESCRIPTION:
URL:https://cpcedison.org/event/food-pantry-5-2-2/2030-10-17/
LOCATION:Community Presbyterian Church\, 75 Glenville Rd.\, Edison\, NJ\, 08817 \, United States
CATEGORIES:food pantry
ATTACH;FMTTYPE=image/jpeg:https://cpcedison.org/wp-content/uploads/2017/02/foodpantry3.jpg
END:VEVENT
BEGIN:VEVENT
DTSTART;TZID=America/New_York:20301022T090000
DTEND;TZID=America/New_York:20301022T110000
DTSTAMP:20260422T012139
CREATED:20260223T214228Z
LAST-MODIFIED:20260223T214338Z
UID:10021531-1918890000-1918897200@cpcedison.org
SUMMARY:Food Pantry
DESCRIPTION:
URL:https://cpcedison.org/event/food-pantry-5-2-2/2030-10-22/
LOCATION:Community Presbyterian Church\, 75 Glenville Rd.\, Edison\, NJ\, 08817 \, United States
CATEGORIES:food pantry
ATTACH;FMTTYPE=image/jpeg:https://cpcedison.org/wp-content/uploads/2017/02/foodpantry3.jpg
END:VEVENT
BEGIN:VEVENT
DTSTART;TZID=America/New_York:20301024T090000
DTEND;TZID=America/New_York:20301024T110000
DTSTAMP:20260422T012139
CREATED:20260223T214228Z
LAST-MODIFIED:20260223T214338Z
UID:10022205-1919062800-1919070000@cpcedison.org
SUMMARY:Food Pantry
DESCRIPTION:
URL:https://cpcedison.org/event/food-pantry-5-2-2/2030-10-24/
LOCATION:Community Presbyterian Church\, 75 Glenville Rd.\, Edison\, NJ\, 08817 \, United States
CATEGORIES:food pantry
ATTACH;FMTTYPE=image/jpeg:https://cpcedison.org/wp-content/uploads/2017/02/foodpantry3.jpg
END:VEVENT
BEGIN:VEVENT
DTSTART;TZID=America/New_York:20301029T090000
DTEND;TZID=America/New_York:20301029T110000
DTSTAMP:20260422T012139
CREATED:20260223T214228Z
LAST-MODIFIED:20260223T214338Z
UID:10021532-1919494800-1919502000@cpcedison.org
SUMMARY:Food Pantry
DESCRIPTION:
URL:https://cpcedison.org/event/food-pantry-5-2-2/2030-10-29/
LOCATION:Community Presbyterian Church\, 75 Glenville Rd.\, Edison\, NJ\, 08817 \, United States
CATEGORIES:food pantry
ATTACH;FMTTYPE=image/jpeg:https://cpcedison.org/wp-content/uploads/2017/02/foodpantry3.jpg
END:VEVENT
BEGIN:VEVENT
DTSTART;TZID=America/New_York:20301031T090000
DTEND;TZID=America/New_York:20301031T110000
DTSTAMP:20260422T012139
CREATED:20260223T214228Z
LAST-MODIFIED:20260223T214338Z
UID:10022206-1919667600-1919674800@cpcedison.org
SUMMARY:Food Pantry
DESCRIPTION:
URL:https://cpcedison.org/event/food-pantry-5-2-2/2030-10-31/
LOCATION:Community Presbyterian Church\, 75 Glenville Rd.\, Edison\, NJ\, 08817 \, United States
CATEGORIES:food pantry
ATTACH;FMTTYPE=image/jpeg:https://cpcedison.org/wp-content/uploads/2017/02/foodpantry3.jpg
END:VEVENT
BEGIN:VEVENT
DTSTART;TZID=America/New_York:20301105T090000
DTEND;TZID=America/New_York:20301105T110000
DTSTAMP:20260422T012139
CREATED:20260223T214228Z
LAST-MODIFIED:20260223T214338Z
UID:10021533-1920099600-1920106800@cpcedison.org
SUMMARY:Food Pantry
DESCRIPTION:
URL:https://cpcedison.org/event/food-pantry-5-2-2/2030-11-05/
LOCATION:Community Presbyterian Church\, 75 Glenville Rd.\, Edison\, NJ\, 08817 \, United States
CATEGORIES:food pantry
ATTACH;FMTTYPE=image/jpeg:https://cpcedison.org/wp-content/uploads/2017/02/foodpantry3.jpg
END:VEVENT
BEGIN:VEVENT
DTSTART;TZID=America/New_York:20301107T090000
DTEND;TZID=America/New_York:20301107T110000
DTSTAMP:20260422T012139
CREATED:20260223T214228Z
LAST-MODIFIED:20260223T214338Z
UID:10022207-1920272400-1920279600@cpcedison.org
SUMMARY:Food Pantry
DESCRIPTION:
URL:https://cpcedison.org/event/food-pantry-5-2-2/2030-11-07/
LOCATION:Community Presbyterian Church\, 75 Glenville Rd.\, Edison\, NJ\, 08817 \, United States
CATEGORIES:food pantry
ATTACH;FMTTYPE=image/jpeg:https://cpcedison.org/wp-content/uploads/2017/02/foodpantry3.jpg
END:VEVENT
BEGIN:VEVENT
DTSTART;TZID=America/New_York:20301112T090000
DTEND;TZID=America/New_York:20301112T110000
DTSTAMP:20260422T012139
CREATED:20260223T214228Z
LAST-MODIFIED:20260223T214338Z
UID:10021534-1920704400-1920711600@cpcedison.org
SUMMARY:Food Pantry
DESCRIPTION:
URL:https://cpcedison.org/event/food-pantry-5-2-2/2030-11-12/
LOCATION:Community Presbyterian Church\, 75 Glenville Rd.\, Edison\, NJ\, 08817 \, United States
CATEGORIES:food pantry
ATTACH;FMTTYPE=image/jpeg:https://cpcedison.org/wp-content/uploads/2017/02/foodpantry3.jpg
END:VEVENT
BEGIN:VEVENT
DTSTART;TZID=America/New_York:20301114T090000
DTEND;TZID=America/New_York:20301114T110000
DTSTAMP:20260422T012139
CREATED:20260223T214228Z
LAST-MODIFIED:20260223T214338Z
UID:10022208-1920877200-1920884400@cpcedison.org
SUMMARY:Food Pantry
DESCRIPTION:
URL:https://cpcedison.org/event/food-pantry-5-2-2/2030-11-14/
LOCATION:Community Presbyterian Church\, 75 Glenville Rd.\, Edison\, NJ\, 08817 \, United States
CATEGORIES:food pantry
ATTACH;FMTTYPE=image/jpeg:https://cpcedison.org/wp-content/uploads/2017/02/foodpantry3.jpg
END:VEVENT
BEGIN:VEVENT
DTSTART;TZID=America/New_York:20301119T090000
DTEND;TZID=America/New_York:20301119T110000
DTSTAMP:20260422T012139
CREATED:20260223T214228Z
LAST-MODIFIED:20260223T214338Z
UID:10021535-1921309200-1921316400@cpcedison.org
SUMMARY:Food Pantry
DESCRIPTION:
URL:https://cpcedison.org/event/food-pantry-5-2-2/2030-11-19/
LOCATION:Community Presbyterian Church\, 75 Glenville Rd.\, Edison\, NJ\, 08817 \, United States
CATEGORIES:food pantry
ATTACH;FMTTYPE=image/jpeg:https://cpcedison.org/wp-content/uploads/2017/02/foodpantry3.jpg
END:VEVENT
BEGIN:VEVENT
DTSTART;TZID=America/New_York:20301121T090000
DTEND;TZID=America/New_York:20301121T110000
DTSTAMP:20260422T012139
CREATED:20260223T214228Z
LAST-MODIFIED:20260223T214338Z
UID:10022209-1921482000-1921489200@cpcedison.org
SUMMARY:Food Pantry
DESCRIPTION:
URL:https://cpcedison.org/event/food-pantry-5-2-2/2030-11-21/
LOCATION:Community Presbyterian Church\, 75 Glenville Rd.\, Edison\, NJ\, 08817 \, United States
CATEGORIES:food pantry
ATTACH;FMTTYPE=image/jpeg:https://cpcedison.org/wp-content/uploads/2017/02/foodpantry3.jpg
END:VEVENT
BEGIN:VEVENT
DTSTART;TZID=America/New_York:20301126T090000
DTEND;TZID=America/New_York:20301126T110000
DTSTAMP:20260422T012139
CREATED:20260223T214228Z
LAST-MODIFIED:20260223T214338Z
UID:10021536-1921914000-1921921200@cpcedison.org
SUMMARY:Food Pantry
DESCRIPTION:
URL:https://cpcedison.org/event/food-pantry-5-2-2/2030-11-26/
LOCATION:Community Presbyterian Church\, 75 Glenville Rd.\, Edison\, NJ\, 08817 \, United States
CATEGORIES:food pantry
ATTACH;FMTTYPE=image/jpeg:https://cpcedison.org/wp-content/uploads/2017/02/foodpantry3.jpg
END:VEVENT
END:VCALENDAR