BEGIN:VCALENDAR
VERSION:2.0
PRODID:-//Community Presbyterian Church - Edison NJ - ECPv6.15.20//NONSGML v1.0//EN
CALSCALE:GREGORIAN
METHOD:PUBLISH
X-WR-CALNAME:Community Presbyterian Church - Edison NJ
X-ORIGINAL-URL:https://cpcedison.org
X-WR-CALDESC:Events for Community Presbyterian Church - Edison NJ
REFRESH-INTERVAL;VALUE=DURATION:PT1H
X-Robots-Tag:noindex
X-PUBLISHED-TTL:PT1H
BEGIN:VTIMEZONE
TZID:America/New_York
BEGIN:DAYLIGHT
TZOFFSETFROM:-0500
TZOFFSETTO:-0400
TZNAME:EDT
DTSTART:20200308T070000
END:DAYLIGHT
BEGIN:STANDARD
TZOFFSETFROM:-0400
TZOFFSETTO:-0500
TZNAME:EST
DTSTART:20201101T060000
END:STANDARD
BEGIN:DAYLIGHT
TZOFFSETFROM:-0500
TZOFFSETTO:-0400
TZNAME:EDT
DTSTART:20210314T070000
END:DAYLIGHT
BEGIN:STANDARD
TZOFFSETFROM:-0400
TZOFFSETTO:-0500
TZNAME:EST
DTSTART:20211107T060000
END:STANDARD
BEGIN:DAYLIGHT
TZOFFSETFROM:-0500
TZOFFSETTO:-0400
TZNAME:EDT
DTSTART:20220313T070000
END:DAYLIGHT
BEGIN:STANDARD
TZOFFSETFROM:-0400
TZOFFSETTO:-0500
TZNAME:EST
DTSTART:20221106T060000
END:STANDARD
END:VTIMEZONE
BEGIN:VEVENT
DTSTART;TZID=America/New_York:20210401T090000
DTEND;TZID=America/New_York:20210401T110000
DTSTAMP:20260424T075344
CREATED:20200615T203852Z
LAST-MODIFIED:20220722T143535Z
UID:10000143-1617267600-1617274800@cpcedison.org
SUMMARY:Food Pantry
DESCRIPTION:  \nFOOD PANTRY\nFood Pantry is open Tuesdays and Thursdays\, 9:00am – 11:00am for Edison Residents.  No appointment necessary.
URL:https://cpcedison.org/event/food-pantry-5/2021-04-01/
LOCATION:Community Presbyterian Church\, 75 Glenville Rd.\, Edison\, NJ\, 08817 \, United States
CATEGORIES:food pantry
ATTACH;FMTTYPE=image/jpeg:https://cpcedison.org/wp-content/uploads/2017/02/foodpantry3.jpg
END:VEVENT
BEGIN:VEVENT
DTSTART;TZID=America/New_York:20210330T090000
DTEND;TZID=America/New_York:20210330T110000
DTSTAMP:20260424T075344
CREATED:20200615T203852Z
LAST-MODIFIED:20220722T143535Z
UID:10000142-1617094800-1617102000@cpcedison.org
SUMMARY:Food Pantry
DESCRIPTION:  \nFOOD PANTRY\nFood Pantry is open Tuesdays and Thursdays\, 9:00am – 11:00am for Edison Residents.  No appointment necessary.
URL:https://cpcedison.org/event/food-pantry-5/2021-03-30/
LOCATION:Community Presbyterian Church\, 75 Glenville Rd.\, Edison\, NJ\, 08817 \, United States
CATEGORIES:food pantry
ATTACH;FMTTYPE=image/jpeg:https://cpcedison.org/wp-content/uploads/2017/02/foodpantry3.jpg
END:VEVENT
BEGIN:VEVENT
DTSTART;TZID=America/New_York:20210325T090000
DTEND;TZID=America/New_York:20210325T110000
DTSTAMP:20260424T075344
CREATED:20200615T203852Z
LAST-MODIFIED:20220722T143535Z
UID:10000141-1616662800-1616670000@cpcedison.org
SUMMARY:Food Pantry
DESCRIPTION:  \nFOOD PANTRY\nFood Pantry is open Tuesdays and Thursdays\, 9:00am – 11:00am for Edison Residents.  No appointment necessary.
URL:https://cpcedison.org/event/food-pantry-5/2021-03-25/
LOCATION:Community Presbyterian Church\, 75 Glenville Rd.\, Edison\, NJ\, 08817 \, United States
CATEGORIES:food pantry
ATTACH;FMTTYPE=image/jpeg:https://cpcedison.org/wp-content/uploads/2017/02/foodpantry3.jpg
END:VEVENT
BEGIN:VEVENT
DTSTART;TZID=America/New_York:20210323T090000
DTEND;TZID=America/New_York:20210323T110000
DTSTAMP:20260424T075344
CREATED:20200615T203852Z
LAST-MODIFIED:20220722T143535Z
UID:10000140-1616490000-1616497200@cpcedison.org
SUMMARY:Food Pantry
DESCRIPTION:  \nFOOD PANTRY\nFood Pantry is open Tuesdays and Thursdays\, 9:00am – 11:00am for Edison Residents.  No appointment necessary.
URL:https://cpcedison.org/event/food-pantry-5/2021-03-23/
LOCATION:Community Presbyterian Church\, 75 Glenville Rd.\, Edison\, NJ\, 08817 \, United States
CATEGORIES:food pantry
ATTACH;FMTTYPE=image/jpeg:https://cpcedison.org/wp-content/uploads/2017/02/foodpantry3.jpg
END:VEVENT
END:VCALENDAR