BEGIN:VCALENDAR
VERSION:2.0
PRODID:-//Community Presbyterian Church - Edison NJ - ECPv6.15.20//NONSGML v1.0//EN
CALSCALE:GREGORIAN
METHOD:PUBLISH
X-WR-CALNAME:Community Presbyterian Church - Edison NJ
X-ORIGINAL-URL:https://cpcedison.org
X-WR-CALDESC:Events for Community Presbyterian Church - Edison NJ
REFRESH-INTERVAL;VALUE=DURATION:PT1H
X-Robots-Tag:noindex
X-PUBLISHED-TTL:PT1H
BEGIN:VTIMEZONE
TZID:America/New_York
BEGIN:DAYLIGHT
TZOFFSETFROM:-0500
TZOFFSETTO:-0400
TZNAME:EDT
DTSTART:20250309T070000
END:DAYLIGHT
BEGIN:STANDARD
TZOFFSETFROM:-0400
TZOFFSETTO:-0500
TZNAME:EST
DTSTART:20251102T060000
END:STANDARD
BEGIN:DAYLIGHT
TZOFFSETFROM:-0500
TZOFFSETTO:-0400
TZNAME:EDT
DTSTART:20260308T070000
END:DAYLIGHT
BEGIN:STANDARD
TZOFFSETFROM:-0400
TZOFFSETTO:-0500
TZNAME:EST
DTSTART:20261101T060000
END:STANDARD
BEGIN:DAYLIGHT
TZOFFSETFROM:-0500
TZOFFSETTO:-0400
TZNAME:EDT
DTSTART:20270314T070000
END:DAYLIGHT
BEGIN:STANDARD
TZOFFSETFROM:-0400
TZOFFSETTO:-0500
TZNAME:EST
DTSTART:20271107T060000
END:STANDARD
END:VTIMEZONE
BEGIN:VEVENT
DTSTART;TZID=America/New_York:20260429T193000
DTEND;TZID=America/New_York:20260429T203000
DTSTAMP:20260423T145907
CREATED:20240228T144158Z
LAST-MODIFIED:20251203T022752Z
UID:10010840-1777491000-1777494600@cpcedison.org
SUMMARY:Young Adult Group
DESCRIPTION:
URL:https://cpcedison.org/event/young-adult-group/2026-04-29/
CATEGORIES:Bible Study
ATTACH;FMTTYPE=image/jpeg:https://cpcedison.org/wp-content/uploads/2017/02/bible-study-cal.jpg
END:VEVENT
BEGIN:VEVENT
DTSTART;TZID=America/New_York:20260506T193000
DTEND;TZID=America/New_York:20260506T203000
DTSTAMP:20260423T145907
CREATED:20240228T144158Z
LAST-MODIFIED:20251203T022752Z
UID:10010841-1778095800-1778099400@cpcedison.org
SUMMARY:Young Adult Group
DESCRIPTION:
URL:https://cpcedison.org/event/young-adult-group/2026-05-06/
CATEGORIES:Bible Study
ATTACH;FMTTYPE=image/jpeg:https://cpcedison.org/wp-content/uploads/2017/02/bible-study-cal.jpg
END:VEVENT
BEGIN:VEVENT
DTSTART;TZID=America/New_York:20260513T193000
DTEND;TZID=America/New_York:20260513T203000
DTSTAMP:20260423T145907
CREATED:20240228T144158Z
LAST-MODIFIED:20251203T022752Z
UID:10010842-1778700600-1778704200@cpcedison.org
SUMMARY:Young Adult Group
DESCRIPTION:
URL:https://cpcedison.org/event/young-adult-group/2026-05-13/
CATEGORIES:Bible Study
ATTACH;FMTTYPE=image/jpeg:https://cpcedison.org/wp-content/uploads/2017/02/bible-study-cal.jpg
END:VEVENT
BEGIN:VEVENT
DTSTART;TZID=America/New_York:20260520T193000
DTEND;TZID=America/New_York:20260520T203000
DTSTAMP:20260423T145907
CREATED:20240228T144158Z
LAST-MODIFIED:20251203T022752Z
UID:10010843-1779305400-1779309000@cpcedison.org
SUMMARY:Young Adult Group
DESCRIPTION:
URL:https://cpcedison.org/event/young-adult-group/2026-05-20/
CATEGORIES:Bible Study
ATTACH;FMTTYPE=image/jpeg:https://cpcedison.org/wp-content/uploads/2017/02/bible-study-cal.jpg
END:VEVENT
BEGIN:VEVENT
DTSTART;TZID=America/New_York:20260527T193000
DTEND;TZID=America/New_York:20260527T203000
DTSTAMP:20260423T145907
CREATED:20240228T144158Z
LAST-MODIFIED:20251203T022752Z
UID:10010844-1779910200-1779913800@cpcedison.org
SUMMARY:Young Adult Group
DESCRIPTION:
URL:https://cpcedison.org/event/young-adult-group/2026-05-27/
CATEGORIES:Bible Study
ATTACH;FMTTYPE=image/jpeg:https://cpcedison.org/wp-content/uploads/2017/02/bible-study-cal.jpg
END:VEVENT
BEGIN:VEVENT
DTSTART;TZID=America/New_York:20260603T193000
DTEND;TZID=America/New_York:20260603T203000
DTSTAMP:20260423T145907
CREATED:20240228T144158Z
LAST-MODIFIED:20251203T022752Z
UID:10010845-1780515000-1780518600@cpcedison.org
SUMMARY:Young Adult Group
DESCRIPTION:
URL:https://cpcedison.org/event/young-adult-group/2026-06-03/
CATEGORIES:Bible Study
ATTACH;FMTTYPE=image/jpeg:https://cpcedison.org/wp-content/uploads/2017/02/bible-study-cal.jpg
END:VEVENT
BEGIN:VEVENT
DTSTART;TZID=America/New_York:20260610T193000
DTEND;TZID=America/New_York:20260610T203000
DTSTAMP:20260423T145907
CREATED:20240228T144158Z
LAST-MODIFIED:20251203T022752Z
UID:10010846-1781119800-1781123400@cpcedison.org
SUMMARY:Young Adult Group
DESCRIPTION:
URL:https://cpcedison.org/event/young-adult-group/2026-06-10/
CATEGORIES:Bible Study
ATTACH;FMTTYPE=image/jpeg:https://cpcedison.org/wp-content/uploads/2017/02/bible-study-cal.jpg
END:VEVENT
BEGIN:VEVENT
DTSTART;TZID=America/New_York:20260617T193000
DTEND;TZID=America/New_York:20260617T203000
DTSTAMP:20260423T145907
CREATED:20240228T144158Z
LAST-MODIFIED:20251203T022752Z
UID:10010847-1781724600-1781728200@cpcedison.org
SUMMARY:Young Adult Group
DESCRIPTION:
URL:https://cpcedison.org/event/young-adult-group/2026-06-17/
CATEGORIES:Bible Study
ATTACH;FMTTYPE=image/jpeg:https://cpcedison.org/wp-content/uploads/2017/02/bible-study-cal.jpg
END:VEVENT
BEGIN:VEVENT
DTSTART;TZID=America/New_York:20260624T193000
DTEND;TZID=America/New_York:20260624T203000
DTSTAMP:20260423T145907
CREATED:20240228T144158Z
LAST-MODIFIED:20251203T022752Z
UID:10010848-1782329400-1782333000@cpcedison.org
SUMMARY:Young Adult Group
DESCRIPTION:
URL:https://cpcedison.org/event/young-adult-group/2026-06-24/
CATEGORIES:Bible Study
ATTACH;FMTTYPE=image/jpeg:https://cpcedison.org/wp-content/uploads/2017/02/bible-study-cal.jpg
END:VEVENT
BEGIN:VEVENT
DTSTART;TZID=America/New_York:20260701T193000
DTEND;TZID=America/New_York:20260701T203000
DTSTAMP:20260423T145907
CREATED:20240228T144158Z
LAST-MODIFIED:20251203T022752Z
UID:10010849-1782934200-1782937800@cpcedison.org
SUMMARY:Young Adult Group
DESCRIPTION:
URL:https://cpcedison.org/event/young-adult-group/2026-07-01/
CATEGORIES:Bible Study
ATTACH;FMTTYPE=image/jpeg:https://cpcedison.org/wp-content/uploads/2017/02/bible-study-cal.jpg
END:VEVENT
BEGIN:VEVENT
DTSTART;TZID=America/New_York:20260708T193000
DTEND;TZID=America/New_York:20260708T203000
DTSTAMP:20260423T145907
CREATED:20240228T144158Z
LAST-MODIFIED:20251203T022752Z
UID:10010850-1783539000-1783542600@cpcedison.org
SUMMARY:Young Adult Group
DESCRIPTION:
URL:https://cpcedison.org/event/young-adult-group/2026-07-08/
CATEGORIES:Bible Study
ATTACH;FMTTYPE=image/jpeg:https://cpcedison.org/wp-content/uploads/2017/02/bible-study-cal.jpg
END:VEVENT
BEGIN:VEVENT
DTSTART;TZID=America/New_York:20260715T193000
DTEND;TZID=America/New_York:20260715T203000
DTSTAMP:20260423T145907
CREATED:20240228T144158Z
LAST-MODIFIED:20251203T022752Z
UID:10010851-1784143800-1784147400@cpcedison.org
SUMMARY:Young Adult Group
DESCRIPTION:
URL:https://cpcedison.org/event/young-adult-group/2026-07-15/
CATEGORIES:Bible Study
ATTACH;FMTTYPE=image/jpeg:https://cpcedison.org/wp-content/uploads/2017/02/bible-study-cal.jpg
END:VEVENT
BEGIN:VEVENT
DTSTART;TZID=America/New_York:20260722T193000
DTEND;TZID=America/New_York:20260722T203000
DTSTAMP:20260423T145907
CREATED:20240228T144158Z
LAST-MODIFIED:20251203T022752Z
UID:10010852-1784748600-1784752200@cpcedison.org
SUMMARY:Young Adult Group
DESCRIPTION:
URL:https://cpcedison.org/event/young-adult-group/2026-07-22/
CATEGORIES:Bible Study
ATTACH;FMTTYPE=image/jpeg:https://cpcedison.org/wp-content/uploads/2017/02/bible-study-cal.jpg
END:VEVENT
BEGIN:VEVENT
DTSTART;TZID=America/New_York:20260729T193000
DTEND;TZID=America/New_York:20260729T203000
DTSTAMP:20260423T145907
CREATED:20240228T144158Z
LAST-MODIFIED:20251203T022752Z
UID:10010853-1785353400-1785357000@cpcedison.org
SUMMARY:Young Adult Group
DESCRIPTION:
URL:https://cpcedison.org/event/young-adult-group/2026-07-29/
CATEGORIES:Bible Study
ATTACH;FMTTYPE=image/jpeg:https://cpcedison.org/wp-content/uploads/2017/02/bible-study-cal.jpg
END:VEVENT
BEGIN:VEVENT
DTSTART;TZID=America/New_York:20260805T193000
DTEND;TZID=America/New_York:20260805T203000
DTSTAMP:20260423T145907
CREATED:20240228T144158Z
LAST-MODIFIED:20251203T022752Z
UID:10010854-1785958200-1785961800@cpcedison.org
SUMMARY:Young Adult Group
DESCRIPTION:
URL:https://cpcedison.org/event/young-adult-group/2026-08-05/
CATEGORIES:Bible Study
ATTACH;FMTTYPE=image/jpeg:https://cpcedison.org/wp-content/uploads/2017/02/bible-study-cal.jpg
END:VEVENT
BEGIN:VEVENT
DTSTART;TZID=America/New_York:20260812T193000
DTEND;TZID=America/New_York:20260812T203000
DTSTAMP:20260423T145907
CREATED:20240228T144158Z
LAST-MODIFIED:20251203T022752Z
UID:10010855-1786563000-1786566600@cpcedison.org
SUMMARY:Young Adult Group
DESCRIPTION:
URL:https://cpcedison.org/event/young-adult-group/2026-08-12/
CATEGORIES:Bible Study
ATTACH;FMTTYPE=image/jpeg:https://cpcedison.org/wp-content/uploads/2017/02/bible-study-cal.jpg
END:VEVENT
BEGIN:VEVENT
DTSTART;TZID=America/New_York:20260819T193000
DTEND;TZID=America/New_York:20260819T203000
DTSTAMP:20260423T145907
CREATED:20240228T144158Z
LAST-MODIFIED:20251203T022752Z
UID:10010856-1787167800-1787171400@cpcedison.org
SUMMARY:Young Adult Group
DESCRIPTION:
URL:https://cpcedison.org/event/young-adult-group/2026-08-19/
CATEGORIES:Bible Study
ATTACH;FMTTYPE=image/jpeg:https://cpcedison.org/wp-content/uploads/2017/02/bible-study-cal.jpg
END:VEVENT
BEGIN:VEVENT
DTSTART;TZID=America/New_York:20260826T193000
DTEND;TZID=America/New_York:20260826T203000
DTSTAMP:20260423T145907
CREATED:20240228T144158Z
LAST-MODIFIED:20251203T022752Z
UID:10010857-1787772600-1787776200@cpcedison.org
SUMMARY:Young Adult Group
DESCRIPTION:
URL:https://cpcedison.org/event/young-adult-group/2026-08-26/
CATEGORIES:Bible Study
ATTACH;FMTTYPE=image/jpeg:https://cpcedison.org/wp-content/uploads/2017/02/bible-study-cal.jpg
END:VEVENT
BEGIN:VEVENT
DTSTART;TZID=America/New_York:20260902T193000
DTEND;TZID=America/New_York:20260902T203000
DTSTAMP:20260423T145907
CREATED:20240228T144158Z
LAST-MODIFIED:20251203T022752Z
UID:10010858-1788377400-1788381000@cpcedison.org
SUMMARY:Young Adult Group
DESCRIPTION:
URL:https://cpcedison.org/event/young-adult-group/2026-09-02/
CATEGORIES:Bible Study
ATTACH;FMTTYPE=image/jpeg:https://cpcedison.org/wp-content/uploads/2017/02/bible-study-cal.jpg
END:VEVENT
BEGIN:VEVENT
DTSTART;TZID=America/New_York:20260909T193000
DTEND;TZID=America/New_York:20260909T203000
DTSTAMP:20260423T145907
CREATED:20240228T144158Z
LAST-MODIFIED:20251203T022752Z
UID:10010859-1788982200-1788985800@cpcedison.org
SUMMARY:Young Adult Group
DESCRIPTION:
URL:https://cpcedison.org/event/young-adult-group/2026-09-09/
CATEGORIES:Bible Study
ATTACH;FMTTYPE=image/jpeg:https://cpcedison.org/wp-content/uploads/2017/02/bible-study-cal.jpg
END:VEVENT
BEGIN:VEVENT
DTSTART;TZID=America/New_York:20260916T193000
DTEND;TZID=America/New_York:20260916T203000
DTSTAMP:20260423T145907
CREATED:20240228T144158Z
LAST-MODIFIED:20251203T022752Z
UID:10010860-1789587000-1789590600@cpcedison.org
SUMMARY:Young Adult Group
DESCRIPTION:
URL:https://cpcedison.org/event/young-adult-group/2026-09-16/
CATEGORIES:Bible Study
ATTACH;FMTTYPE=image/jpeg:https://cpcedison.org/wp-content/uploads/2017/02/bible-study-cal.jpg
END:VEVENT
BEGIN:VEVENT
DTSTART;TZID=America/New_York:20260923T193000
DTEND;TZID=America/New_York:20260923T203000
DTSTAMP:20260423T145907
CREATED:20240228T144158Z
LAST-MODIFIED:20251203T022752Z
UID:10010861-1790191800-1790195400@cpcedison.org
SUMMARY:Young Adult Group
DESCRIPTION:
URL:https://cpcedison.org/event/young-adult-group/2026-09-23/
CATEGORIES:Bible Study
ATTACH;FMTTYPE=image/jpeg:https://cpcedison.org/wp-content/uploads/2017/02/bible-study-cal.jpg
END:VEVENT
BEGIN:VEVENT
DTSTART;TZID=America/New_York:20260930T193000
DTEND;TZID=America/New_York:20260930T203000
DTSTAMP:20260423T145907
CREATED:20240228T144158Z
LAST-MODIFIED:20251203T022752Z
UID:10010862-1790796600-1790800200@cpcedison.org
SUMMARY:Young Adult Group
DESCRIPTION:
URL:https://cpcedison.org/event/young-adult-group/2026-09-30/
CATEGORIES:Bible Study
ATTACH;FMTTYPE=image/jpeg:https://cpcedison.org/wp-content/uploads/2017/02/bible-study-cal.jpg
END:VEVENT
BEGIN:VEVENT
DTSTART;TZID=America/New_York:20261007T193000
DTEND;TZID=America/New_York:20261007T203000
DTSTAMP:20260423T145907
CREATED:20240228T144158Z
LAST-MODIFIED:20251203T022752Z
UID:10010863-1791401400-1791405000@cpcedison.org
SUMMARY:Young Adult Group
DESCRIPTION:
URL:https://cpcedison.org/event/young-adult-group/2026-10-07/
CATEGORIES:Bible Study
ATTACH;FMTTYPE=image/jpeg:https://cpcedison.org/wp-content/uploads/2017/02/bible-study-cal.jpg
END:VEVENT
BEGIN:VEVENT
DTSTART;TZID=America/New_York:20261014T193000
DTEND;TZID=America/New_York:20261014T203000
DTSTAMP:20260423T145907
CREATED:20240228T144158Z
LAST-MODIFIED:20251203T022752Z
UID:10010864-1792006200-1792009800@cpcedison.org
SUMMARY:Young Adult Group
DESCRIPTION:
URL:https://cpcedison.org/event/young-adult-group/2026-10-14/
CATEGORIES:Bible Study
ATTACH;FMTTYPE=image/jpeg:https://cpcedison.org/wp-content/uploads/2017/02/bible-study-cal.jpg
END:VEVENT
BEGIN:VEVENT
DTSTART;TZID=America/New_York:20261021T193000
DTEND;TZID=America/New_York:20261021T203000
DTSTAMP:20260423T145907
CREATED:20240228T144158Z
LAST-MODIFIED:20251203T022752Z
UID:10010865-1792611000-1792614600@cpcedison.org
SUMMARY:Young Adult Group
DESCRIPTION:
URL:https://cpcedison.org/event/young-adult-group/2026-10-21/
CATEGORIES:Bible Study
ATTACH;FMTTYPE=image/jpeg:https://cpcedison.org/wp-content/uploads/2017/02/bible-study-cal.jpg
END:VEVENT
BEGIN:VEVENT
DTSTART;TZID=America/New_York:20261028T193000
DTEND;TZID=America/New_York:20261028T203000
DTSTAMP:20260423T145907
CREATED:20240228T144158Z
LAST-MODIFIED:20251203T022752Z
UID:10010866-1793215800-1793219400@cpcedison.org
SUMMARY:Young Adult Group
DESCRIPTION:
URL:https://cpcedison.org/event/young-adult-group/2026-10-28/
CATEGORIES:Bible Study
ATTACH;FMTTYPE=image/jpeg:https://cpcedison.org/wp-content/uploads/2017/02/bible-study-cal.jpg
END:VEVENT
BEGIN:VEVENT
DTSTART;TZID=America/New_York:20261104T193000
DTEND;TZID=America/New_York:20261104T203000
DTSTAMP:20260423T145907
CREATED:20240228T144158Z
LAST-MODIFIED:20251203T022752Z
UID:10010867-1793820600-1793824200@cpcedison.org
SUMMARY:Young Adult Group
DESCRIPTION:
URL:https://cpcedison.org/event/young-adult-group/2026-11-04/
CATEGORIES:Bible Study
ATTACH;FMTTYPE=image/jpeg:https://cpcedison.org/wp-content/uploads/2017/02/bible-study-cal.jpg
END:VEVENT
BEGIN:VEVENT
DTSTART;TZID=America/New_York:20261111T193000
DTEND;TZID=America/New_York:20261111T203000
DTSTAMP:20260423T145907
CREATED:20240228T144158Z
LAST-MODIFIED:20251203T022752Z
UID:10010868-1794425400-1794429000@cpcedison.org
SUMMARY:Young Adult Group
DESCRIPTION:
URL:https://cpcedison.org/event/young-adult-group/2026-11-11/
CATEGORIES:Bible Study
ATTACH;FMTTYPE=image/jpeg:https://cpcedison.org/wp-content/uploads/2017/02/bible-study-cal.jpg
END:VEVENT
BEGIN:VEVENT
DTSTART;TZID=America/New_York:20261118T193000
DTEND;TZID=America/New_York:20261118T203000
DTSTAMP:20260423T145907
CREATED:20240228T144158Z
LAST-MODIFIED:20251203T022752Z
UID:10010869-1795030200-1795033800@cpcedison.org
SUMMARY:Young Adult Group
DESCRIPTION:
URL:https://cpcedison.org/event/young-adult-group/2026-11-18/
CATEGORIES:Bible Study
ATTACH;FMTTYPE=image/jpeg:https://cpcedison.org/wp-content/uploads/2017/02/bible-study-cal.jpg
END:VEVENT
END:VCALENDAR